BEGIN:VCALENDAR
VERSION:2.0
PRODID:-//University Calendar - ECPv6.15.16//NONSGML v1.0//EN
CALSCALE:GREGORIAN
METHOD:PUBLISH
X-ORIGINAL-URL:https://calendar.augsburg.edu
X-WR-CALDESC:Events for University Calendar
REFRESH-INTERVAL;VALUE=DURATION:PT1H
X-Robots-Tag:noindex
X-PUBLISHED-TTL:PT1H
BEGIN:VTIMEZONE
TZID:America/Chicago
BEGIN:DAYLIGHT
TZOFFSETFROM:-0600
TZOFFSETTO:-0500
TZNAME:CDT
DTSTART:20200308T080000
END:DAYLIGHT
BEGIN:STANDARD
TZOFFSETFROM:-0500
TZOFFSETTO:-0600
TZNAME:CST
DTSTART:20201101T070000
END:STANDARD
BEGIN:DAYLIGHT
TZOFFSETFROM:-0600
TZOFFSETTO:-0500
TZNAME:CDT
DTSTART:20210314T080000
END:DAYLIGHT
BEGIN:STANDARD
TZOFFSETFROM:-0500
TZOFFSETTO:-0600
TZNAME:CST
DTSTART:20211107T070000
END:STANDARD
BEGIN:DAYLIGHT
TZOFFSETFROM:-0600
TZOFFSETTO:-0500
TZNAME:CDT
DTSTART:20220313T080000
END:DAYLIGHT
BEGIN:STANDARD
TZOFFSETFROM:-0500
TZOFFSETTO:-0600
TZNAME:CST
DTSTART:20221106T070000
END:STANDARD
BEGIN:DAYLIGHT
TZOFFSETFROM:-0600
TZOFFSETTO:-0500
TZNAME:CDT
DTSTART:20230312T080000
END:DAYLIGHT
BEGIN:STANDARD
TZOFFSETFROM:-0500
TZOFFSETTO:-0600
TZNAME:CST
DTSTART:20231105T070000
END:STANDARD
END:VTIMEZONE
BEGIN:VEVENT
DTSTART;TZID=America/Chicago:20221206T120000
DTEND;TZID=America/Chicago:20221206T130000
DTSTAMP:20260419T123916
CREATED:20221129T182855Z
LAST-MODIFIED:20221129T182855Z
UID:10015531-1670328000-1670331600@calendar.augsburg.edu
SUMMARY:Alternative Spring Break to Chicago Info Session
DESCRIPTION:Join LEAD Fellows and Sabo Center staffers LaToya Taris-James and Jenean Gilmer on an immersive learning experience in the City of Chicago to explore the history of housing marginalization\, place-making\, and their impacts on housing today. We will explore the rich histories of different communities in Chicago\, make parallels to the communities we come from\, and learn from organizers and artists. \nJoin us in the Riverside Room in Christensen Center to learn more about the trip. Please email gilmerje@augsburg.edu or tarisl@augsburg.edu with any questions.
URL:https://calendar.augsburg.edu/event/alternative-spring-break-to-chicago-info-session/2022-12-06/
LOCATION:Riverside Room\, second floor of Christensen Center
CATEGORIES:Sabo Center
ORGANIZER;CN="gilmerje@augsburg.edu":MAILTO:gilmerje@augsburg.edu
END:VEVENT
BEGIN:VEVENT
DTSTART;TZID=America/Chicago:20221205T163000
DTEND;TZID=America/Chicago:20221205T173000
DTSTAMP:20260419T123916
CREATED:20221129T182855Z
LAST-MODIFIED:20221129T182855Z
UID:10015530-1670257800-1670261400@calendar.augsburg.edu
SUMMARY:Alternative Spring Break to Chicago Info Session
DESCRIPTION:Join LEAD Fellows and Sabo Center staffers LaToya Taris-James and Jenean Gilmer on an immersive learning experience in the City of Chicago to explore the history of housing marginalization\, place-making\, and their impacts on housing today. We will explore the rich histories of different communities in Chicago\, make parallels to the communities we come from\, and learn from organizers and artists. \nJoin us in the Riverside Room in Christensen Center to learn more about the trip. Please email gilmerje@augsburg.edu or tarisl@augsburg.edu with any questions.
URL:https://calendar.augsburg.edu/event/alternative-spring-break-to-chicago-info-session/2022-12-05/2/
LOCATION:Riverside Room\, second floor of Christensen Center
CATEGORIES:Sabo Center
ORGANIZER;CN="gilmerje@augsburg.edu":MAILTO:gilmerje@augsburg.edu
END:VEVENT
BEGIN:VEVENT
DTSTART;TZID=America/Chicago:20221205T153000
DTEND;TZID=America/Chicago:20221205T163000
DTSTAMP:20260419T123916
CREATED:20221129T182855Z
LAST-MODIFIED:20221129T182855Z
UID:10015529-1670254200-1670257800@calendar.augsburg.edu
SUMMARY:Alternative Spring Break to Chicago Info Session
DESCRIPTION:Join LEAD Fellows and Sabo Center staffers LaToya Taris-James and Jenean Gilmer on an immersive learning experience in the City of Chicago to explore the history of housing marginalization\, place-making\, and their impacts on housing today. We will explore the rich histories of different communities in Chicago\, make parallels to the communities we come from\, and learn from organizers and artists. \nJoin us in the Riverside Room in Christensen Center to learn more about the trip. Please email gilmerje@augsburg.edu or tarisl@augsburg.edu with any questions.
URL:https://calendar.augsburg.edu/event/alternative-spring-break-to-chicago-info-session/2022-12-05/1/
LOCATION:Riverside Room\, second floor of Christensen Center
CATEGORIES:Sabo Center
ORGANIZER;CN="gilmerje@augsburg.edu":MAILTO:gilmerje@augsburg.edu
END:VEVENT
BEGIN:VEVENT
DTSTART;TZID=America/Chicago:20211029T180000
DTEND;TZID=America/Chicago:20211029T200000
DTSTAMP:20260419T123916
CREATED:20211029T072611Z
LAST-MODIFIED:20211029T072611Z
UID:10012158-1635530400-1635537600@calendar.augsburg.edu
SUMMARY:2022 Orientation Leader Panel
DESCRIPTION:Interested in becoming a 2022 Orientation Leader\, BUT have questions? Come join Campus Life and members of the 2020-2021 Orientation Team to learn more about the position\, make fun Halloween themed crafts and don’t forget to grab a box of candy after your visit! Hope to see you there! \nHosted by:\nAdditional Information can be found at: https://augsburg.campuslabs.com/engage/event/7562940
URL:https://calendar.augsburg.edu/event/2022-orientation-leader-panel/
LOCATION:Riverside Room\, second floor of Christensen Center
CATEGORIES:Campus Life,Social
END:VEVENT
END:VCALENDAR