BEGIN:VCALENDAR
VERSION:2.0
PRODID:-//University Calendar - ECPv6.15.16//NONSGML v1.0//EN
CALSCALE:GREGORIAN
METHOD:PUBLISH
X-WR-CALNAME:University Calendar
X-ORIGINAL-URL:https://calendar.augsburg.edu
X-WR-CALDESC:Events for University Calendar
REFRESH-INTERVAL;VALUE=DURATION:PT1H
X-Robots-Tag:noindex
X-PUBLISHED-TTL:PT1H
BEGIN:VTIMEZONE
TZID:America/Chicago
BEGIN:DAYLIGHT
TZOFFSETFROM:-0600
TZOFFSETTO:-0500
TZNAME:CDT
DTSTART:20180311T080000
END:DAYLIGHT
BEGIN:STANDARD
TZOFFSETFROM:-0500
TZOFFSETTO:-0600
TZNAME:CST
DTSTART:20181104T070000
END:STANDARD
BEGIN:DAYLIGHT
TZOFFSETFROM:-0600
TZOFFSETTO:-0500
TZNAME:CDT
DTSTART:20190310T080000
END:DAYLIGHT
BEGIN:STANDARD
TZOFFSETFROM:-0500
TZOFFSETTO:-0600
TZNAME:CST
DTSTART:20191103T070000
END:STANDARD
BEGIN:DAYLIGHT
TZOFFSETFROM:-0600
TZOFFSETTO:-0500
TZNAME:CDT
DTSTART:20200308T080000
END:DAYLIGHT
BEGIN:STANDARD
TZOFFSETFROM:-0500
TZOFFSETTO:-0600
TZNAME:CST
DTSTART:20201101T070000
END:STANDARD
BEGIN:DAYLIGHT
TZOFFSETFROM:-0600
TZOFFSETTO:-0500
TZNAME:CDT
DTSTART:20210314T080000
END:DAYLIGHT
BEGIN:STANDARD
TZOFFSETFROM:-0500
TZOFFSETTO:-0600
TZNAME:CST
DTSTART:20211107T070000
END:STANDARD
BEGIN:DAYLIGHT
TZOFFSETFROM:-0600
TZOFFSETTO:-0500
TZNAME:CDT
DTSTART:20220313T080000
END:DAYLIGHT
BEGIN:STANDARD
TZOFFSETFROM:-0500
TZOFFSETTO:-0600
TZNAME:CST
DTSTART:20221106T070000
END:STANDARD
BEGIN:DAYLIGHT
TZOFFSETFROM:-0600
TZOFFSETTO:-0500
TZNAME:CDT
DTSTART:20230312T080000
END:DAYLIGHT
BEGIN:STANDARD
TZOFFSETFROM:-0500
TZOFFSETTO:-0600
TZNAME:CST
DTSTART:20231105T070000
END:STANDARD
BEGIN:DAYLIGHT
TZOFFSETFROM:-0600
TZOFFSETTO:-0500
TZNAME:CDT
DTSTART:20240310T080000
END:DAYLIGHT
BEGIN:STANDARD
TZOFFSETFROM:-0500
TZOFFSETTO:-0600
TZNAME:CST
DTSTART:20241103T070000
END:STANDARD
BEGIN:DAYLIGHT
TZOFFSETFROM:-0600
TZOFFSETTO:-0500
TZNAME:CDT
DTSTART:20250309T080000
END:DAYLIGHT
BEGIN:STANDARD
TZOFFSETFROM:-0500
TZOFFSETTO:-0600
TZNAME:CST
DTSTART:20251102T070000
END:STANDARD
BEGIN:DAYLIGHT
TZOFFSETFROM:-0600
TZOFFSETTO:-0500
TZNAME:CDT
DTSTART:20260308T080000
END:DAYLIGHT
BEGIN:STANDARD
TZOFFSETFROM:-0500
TZOFFSETTO:-0600
TZNAME:CST
DTSTART:20261101T070000
END:STANDARD
END:VTIMEZONE
BEGIN:VEVENT
DTSTART;TZID=America/Chicago:20250311T083000
DTEND;TZID=America/Chicago:20250311T140000
DTSTAMP:20260425T075617
CREATED:20241212T184906Z
LAST-MODIFIED:20241212T184906Z
UID:10021024-1741681800-1741701600@calendar.augsburg.edu
SUMMARY:MPCC Day at the Capitol
DESCRIPTION:Join us for Day at the Capitol 2025! Meet with your legislators at the State Capitol in St. Paul alongside other student advocates to ask your legislators to support the Minnesota State Grant program — a program that directly supports low- and middle-income college students. Join us for an exciting day of advocacy training and meaningful conversations with your legislators. \n\n\nWhat happens at Day at the Capitol? \n\n\nYou’ll join student advocates from your school and other Minnesota private colleges for a Minnesota State Grant advocacy and lobbying training. Then you’ll meet with legislators\, have lunch at the Capitol and attend a Q&A session with public policy experts and policymakers. The Minnesota Private College Council will provide everything you need to be a successful advocate.
URL:https://calendar.augsburg.edu/event/mpcc-day-at-the-capitol-2/
LOCATION:Minnesota State Capitol\, 75 Rev Dr Martin Luther King Jr Boulevard\, Saint Paul\, MN\, 55155\, United States
ATTACH;FMTTYPE=image/jpeg:https://calendar.augsburg.edu/wp-content/uploads/2024/12/Capitol-45-2.jpg
GEO:44.95521;-93.10224
X-APPLE-STRUCTURED-LOCATION;VALUE=URI;X-ADDRESS=Minnesota State Capitol 75 Rev Dr Martin Luther King Jr Boulevard Saint Paul MN 55155 United States;X-APPLE-RADIUS=500;X-TITLE=75 Rev Dr Martin Luther King Jr Boulevard:geo:-93.10224,44.95521
END:VEVENT
BEGIN:VEVENT
DTSTART;TZID=America/Chicago:20240925T080000
DTEND;TZID=America/Chicago:20240925T150000
DTSTAMP:20260425T075617
CREATED:20240926T143900Z
LAST-MODIFIED:20240926T143900Z
UID:10020271-1727251200-1727276400@calendar.augsburg.edu
SUMMARY:MPCC Day at the Capitol
DESCRIPTION:Join students from other private colleges to advocate for student aid at the Minnesota State Capitol. Meet your legislators\, build advocacy skills\, and make your voice heard! Contact Rachel Farris (farrisr@augsburg.edu) with questions about this event sponsored by the Minnesota Private College Council.
URL:https://calendar.augsburg.edu/event/mpcc-day-at-the-capitol/
LOCATION:Minnesota State Capitol\, 75 Rev Dr Martin Luther King Jr Boulevard\, Saint Paul\, MN\, 55155\, United States
CATEGORIES:Campus Life
ATTACH;FMTTYPE=image/jpeg:https://calendar.augsburg.edu/wp-content/uploads/2024/09/Capitol-45-1.jpg
GEO:44.95521;-93.10224
X-APPLE-STRUCTURED-LOCATION;VALUE=URI;X-ADDRESS=Minnesota State Capitol 75 Rev Dr Martin Luther King Jr Boulevard Saint Paul MN 55155 United States;X-APPLE-RADIUS=500;X-TITLE=75 Rev Dr Martin Luther King Jr Boulevard:geo:-93.10224,44.95521
END:VEVENT
BEGIN:VEVENT
DTSTART;TZID=America/Chicago:20240228T083000
DTEND;TZID=America/Chicago:20240228T140000
DTSTAMP:20260425T075617
CREATED:20231106T151124Z
LAST-MODIFIED:20231106T151124Z
UID:10018412-1709109000-1709128800@calendar.augsburg.edu
SUMMARY:Day at the Capitol with Minnesota Private College Council
DESCRIPTION:Students: Your legislators need to hear from you about the Minnesota State Grant program.\n\n\nJoin us for Day at the Capitol 2024! \nMeet with your legislators at the State Capitol in St. Paul alongside other student advocates to ask your legislators to support the Minnesota State Grant program — a program that directly supports low- and middle-income college students. Join us for an exciting day of advocacy training and meaningful conversations with your legislators. \n\n\nWhat happens at Day at the Capitol? \n\n\nYou’ll join student advocates from your school and other Minnesota private colleges for a Minnesota State Grant advocacy and lobbying training. Then you’ll meet with legislators\, have lunch at the Capitol and attend a Q&A session with public policy experts and policymakers. The Minnesota Private College Council will provide everything you need to be a successful advocate.
URL:https://calendar.augsburg.edu/event/day-at-the-capitol-with-minnesota-private-college-council/
LOCATION:Minnesota State Capitol\, 75 Rev Dr Martin Luther King Jr Boulevard\, Saint Paul\, MN\, 55155\, United States
CATEGORIES:Sabo Center
ORGANIZER;CN="farrisr@augsburg.edu":MAILTO:farrisr@augsburg.edu
GEO:44.95521;-93.10224
X-APPLE-STRUCTURED-LOCATION;VALUE=URI;X-ADDRESS=Minnesota State Capitol 75 Rev Dr Martin Luther King Jr Boulevard Saint Paul MN 55155 United States;X-APPLE-RADIUS=500;X-TITLE=75 Rev Dr Martin Luther King Jr Boulevard:geo:-93.10224,44.95521
END:VEVENT
BEGIN:VEVENT
DTSTART;TZID=America/Chicago:20190920T100000
DTEND;TZID=America/Chicago:20190920T144500
DTSTAMP:20260425T075617
CREATED:20190912T015858Z
LAST-MODIFIED:20190920T185716Z
UID:10008161-1568973600-1568990700@calendar.augsburg.edu
SUMMARY:Global Climate Strike
DESCRIPTION:Auggies are invited to join students and concerned citizens for the Global Climate Strike!\n \nOn Friday\, September 20\, Augsburg Campus Ministry & Student Ministries will accompany students and others to attend a rally and event at the Minnesota State Capitol to make our voice heard for climate change. \nWe will gather at the FOSS ATRIUM at 10 am\, walk to the light rail\, and join thousands of students and young adults at the State Capitol. We hope you can join us!\n \nThe schedule for Friday\, September 20 is as follows:\n10 AM Foss Atrium for pastries and sending prayer\n10:15 AM Walk to Light Rail\n11:10 – 2 PM Attend Rally and Event at Capitol\n2 PM Return to Augsburg via Light Rail\nHosted by: Augsburg University Student Ministries\nAdditional Information can be found at: https://augsburg.campuslabs.com/engage/event/4917803
URL:https://calendar.augsburg.edu/event/global-climate-strike/
LOCATION:Minnesota State Capitol\, 75 Rev Dr Martin Luther King Jr Boulevard\, Saint Paul\, MN\, 55155\, United States
CATEGORIES:Campus Life,Information Session,Meeting,Social Gathering,Thoughtfullearning
GEO:44.95521;-93.10224
X-APPLE-STRUCTURED-LOCATION;VALUE=URI;X-ADDRESS=Minnesota State Capitol 75 Rev Dr Martin Luther King Jr Boulevard Saint Paul MN 55155 United States;X-APPLE-RADIUS=500;X-TITLE=75 Rev Dr Martin Luther King Jr Boulevard:geo:-93.10224,44.95521
END:VEVENT
END:VCALENDAR