BEGIN:VCALENDAR
VERSION:2.0
PRODID:-//University Calendar - ECPv6.15.16//NONSGML v1.0//EN
CALSCALE:GREGORIAN
METHOD:PUBLISH
X-ORIGINAL-URL:https://calendar.augsburg.edu
X-WR-CALDESC:Events for University Calendar
REFRESH-INTERVAL;VALUE=DURATION:PT1H
X-Robots-Tag:noindex
X-PUBLISHED-TTL:PT1H
BEGIN:VTIMEZONE
TZID:America/Chicago
BEGIN:DAYLIGHT
TZOFFSETFROM:-0600
TZOFFSETTO:-0500
TZNAME:CDT
DTSTART:20180311T080000
END:DAYLIGHT
BEGIN:STANDARD
TZOFFSETFROM:-0500
TZOFFSETTO:-0600
TZNAME:CST
DTSTART:20181104T070000
END:STANDARD
BEGIN:DAYLIGHT
TZOFFSETFROM:-0600
TZOFFSETTO:-0500
TZNAME:CDT
DTSTART:20190310T080000
END:DAYLIGHT
BEGIN:STANDARD
TZOFFSETFROM:-0500
TZOFFSETTO:-0600
TZNAME:CST
DTSTART:20191103T070000
END:STANDARD
BEGIN:DAYLIGHT
TZOFFSETFROM:-0600
TZOFFSETTO:-0500
TZNAME:CDT
DTSTART:20200308T080000
END:DAYLIGHT
BEGIN:STANDARD
TZOFFSETFROM:-0500
TZOFFSETTO:-0600
TZNAME:CST
DTSTART:20201101T070000
END:STANDARD
END:VTIMEZONE
BEGIN:VEVENT
DTSTART;TZID=America/Chicago:20191001T193000
DTEND;TZID=America/Chicago:20191001T213000
DTSTAMP:20260421T000622
CREATED:20190930T205819Z
LAST-MODIFIED:20191002T205637Z
UID:10008288-1569958200-1569965400@calendar.augsburg.edu
SUMMARY:[W] Augsburg University Men's Soccer vs Gustavus Adolphus College
DESCRIPTION:[W] Augsburg University Men’s Soccer vs Gustavus Adolphus College\nW 1-0\nStreaming Video: https://portal.stretchinternet.com/augsburg/\n https://athletics.augsburg.edu/calendar.aspx?id=17363
URL:https://calendar.augsburg.edu/event/augsburg-university-mens-soccer-vs-gustavus-adolphus-college/
LOCATION:Minneapolis\, Edor Nelson Field
CATEGORIES:Athletics
END:VEVENT
BEGIN:VEVENT
DTSTART;TZID=America/Chicago:20190928T130000
DTEND;TZID=America/Chicago:20190928T160000
DTSTAMP:20260421T000622
CREATED:20190924T181630Z
LAST-MODIFIED:20190928T231051Z
UID:10008245-1569675600-1569686400@calendar.augsburg.edu
SUMMARY:[L] Augsburg University Football vs St. Olaf College (HOMECOMING)
DESCRIPTION:[L] Augsburg University Football vs St. Olaf College (HOMECOMING)\nL 26-48\nStreaming Video: https://portal.stretchinternet.com/augsburg/\n https://athletics.augsburg.edu/calendar.aspx?id=15656
URL:https://calendar.augsburg.edu/event/augsburg-university-football-vs-st-olaf-college-homecoming/
LOCATION:Minneapolis\, Edor Nelson Field
CATEGORIES:Athletics
END:VEVENT
BEGIN:VEVENT
DTSTART;TZID=America/Chicago:20190925T193000
DTEND;TZID=America/Chicago:20190925T213000
DTSTAMP:20260421T000622
CREATED:20190924T181629Z
LAST-MODIFIED:20190926T225828Z
UID:10008241-1569439800-1569447000@calendar.augsburg.edu
SUMMARY:[W] Augsburg University Women's Soccer vs University of St. Thomas (HOMECOMING)
DESCRIPTION:[W] Augsburg University Women’s Soccer vs University of St. Thomas (HOMECOMING)\nW 1-0\nStreaming Video: https://portal.stretchinternet.com/augsburg/\n https://athletics.augsburg.edu/calendar.aspx?id=17379
URL:https://calendar.augsburg.edu/event/augsburg-university-womens-soccer-vs-university-of-st-thomas-homecoming/
LOCATION:Minneapolis\, Edor Nelson Field
CATEGORIES:Athletics
END:VEVENT
BEGIN:VEVENT
DTSTART;TZID=America/Chicago:20190921T190000
DTEND;TZID=America/Chicago:20190921T210000
DTSTAMP:20260421T000622
CREATED:20190809T162531Z
LAST-MODIFIED:20190922T232830Z
UID:10007623-1569092400-1569099600@calendar.augsburg.edu
SUMMARY:[L] Augsburg University Men's Soccer vs University of St. Thomas
DESCRIPTION:[L] Augsburg University Men’s Soccer vs University of St. Thomas\nL 1-2 (OT)\nStreaming Video: https://portal.stretchinternet.com/augsburg/\n https://athletics.augsburg.edu/calendar.aspx?id=17361
URL:https://calendar.augsburg.edu/event/augsburg-university-mens-soccer-vs-university-of-st-thomas/
LOCATION:Minneapolis\, Edor Nelson Field
CATEGORIES:Athletics
END:VEVENT
BEGIN:VEVENT
DTSTART;TZID=America/Chicago:20190920T190000
DTEND;TZID=America/Chicago:20190920T210000
DTSTAMP:20260421T000622
CREATED:20190809T162530Z
LAST-MODIFIED:20190921T232714Z
UID:10007617-1569006000-1569013200@calendar.augsburg.edu
SUMMARY:[W] Augsburg University Women's Soccer vs University of Northwestern-St. Paul
DESCRIPTION:[W] Augsburg University Women’s Soccer vs University of Northwestern-St. Paul\nW 5-0\nStreaming Video: https://portal.stretchinternet.com/augsburg/\n https://athletics.augsburg.edu/calendar.aspx?id=17378
URL:https://calendar.augsburg.edu/event/augsburg-university-womens-soccer-vs-university-of-northwestern-st-paul/
LOCATION:Minneapolis\, Edor Nelson Field
CATEGORIES:Athletics
END:VEVENT
BEGIN:VEVENT
DTSTART;TZID=America/Chicago:20190915T110000
DTEND;TZID=America/Chicago:20190915T130000
DTSTAMP:20260421T000622
CREATED:20190809T162530Z
LAST-MODIFIED:20190915T230947Z
UID:10007614-1568545200-1568552400@calendar.augsburg.edu
SUMMARY:[W] Augsburg University Women's Soccer vs Loras College
DESCRIPTION:[W] Augsburg University Women’s Soccer vs Loras College\nW 4-2\nStreaming Video: https://portal.stretchinternet.com/augsburg/\n https://athletics.augsburg.edu/calendar.aspx?id=17377
URL:https://calendar.augsburg.edu/event/augsburg-university-womens-soccer-vs-loras-college/
LOCATION:Minneapolis\, Edor Nelson Field
CATEGORIES:Athletics
END:VEVENT
BEGIN:VEVENT
DTSTART;TZID=America/Chicago:20190914T130000
DTEND;TZID=America/Chicago:20190914T160000
DTSTAMP:20260421T000622
CREATED:20190809T162529Z
LAST-MODIFIED:20190914T234613Z
UID:10007612-1568466000-1568476800@calendar.augsburg.edu
SUMMARY:[L] Augsburg University Football vs Concordia University-Wisconsin
DESCRIPTION:[L] Augsburg University Football vs Concordia University-Wisconsin\nL 0-31\nStreaming Video: https://portal.stretchinternet.com/augsburg/\n https://athletics.augsburg.edu/calendar.aspx?id=15654
URL:https://calendar.augsburg.edu/event/augsburg-university-football-vs-concordia-university-wisconsin/
LOCATION:Minneapolis\, Edor Nelson Field
CATEGORIES:Athletics
END:VEVENT
BEGIN:VEVENT
DTSTART;TZID=America/Chicago:20190913T193000
DTEND;TZID=America/Chicago:20190913T213000
DTSTAMP:20260421T000622
CREATED:20190809T162528Z
LAST-MODIFIED:20190914T234210Z
UID:10007606-1568403000-1568410200@calendar.augsburg.edu
SUMMARY:[L] Augsburg University Men's Soccer vs Luther College
DESCRIPTION:[L] Augsburg University Men’s Soccer vs Luther College\nL 1-2\nStreaming Video: https://portal.stretchinternet.com/augsburg/\n https://athletics.augsburg.edu/calendar.aspx?id=17359
URL:https://calendar.augsburg.edu/event/augsburg-university-mens-soccer-vs-luther-college/
LOCATION:Minneapolis\, Edor Nelson Field
CATEGORIES:Athletics
END:VEVENT
BEGIN:VEVENT
DTSTART;TZID=America/Chicago:20190907T190000
DTEND;TZID=America/Chicago:20190907T210000
DTSTAMP:20260421T000622
CREATED:20190809T162527Z
LAST-MODIFIED:20190908T232548Z
UID:10007601-1567882800-1567890000@calendar.augsburg.edu
SUMMARY:[W] Augsburg University Men's Soccer vs University of Wisconsin-Superior
DESCRIPTION:[W] Augsburg University Men’s Soccer vs University of Wisconsin-Superior\nW 2-1\nStreaming Video: https://portal.stretchinternet.com/augsburg/\n https://athletics.augsburg.edu/calendar.aspx?id=17357
URL:https://calendar.augsburg.edu/event/augsburg-university-mens-soccer-vs-university-of-wisconsin-superior/
LOCATION:Minneapolis\, Edor Nelson Field
CATEGORIES:Athletics
END:VEVENT
END:VCALENDAR