BEGIN:VCALENDAR
VERSION:2.0
PRODID:-//University Calendar - ECPv6.15.16//NONSGML v1.0//EN
CALSCALE:GREGORIAN
METHOD:PUBLISH
X-ORIGINAL-URL:https://calendar.augsburg.edu
X-WR-CALDESC:Events for University Calendar
REFRESH-INTERVAL;VALUE=DURATION:PT1H
X-Robots-Tag:noindex
X-PUBLISHED-TTL:PT1H
BEGIN:VTIMEZONE
TZID:America/Chicago
BEGIN:DAYLIGHT
TZOFFSETFROM:-0600
TZOFFSETTO:-0500
TZNAME:CDT
DTSTART:20190310T080000
END:DAYLIGHT
BEGIN:STANDARD
TZOFFSETFROM:-0500
TZOFFSETTO:-0600
TZNAME:CST
DTSTART:20191103T070000
END:STANDARD
BEGIN:DAYLIGHT
TZOFFSETFROM:-0600
TZOFFSETTO:-0500
TZNAME:CDT
DTSTART:20200308T080000
END:DAYLIGHT
BEGIN:STANDARD
TZOFFSETFROM:-0500
TZOFFSETTO:-0600
TZNAME:CST
DTSTART:20201101T070000
END:STANDARD
BEGIN:DAYLIGHT
TZOFFSETFROM:-0600
TZOFFSETTO:-0500
TZNAME:CDT
DTSTART:20210314T080000
END:DAYLIGHT
BEGIN:STANDARD
TZOFFSETFROM:-0500
TZOFFSETTO:-0600
TZNAME:CST
DTSTART:20211107T070000
END:STANDARD
BEGIN:DAYLIGHT
TZOFFSETFROM:-0600
TZOFFSETTO:-0500
TZNAME:CDT
DTSTART:20220313T080000
END:DAYLIGHT
BEGIN:STANDARD
TZOFFSETFROM:-0500
TZOFFSETTO:-0600
TZNAME:CST
DTSTART:20221106T070000
END:STANDARD
END:VTIMEZONE
BEGIN:VEVENT
DTSTART;TZID=America/Chicago:20210904T190000
DTEND;TZID=America/Chicago:20210904T210000
DTSTAMP:20260420T094323
CREATED:20210614T160946Z
LAST-MODIFIED:20210904T182424Z
UID:10011345-1630782000-1630789200@calendar.augsburg.edu
SUMMARY:Augsburg University Women's Soccer vs University of Northwestern-St. Paul
DESCRIPTION:Augsburg University Women’s Soccer vs University of Northwestern-St. Paul\nStreaming Video: https://portal.stretchinternet.com/augsburg/\n https://athletics.augsburg.edu/calendar.aspx?id=18507
URL:https://calendar.augsburg.edu/event/augsburg-university-womens-soccer-vs-university-of-northwestern-st-paul-2/
LOCATION:Minneapolis\, Edor Nelson Field
CATEGORIES:Athletics
END:VEVENT
BEGIN:VEVENT
DTSTART;TZID=America/Chicago:20210904T130000
DTEND;TZID=America/Chicago:20210904T150000
DTSTAMP:20260420T094323
CREATED:20210504T205711Z
LAST-MODIFIED:20210904T182423Z
UID:10011257-1630760400-1630767600@calendar.augsburg.edu
SUMMARY:Augsburg University Men's Soccer vs University of Puget Sound
DESCRIPTION:Augsburg University Men’s Soccer vs University of Puget Sound\nStreaming Video: https://portal.stretchinternet.com/augsburg/\n https://athletics.augsburg.edu/calendar.aspx?id=18464
URL:https://calendar.augsburg.edu/event/augsburg-university-mens-soccer-vs-university-of-puget-sound/
LOCATION:Minneapolis\, Edor Nelson Field
CATEGORIES:Athletics
END:VEVENT
BEGIN:VEVENT
DTSTART;TZID=America/Chicago:20210902T193000
DTEND;TZID=America/Chicago:20210902T213000
DTSTAMP:20260420T094323
CREATED:20210504T205711Z
LAST-MODIFIED:20210902T182426Z
UID:10011256-1630611000-1630618200@calendar.augsburg.edu
SUMMARY:Augsburg University Men's Soccer vs Crown College
DESCRIPTION:Augsburg University Men’s Soccer vs Crown College\nStreaming Video: https://portal.stretchinternet.com/augsburg/\n https://athletics.augsburg.edu/calendar.aspx?id=18463
URL:https://calendar.augsburg.edu/event/augsburg-university-mens-soccer-vs-crown-college-2/
LOCATION:Minneapolis\, Edor Nelson Field
CATEGORIES:Athletics
END:VEVENT
BEGIN:VEVENT
DTSTART;TZID=America/Chicago:20210828T173000
DTEND;TZID=America/Chicago:20210828T193000
DTSTAMP:20260420T094323
CREATED:20210614T160928Z
LAST-MODIFIED:20210828T180925Z
UID:10011337-1630171800-1630179000@calendar.augsburg.edu
SUMMARY:Augsburg University Men's Soccer vs Minneapolis City FC (EXHIBITION)
DESCRIPTION:Augsburg University Men’s Soccer vs Minneapolis City FC (EXHIBITION)\n https://athletics.augsburg.edu/calendar.aspx?id=18490
URL:https://calendar.augsburg.edu/event/augsburg-university-mens-soccer-vs-minneapolis-city-fc-exhibition/
LOCATION:Minneapolis\, Edor Nelson Field
CATEGORIES:Athletics
END:VEVENT
BEGIN:VEVENT
DTSTART;TZID=America/Chicago:20210822T130000
DTEND;TZID=America/Chicago:20210822T150000
DTSTAMP:20260420T094323
CREATED:20210614T160927Z
LAST-MODIFIED:20210822T175423Z
UID:10011334-1629637200-1629644400@calendar.augsburg.edu
SUMMARY:Augsburg University Men's Soccer vs St. Cloud State University (EXHIBITION)
DESCRIPTION:Augsburg University Men’s Soccer vs St. Cloud State University (EXHIBITION)\n https://athletics.augsburg.edu/calendar.aspx?id=18488
URL:https://calendar.augsburg.edu/event/augsburg-university-mens-soccer-vs-st-cloud-state-university-exhibition/
LOCATION:Minneapolis\, Edor Nelson Field
CATEGORIES:Athletics
END:VEVENT
BEGIN:VEVENT
DTSTART;TZID=America/Chicago:20210504T150000
DTEND;TZID=America/Chicago:20210504T170000
DTSTAMP:20260420T094323
CREATED:20210504T205654Z
LAST-MODIFIED:20210504T205654Z
UID:10011250-1620140400-1620147600@calendar.augsburg.edu
SUMMARY:Augsburg University Softball vs Concordia College-Moorhead
DESCRIPTION:Augsburg University Softball vs Concordia College-Moorhead\nStreaming Video: https://portal.stretchinternet.com/augsburg/\n https://athletics.augsburg.edu/calendar.aspx?id=18446
URL:https://calendar.augsburg.edu/event/augsburg-university-softball-vs-concordia-college-moorhead-3/
LOCATION:Minneapolis\, Edor Nelson Field
CATEGORIES:Athletics
END:VEVENT
BEGIN:VEVENT
DTSTART;TZID=America/Chicago:20210502T150000
DTEND;TZID=America/Chicago:20210502T170000
DTSTAMP:20260420T094323
CREATED:20210413T201113Z
LAST-MODIFIED:20210413T201113Z
UID:10011150-1619967600-1619974800@calendar.augsburg.edu
SUMMARY:Augsburg University Softball vs Carleton College
DESCRIPTION:Augsburg University Softball vs Carleton College\nStreaming Video: https://portal.stretchinternet.com/augsburg/\n https://athletics.augsburg.edu/calendar.aspx?id=18341
URL:https://calendar.augsburg.edu/event/augsburg-university-softball-vs-carleton-college/
LOCATION:Minneapolis\, Edor Nelson Field
CATEGORIES:Athletics
END:VEVENT
BEGIN:VEVENT
DTSTART;TZID=America/Chicago:20210502T130000
DTEND;TZID=America/Chicago:20210502T150000
DTSTAMP:20260420T094323
CREATED:20210413T201113Z
LAST-MODIFIED:20210413T201113Z
UID:10011151-1619960400-1619967600@calendar.augsburg.edu
SUMMARY:Augsburg University Softball vs Carleton College
DESCRIPTION:Augsburg University Softball vs Carleton College\nStreaming Video: https://portal.stretchinternet.com/augsburg/\n https://athletics.augsburg.edu/calendar.aspx?id=18340
URL:https://calendar.augsburg.edu/event/augsburg-university-softball-vs-carleton-college-2/
LOCATION:Minneapolis\, Edor Nelson Field
CATEGORIES:Athletics
END:VEVENT
BEGIN:VEVENT
DTSTART;TZID=America/Chicago:20210430T190000
DTEND;TZID=America/Chicago:20210430T220000
DTSTAMP:20260420T094323
CREATED:20210413T201104Z
LAST-MODIFIED:20210413T201104Z
UID:10011139-1619809200-1619820000@calendar.augsburg.edu
SUMMARY:Augsburg University Football vs St. Olaf College
DESCRIPTION:Augsburg University Football vs St. Olaf College\nStreaming Video: https://portal.stretchinternet.com/augsburg/\n https://athletics.augsburg.edu/calendar.aspx?id=18404
URL:https://calendar.augsburg.edu/event/augsburg-university-football-vs-st-olaf-college/
LOCATION:Minneapolis\, Edor Nelson Field
CATEGORIES:Athletics
END:VEVENT
BEGIN:VEVENT
DTSTART;TZID=America/Chicago:20210425T150000
DTEND;TZID=America/Chicago:20210425T170000
DTSTAMP:20260420T094323
CREATED:20210413T201104Z
LAST-MODIFIED:20210413T201104Z
UID:10011138-1619362800-1619370000@calendar.augsburg.edu
SUMMARY:Augsburg University Softball vs Concordia College-Moorhead
DESCRIPTION:Augsburg University Softball vs Concordia College-Moorhead\nStreaming Video: https://portal.stretchinternet.com/augsburg/\n https://athletics.augsburg.edu/calendar.aspx?id=18359
URL:https://calendar.augsburg.edu/event/augsburg-university-softball-vs-concordia-college-moorhead-2/
LOCATION:Minneapolis\, Edor Nelson Field
CATEGORIES:Athletics
END:VEVENT
BEGIN:VEVENT
DTSTART;TZID=America/Chicago:20210425T130000
DTEND;TZID=America/Chicago:20210425T150000
DTSTAMP:20260420T094323
CREATED:20210413T201047Z
LAST-MODIFIED:20210413T201047Z
UID:10011136-1619355600-1619362800@calendar.augsburg.edu
SUMMARY:Augsburg University Softball vs Concordia College-Moorhead
DESCRIPTION:Augsburg University Softball vs Concordia College-Moorhead\nStreaming Video: https://portal.stretchinternet.com/augsburg/\n https://athletics.augsburg.edu/calendar.aspx?id=18358
URL:https://calendar.augsburg.edu/event/augsburg-university-softball-vs-concordia-college-moorhead/
LOCATION:Minneapolis\, Edor Nelson Field
CATEGORIES:Athletics
END:VEVENT
BEGIN:VEVENT
DTSTART;TZID=America/Chicago:20210424T160000
DTEND;TZID=America/Chicago:20210424T190000
DTSTAMP:20260420T094323
CREATED:20210413T201042Z
LAST-MODIFIED:20210413T201042Z
UID:10011127-1619280000-1619290800@calendar.augsburg.edu
SUMMARY:Augsburg University Women's Lacrosse vs Cornell College
DESCRIPTION:Augsburg University Women’s Lacrosse vs Cornell College\nStreaming Video: https://portal.stretchinternet.com/augsburg/\n https://athletics.augsburg.edu/calendar.aspx?id=18253
URL:https://calendar.augsburg.edu/event/augsburg-university-womens-lacrosse-vs-cornell-college-3/
LOCATION:Minneapolis\, Edor Nelson Field
CATEGORIES:Athletics
END:VEVENT
BEGIN:VEVENT
DTSTART;TZID=America/Chicago:20210424T130000
DTEND;TZID=America/Chicago:20210424T150000
DTSTAMP:20260420T094323
CREATED:20210413T201044Z
LAST-MODIFIED:20210413T201044Z
UID:10011132-1619269200-1619276400@calendar.augsburg.edu
SUMMARY:Augsburg University Men's Soccer vs Hamline University
DESCRIPTION:Augsburg University Men’s Soccer vs Hamline University\nStreaming Video: https://portal.stretchinternet.com/augsburg/\n https://athletics.augsburg.edu/calendar.aspx?id=18380
URL:https://calendar.augsburg.edu/event/augsburg-university-mens-soccer-vs-hamline-university-2/
LOCATION:Minneapolis\, Edor Nelson Field
CATEGORIES:Athletics
END:VEVENT
BEGIN:VEVENT
DTSTART;TZID=America/Chicago:20210422T193000
DTEND;TZID=America/Chicago:20210422T213000
DTSTAMP:20260420T094323
CREATED:20210413T201041Z
LAST-MODIFIED:20210413T201041Z
UID:10011124-1619119800-1619127000@calendar.augsburg.edu
SUMMARY:Augsburg University Women's Soccer vs Bethel University (SENIOR NIGHT)
DESCRIPTION:Augsburg University Women’s Soccer vs Bethel University (SENIOR NIGHT)\nStreaming Video: https://portal.stretchinternet.com/augsburg/\n https://athletics.augsburg.edu/calendar.aspx?id=18402
URL:https://calendar.augsburg.edu/event/augsburg-university-womens-soccer-vs-bethel-university-senior-night/
LOCATION:Minneapolis\, Edor Nelson Field
CATEGORIES:Athletics
END:VEVENT
BEGIN:VEVENT
DTSTART;TZID=America/Chicago:20210421T173000
DTEND;TZID=America/Chicago:20210421T193000
DTSTAMP:20260420T094323
CREATED:20210413T201035Z
LAST-MODIFIED:20210413T201035Z
UID:10011120-1619026200-1619033400@calendar.augsburg.edu
SUMMARY:Augsburg University Softball vs College of Saint Benedict
DESCRIPTION:Augsburg University Softball vs College of Saint Benedict\nStreaming Video: https://portal.stretchinternet.com/augsburg/\n https://athletics.augsburg.edu/calendar.aspx?id=18355
URL:https://calendar.augsburg.edu/event/augsburg-university-softball-vs-college-of-saint-benedict/
LOCATION:Minneapolis\, Edor Nelson Field
CATEGORIES:Athletics
END:VEVENT
BEGIN:VEVENT
DTSTART;TZID=America/Chicago:20210421T153000
DTEND;TZID=America/Chicago:20210421T173000
DTSTAMP:20260420T094323
CREATED:20210413T201036Z
LAST-MODIFIED:20210413T201036Z
UID:10011122-1619019000-1619026200@calendar.augsburg.edu
SUMMARY:Augsburg University Softball vs College of Saint Benedict
DESCRIPTION:Augsburg University Softball vs College of Saint Benedict\nStreaming Video: https://portal.stretchinternet.com/augsburg/\n https://athletics.augsburg.edu/calendar.aspx?id=18354
URL:https://calendar.augsburg.edu/event/augsburg-university-softball-vs-college-of-saint-benedict-2/
LOCATION:Minneapolis\, Edor Nelson Field
CATEGORIES:Athletics
END:VEVENT
BEGIN:VEVENT
DTSTART;TZID=America/Chicago:20210420T193000
DTEND;TZID=America/Chicago:20210420T213000
DTSTAMP:20260420T094323
CREATED:20210413T201035Z
LAST-MODIFIED:20210413T201035Z
UID:10011119-1618947000-1618954200@calendar.augsburg.edu
SUMMARY:Augsburg University Men's Soccer vs Bethel University
DESCRIPTION:Augsburg University Men’s Soccer vs Bethel University\nStreaming Video: https://portal.stretchinternet.com/augsburg/\n https://athletics.augsburg.edu/calendar.aspx?id=18379
URL:https://calendar.augsburg.edu/event/augsburg-university-mens-soccer-vs-bethel-university-2/
LOCATION:Minneapolis\, Edor Nelson Field
CATEGORIES:Athletics
END:VEVENT
BEGIN:VEVENT
DTSTART;TZID=America/Chicago:20210417T190000
DTEND;TZID=America/Chicago:20210417T220000
DTSTAMP:20260420T094323
CREATED:20210413T201003Z
LAST-MODIFIED:20210413T201003Z
UID:10011112-1618686000-1618696800@calendar.augsburg.edu
SUMMARY:Augsburg University Women's Lacrosse vs Loras College
DESCRIPTION:Augsburg University Women’s Lacrosse vs Loras College\nStreaming Video: https://portal.stretchinternet.com/augsburg/\n https://athletics.augsburg.edu/calendar.aspx?id=18250
URL:https://calendar.augsburg.edu/event/augsburg-university-womens-lacrosse-vs-loras-college/
LOCATION:Minneapolis\, Edor Nelson Field
CATEGORIES:Athletics
END:VEVENT
BEGIN:VEVENT
DTSTART;TZID=America/Chicago:20210417T150000
DTEND;TZID=America/Chicago:20210417T170000
DTSTAMP:20260420T094323
CREATED:20210413T201002Z
LAST-MODIFIED:20210413T201002Z
UID:10011110-1618671600-1618678800@calendar.augsburg.edu
SUMMARY:Augsburg University Softball vs Hamline University
DESCRIPTION:Augsburg University Softball vs Hamline University\nStreaming Video: https://portal.stretchinternet.com/augsburg/\n https://athletics.augsburg.edu/calendar.aspx?id=18351
URL:https://calendar.augsburg.edu/event/augsburg-university-softball-vs-hamline-university-2/
LOCATION:Minneapolis\, Edor Nelson Field
CATEGORIES:Athletics
END:VEVENT
BEGIN:VEVENT
DTSTART;TZID=America/Chicago:20210417T130000
DTEND;TZID=America/Chicago:20210417T150000
DTSTAMP:20260420T094323
CREATED:20210413T200958Z
LAST-MODIFIED:20210413T200958Z
UID:10011106-1618664400-1618671600@calendar.augsburg.edu
SUMMARY:Augsburg University Softball vs Hamline University
DESCRIPTION:Augsburg University Softball vs Hamline University\nStreaming Video: https://portal.stretchinternet.com/augsburg/\n https://athletics.augsburg.edu/calendar.aspx?id=18350
URL:https://calendar.augsburg.edu/event/augsburg-university-softball-vs-hamline-university/
LOCATION:Minneapolis\, Edor Nelson Field
CATEGORIES:Athletics
END:VEVENT
BEGIN:VEVENT
DTSTART;TZID=America/Chicago:20210415T173000
DTEND;TZID=America/Chicago:20210415T193000
DTSTAMP:20260420T094323
CREATED:20210413T200954Z
LAST-MODIFIED:20210413T200954Z
UID:10011101-1618507800-1618515000@calendar.augsburg.edu
SUMMARY:Augsburg University Softball vs Macalester College
DESCRIPTION:Augsburg University Softball vs Macalester College\nStreaming Video: https://portal.stretchinternet.com/augsburg/\n https://athletics.augsburg.edu/calendar.aspx?id=18349
URL:https://calendar.augsburg.edu/event/augsburg-university-softball-vs-macalester-college-2/
LOCATION:Minneapolis\, Edor Nelson Field
CATEGORIES:Athletics
END:VEVENT
BEGIN:VEVENT
DTSTART;TZID=America/Chicago:20210415T153000
DTEND;TZID=America/Chicago:20210415T173000
DTSTAMP:20260420T094323
CREATED:20210413T200954Z
LAST-MODIFIED:20210413T200954Z
UID:10011100-1618500600-1618507800@calendar.augsburg.edu
SUMMARY:Augsburg University Softball vs Macalester College
DESCRIPTION:Augsburg University Softball vs Macalester College\nStreaming Video: https://portal.stretchinternet.com/augsburg/\n https://athletics.augsburg.edu/calendar.aspx?id=18348
URL:https://calendar.augsburg.edu/event/augsburg-university-softball-vs-macalester-college/
LOCATION:Minneapolis\, Edor Nelson Field
CATEGORIES:Athletics
END:VEVENT
BEGIN:VEVENT
DTSTART;TZID=America/Chicago:20210414T193000
DTEND;TZID=America/Chicago:20210414T213000
DTSTAMP:20260420T094323
CREATED:20210413T200953Z
LAST-MODIFIED:20210413T200953Z
UID:10011099-1618428600-1618435800@calendar.augsburg.edu
SUMMARY:Augsburg University Women's Soccer vs College of Saint Benedict
DESCRIPTION:Augsburg University Women’s Soccer vs College of Saint Benedict\nStreaming Video: https://portal.stretchinternet.com/augsburg/\n https://athletics.augsburg.edu/calendar.aspx?id=18400
URL:https://calendar.augsburg.edu/event/augsburg-university-womens-soccer-vs-college-of-saint-benedict-2/
LOCATION:Minneapolis\, Edor Nelson Field
CATEGORIES:Athletics
END:VEVENT
BEGIN:VEVENT
DTSTART;TZID=America/Chicago:20200425T190000
DTEND;TZID=America/Chicago:20200425T220000
DTSTAMP:20260420T094323
CREATED:20200326T181613Z
LAST-MODIFIED:20200425T192711Z
UID:10009607-1587841200-1587852000@calendar.augsburg.edu
SUMMARY:CANCELLED Augsburg University Women's Lacrosse vs Concordia University-Wisconsin
DESCRIPTION:CANCELLED Augsburg University Women’s Lacrosse vs Concordia University-Wisconsin\n https://athletics.augsburg.edu/calendar.aspx?id=17785
URL:https://calendar.augsburg.edu/event/cancelled-augsburg-university-womens-lacrosse-vs-concordia-university-wisconsin-2/
LOCATION:Minneapolis\, Edor Nelson Field
CATEGORIES:Athletics
END:VEVENT
BEGIN:VEVENT
DTSTART;TZID=America/Chicago:20200425T150000
DTEND;TZID=America/Chicago:20200425T170000
DTSTAMP:20260420T094323
CREATED:20200325T175127Z
LAST-MODIFIED:20200425T192711Z
UID:10009603-1587826800-1587834000@calendar.augsburg.edu
SUMMARY:CANCELLED Augsburg University Softball vs Bethel University
DESCRIPTION:CANCELLED Augsburg University Softball vs Bethel University\n https://athletics.augsburg.edu/calendar.aspx?id=17829
URL:https://calendar.augsburg.edu/event/cancelled-augsburg-university-softball-vs-bethel-university/
LOCATION:Minneapolis\, Edor Nelson Field
CATEGORIES:Athletics
END:VEVENT
BEGIN:VEVENT
DTSTART;TZID=America/Chicago:20200425T130000
DTEND;TZID=America/Chicago:20200425T150000
DTSTAMP:20260420T094323
CREATED:20200325T175127Z
LAST-MODIFIED:20200425T193059Z
UID:10009604-1587819600-1587826800@calendar.augsburg.edu
SUMMARY:CANCELLED Augsburg University Softball vs Bethel University
DESCRIPTION:CANCELLED Augsburg University Softball vs Bethel University\n https://athletics.augsburg.edu/calendar.aspx?id=17728
URL:https://calendar.augsburg.edu/event/cancelled-augsburg-university-softball-vs-bethel-university-2/
LOCATION:Minneapolis\, Edor Nelson Field
CATEGORIES:Athletics
END:VEVENT
BEGIN:VEVENT
DTSTART;TZID=America/Chicago:20200424T180000
DTEND;TZID=America/Chicago:20200424T210000
DTSTAMP:20260420T094323
CREATED:20200321T180358Z
LAST-MODIFIED:20200424T192505Z
UID:10009574-1587751200-1587762000@calendar.augsburg.edu
SUMMARY:CANCELLED Augsburg University Women's Lacrosse vs Marian University
DESCRIPTION:CANCELLED Augsburg University Women’s Lacrosse vs Marian University\n https://athletics.augsburg.edu/calendar.aspx?id=17784
URL:https://calendar.augsburg.edu/event/cancelled-augsburg-university-womens-lacrosse-vs-marian-university-2/
LOCATION:Minneapolis\, Edor Nelson Field
CATEGORIES:Athletics
END:VEVENT
BEGIN:VEVENT
DTSTART;TZID=America/Chicago:20200418T150000
DTEND;TZID=America/Chicago:20200418T170000
DTSTAMP:20260420T094323
CREATED:20200317T173043Z
LAST-MODIFIED:20200415T185658Z
UID:10009555-1587222000-1587229200@calendar.augsburg.edu
SUMMARY:CANCELLED Augsburg University Softball vs Saint Mary's University (Minn.)
DESCRIPTION:CANCELLED Augsburg University Softball vs Saint Mary’s University (Minn.)\n https://athletics.augsburg.edu/calendar.aspx?id=17827
URL:https://calendar.augsburg.edu/event/cancelled-augsburg-university-softball-vs-saint-marys-university-minn-2/
LOCATION:Minneapolis\, Edor Nelson Field
CATEGORIES:Athletics
END:VEVENT
BEGIN:VEVENT
DTSTART;TZID=America/Chicago:20200418T130000
DTEND;TZID=America/Chicago:20200418T150000
DTSTAMP:20260420T094323
CREATED:20200317T173043Z
LAST-MODIFIED:20200415T185655Z
UID:10009554-1587214800-1587222000@calendar.augsburg.edu
SUMMARY:CANCELLED Augsburg University Softball vs Saint Mary's University (Minn.)
DESCRIPTION:CANCELLED Augsburg University Softball vs Saint Mary’s University (Minn.)\n https://athletics.augsburg.edu/calendar.aspx?id=17726
URL:https://calendar.augsburg.edu/event/cancelled-augsburg-university-softball-vs-saint-marys-university-minn/
LOCATION:Minneapolis\, Edor Nelson Field
CATEGORIES:Athletics
END:VEVENT
BEGIN:VEVENT
DTSTART;TZID=America/Chicago:20200415T173000
DTEND;TZID=America/Chicago:20200415T193000
DTSTAMP:20260420T094323
CREATED:20200315T175320Z
LAST-MODIFIED:20200415T185526Z
UID:10009548-1586971800-1586979000@calendar.augsburg.edu
SUMMARY:CANCELLED Augsburg University Softball vs Gustavus Adolphus College
DESCRIPTION:CANCELLED Augsburg University Softball vs Gustavus Adolphus College\n https://athletics.augsburg.edu/calendar.aspx?id=17826
URL:https://calendar.augsburg.edu/event/cancelled-augsburg-university-softball-vs-gustavus-adolphus-college-2/
LOCATION:Minneapolis\, Edor Nelson Field
CATEGORIES:Athletics
END:VEVENT
END:VCALENDAR