BEGIN:VCALENDAR
VERSION:2.0
PRODID:-//University Calendar - ECPv6.15.16//NONSGML v1.0//EN
CALSCALE:GREGORIAN
METHOD:PUBLISH
X-WR-CALNAME:University Calendar
X-ORIGINAL-URL:https://calendar.augsburg.edu
X-WR-CALDESC:Events for University Calendar
REFRESH-INTERVAL;VALUE=DURATION:PT1H
X-Robots-Tag:noindex
X-PUBLISHED-TTL:PT1H
BEGIN:VTIMEZONE
TZID:America/Chicago
BEGIN:DAYLIGHT
TZOFFSETFROM:-0600
TZOFFSETTO:-0500
TZNAME:CDT
DTSTART:20200308T080000
END:DAYLIGHT
BEGIN:STANDARD
TZOFFSETFROM:-0500
TZOFFSETTO:-0600
TZNAME:CST
DTSTART:20201101T070000
END:STANDARD
BEGIN:DAYLIGHT
TZOFFSETFROM:-0600
TZOFFSETTO:-0500
TZNAME:CDT
DTSTART:20210314T080000
END:DAYLIGHT
BEGIN:STANDARD
TZOFFSETFROM:-0500
TZOFFSETTO:-0600
TZNAME:CST
DTSTART:20211107T070000
END:STANDARD
BEGIN:DAYLIGHT
TZOFFSETFROM:-0600
TZOFFSETTO:-0500
TZNAME:CDT
DTSTART:20220313T080000
END:DAYLIGHT
BEGIN:STANDARD
TZOFFSETFROM:-0500
TZOFFSETTO:-0600
TZNAME:CST
DTSTART:20221106T070000
END:STANDARD
BEGIN:DAYLIGHT
TZOFFSETFROM:-0600
TZOFFSETTO:-0500
TZNAME:CDT
DTSTART:20230312T080000
END:DAYLIGHT
BEGIN:STANDARD
TZOFFSETFROM:-0500
TZOFFSETTO:-0600
TZNAME:CST
DTSTART:20231105T070000
END:STANDARD
END:VTIMEZONE
BEGIN:VEVENT
DTSTART;TZID=America/Chicago:20220305T143000
DTEND;TZID=America/Chicago:20220305T163000
DTSTAMP:20260420T043618
CREATED:20220115T184916Z
LAST-MODIFIED:20220305T194007Z
UID:10012570-1646490600-1646497800@calendar.augsburg.edu
SUMMARY:Augsburg University Softball vs Edgewood College
DESCRIPTION:Augsburg University Softball vs Edgewood College\nStreaming Video: https://portal.stretchinternet.com/augsburg/\n https://athletics.augsburg.edu/calendar.aspx?id=18819
URL:https://calendar.augsburg.edu/event/augsburg-university-softball-vs-university-of-wisconsin-river-falls/
LOCATION:Minneapolis\, Edor Nelson Field
CATEGORIES:Athletics
END:VEVENT
BEGIN:VEVENT
DTSTART;TZID=America/Chicago:20220305T123000
DTEND;TZID=America/Chicago:20220305T143000
DTSTAMP:20260420T043618
CREATED:20220115T184916Z
LAST-MODIFIED:20220305T194007Z
UID:10012571-1646483400-1646490600@calendar.augsburg.edu
SUMMARY:Augsburg University Softball vs Edgewood College
DESCRIPTION:Augsburg University Softball vs Edgewood College\nStreaming Video: https://portal.stretchinternet.com/augsburg/\n https://athletics.augsburg.edu/calendar.aspx?id=18818
URL:https://calendar.augsburg.edu/event/augsburg-university-softball-vs-university-of-wisconsin-river-falls-2/
LOCATION:Minneapolis\, Edor Nelson Field
CATEGORIES:Athletics
END:VEVENT
BEGIN:VEVENT
DTSTART;TZID=America/Chicago:20220305T103000
DTEND;TZID=America/Chicago:20220305T123000
DTSTAMP:20260420T043618
CREATED:20220115T184916Z
LAST-MODIFIED:20220304T194021Z
UID:10012572-1646476200-1646483400@calendar.augsburg.edu
SUMMARY:Augsburg University Softball vs University of Wisconsin-River Falls vs. Crown College
DESCRIPTION:Augsburg University Softball vs University of Wisconsin-River Falls vs. Crown College\nStreaming Video: https://portal.stretchinternet.com/augsburg/\n https://athletics.augsburg.edu/calendar.aspx?id=18817
URL:https://calendar.augsburg.edu/event/augsburg-university-softball-vs-edgewood-college-vs-crown-college-2/
LOCATION:Minneapolis\, Edor Nelson Field
CATEGORIES:Athletics
END:VEVENT
BEGIN:VEVENT
DTSTART;TZID=America/Chicago:20220305T083000
DTEND;TZID=America/Chicago:20220305T103000
DTSTAMP:20260420T043618
CREATED:20220115T184916Z
LAST-MODIFIED:20220304T194021Z
UID:10012569-1646469000-1646476200@calendar.augsburg.edu
SUMMARY:Augsburg University Softball vs Crown College vs. University of Wisconsin-River Falls
DESCRIPTION:Augsburg University Softball vs Crown College vs. University of Wisconsin-River Falls\nStreaming Video: https://portal.stretchinternet.com/augsburg/\n https://athletics.augsburg.edu/calendar.aspx?id=18815
URL:https://calendar.augsburg.edu/event/augsburg-university-softball-vs-edgewood-college-vs-crown-college/
LOCATION:Minneapolis\, Edor Nelson Field
CATEGORIES:Athletics
END:VEVENT
BEGIN:VEVENT
DTSTART;TZID=America/Chicago:20220304T193000
DTEND;TZID=America/Chicago:20220304T213000
DTSTAMP:20260420T043618
CREATED:20220115T184912Z
LAST-MODIFIED:20220304T194010Z
UID:10012568-1646422200-1646429400@calendar.augsburg.edu
SUMMARY:Augsburg University Softball vs Crown College
DESCRIPTION:Augsburg University Softball vs Crown College\nStreaming Video: https://portal.stretchinternet.com/augsburg/\n https://athletics.augsburg.edu/calendar.aspx?id=18816
URL:https://calendar.augsburg.edu/event/augsburg-university-softball-vs-crown-college-4/
LOCATION:Minneapolis\, Edor Nelson Field
CATEGORIES:Athletics
END:VEVENT
BEGIN:VEVENT
DTSTART;TZID=America/Chicago:20220304T173000
DTEND;TZID=America/Chicago:20220304T193000
DTSTAMP:20260420T043618
CREATED:20220113T184852Z
LAST-MODIFIED:20220304T194010Z
UID:10012558-1646415000-1646422200@calendar.augsburg.edu
SUMMARY:Augsburg University Softball vs Crown College
DESCRIPTION:Augsburg University Softball vs Crown College\nStreaming Video: https://portal.stretchinternet.com/augsburg/\n https://athletics.augsburg.edu/calendar.aspx?id=18813
URL:https://calendar.augsburg.edu/event/augsburg-university-softball-vs-crown-college-3/
LOCATION:Minneapolis\, Edor Nelson Field
CATEGORIES:Athletics
END:VEVENT
BEGIN:VEVENT
DTSTART;TZID=America/Chicago:20220304T153000
DTEND;TZID=America/Chicago:20220304T173000
DTSTAMP:20260420T043618
CREATED:20220109T183543Z
LAST-MODIFIED:20220304T194009Z
UID:10012503-1646407800-1646415000@calendar.augsburg.edu
SUMMARY:Augsburg University Softball vs University of Wisconsin-River Falls vs. Edgewood College
DESCRIPTION:Augsburg University Softball vs University of Wisconsin-River Falls vs. Edgewood College\nStreaming Video: https://portal.stretchinternet.com/augsburg/\n https://athletics.augsburg.edu/calendar.aspx?id=18814
URL:https://calendar.augsburg.edu/event/augsburg-university-softball-vs-university-of-wisconsin-river-falls-vs-edgewood-college-2/
LOCATION:Minneapolis\, Edor Nelson Field
CATEGORIES:Athletics
END:VEVENT
BEGIN:VEVENT
DTSTART;TZID=America/Chicago:20220304T133000
DTEND;TZID=America/Chicago:20220304T153000
DTSTAMP:20260420T043618
CREATED:20220109T183543Z
LAST-MODIFIED:20220304T194009Z
UID:10012502-1646400600-1646407800@calendar.augsburg.edu
SUMMARY:Augsburg University Softball vs University of Wisconsin-River Falls vs. Edgewood College
DESCRIPTION:Augsburg University Softball vs University of Wisconsin-River Falls vs. Edgewood College\nStreaming Video: https://portal.stretchinternet.com/augsburg/\n https://athletics.augsburg.edu/calendar.aspx?id=18812
URL:https://calendar.augsburg.edu/event/augsburg-university-softball-vs-university-of-wisconsin-river-falls-vs-edgewood-college/
LOCATION:Minneapolis\, Edor Nelson Field
CATEGORIES:Athletics
END:VEVENT
BEGIN:VEVENT
DTSTART;TZID=America/Chicago:20220220T130000
DTEND;TZID=America/Chicago:20220220T160000
DTSTAMP:20260420T043618
CREATED:20211209T182010Z
LAST-MODIFIED:20220220T192516Z
UID:10012378-1645362000-1645372800@calendar.augsburg.edu
SUMMARY:Augsburg University Women's Lacrosse vs Sewanee (University of The South)
DESCRIPTION:Augsburg University Women’s Lacrosse vs Sewanee (University of The South)\nStreaming Video: https://portal.stretchinternet.com/augsburg/\n https://athletics.augsburg.edu/calendar.aspx?id=18790
URL:https://calendar.augsburg.edu/event/augsburg-university-womens-lacrosse-vs-sewanee-university-of-the-south/
LOCATION:Minneapolis\, Edor Nelson Field
CATEGORIES:Athletics
END:VEVENT
BEGIN:VEVENT
DTSTART;TZID=America/Chicago:20211113T130000
DTEND;TZID=America/Chicago:20211113T160000
DTSTAMP:20260420T043618
CREATED:20210912T182553Z
LAST-MODIFIED:20211113T170100Z
UID:10011845-1636808400-1636819200@calendar.augsburg.edu
SUMMARY:Augsburg University Football vs St. Olaf College (MIAC Championship Week)
DESCRIPTION:Augsburg University Football vs St. Olaf College (MIAC Championship Week)\nStreaming Video: https://portal.stretchinternet.com/augsburg/\n https://athletics.augsburg.edu/calendar.aspx?id=18500
URL:https://calendar.augsburg.edu/event/augsburg-university-football-vs-miac-divisional-crossover-game/
LOCATION:Minneapolis\, Edor Nelson Field
CATEGORIES:Athletics
END:VEVENT
BEGIN:VEVENT
DTSTART;TZID=America/Chicago:20211101T170000
DTEND;TZID=America/Chicago:20211101T190000
DTSTAMP:20260420T043618
CREATED:20210614T161122Z
LAST-MODIFIED:20211101T163925Z
UID:10011407-1635786000-1635793200@calendar.augsburg.edu
SUMMARY:Augsburg University Men's Soccer vs MIAC Playoff Quarterfinals vs. Macalester College
DESCRIPTION:Augsburg University Men’s Soccer vs MIAC Playoff Quarterfinals vs. Macalester College\nStreaming Video: https://portal.stretchinternet.com/augsburg/\n https://athletics.augsburg.edu/calendar.aspx?id=18541
URL:https://calendar.augsburg.edu/event/augsburg-university-mens-soccer-vs-miac-playoff-quarterfinals-2/
LOCATION:Minneapolis\, Edor Nelson Field
CATEGORIES:Athletics
END:VEVENT
BEGIN:VEVENT
DTSTART;TZID=America/Chicago:20211030T130000
DTEND;TZID=America/Chicago:20211030T150000
DTSTAMP:20260420T043618
CREATED:20210614T161113Z
LAST-MODIFIED:20211030T164026Z
UID:10011400-1635598800-1635606000@calendar.augsburg.edu
SUMMARY:Augsburg University Women's Soccer vs Bethel University
DESCRIPTION:Augsburg University Women’s Soccer vs Bethel University\nStreaming Video: https://portal.stretchinternet.com/augsburg/\n https://athletics.augsburg.edu/calendar.aspx?id=18521
URL:https://calendar.augsburg.edu/event/augsburg-university-womens-soccer-vs-bethel-university-2/
LOCATION:Minneapolis\, Edor Nelson Field
CATEGORIES:Athletics
END:VEVENT
BEGIN:VEVENT
DTSTART;TZID=America/Chicago:20211029T193000
DTEND;TZID=America/Chicago:20211029T213000
DTSTAMP:20260420T043618
CREATED:20210504T205717Z
LAST-MODIFIED:20211029T164910Z
UID:10011272-1635535800-1635543000@calendar.augsburg.edu
SUMMARY:Augsburg University Men's Soccer vs Bethel University
DESCRIPTION:Augsburg University Men’s Soccer vs Bethel University\nStreaming Video: https://portal.stretchinternet.com/augsburg/\n https://athletics.augsburg.edu/calendar.aspx?id=18461
URL:https://calendar.augsburg.edu/event/augsburg-university-mens-soccer-vs-bethel-university-3/
LOCATION:Minneapolis\, Edor Nelson Field
CATEGORIES:Athletics
END:VEVENT
BEGIN:VEVENT
DTSTART;TZID=America/Chicago:20211023T130000
DTEND;TZID=America/Chicago:20211023T160000
DTSTAMP:20260420T043618
CREATED:20210614T161110Z
LAST-MODIFIED:20211023T165718Z
UID:10011395-1634994000-1635004800@calendar.augsburg.edu
SUMMARY:Augsburg University Football vs Hamline University
DESCRIPTION:Augsburg University Football vs Hamline University\nStreaming Video: https://portal.stretchinternet.com/augsburg/\n https://athletics.augsburg.edu/calendar.aspx?id=18497
URL:https://calendar.augsburg.edu/event/augsburg-university-football-vs-hamline-university-5/
LOCATION:Minneapolis\, Edor Nelson Field
CATEGORIES:Athletics
END:VEVENT
BEGIN:VEVENT
DTSTART;TZID=America/Chicago:20211022T190000
DTEND;TZID=America/Chicago:20211022T210000
DTSTAMP:20260420T043618
CREATED:20210614T161107Z
LAST-MODIFIED:20211022T164024Z
UID:10011391-1634929200-1634936400@calendar.augsburg.edu
SUMMARY:Augsburg University Women's Soccer vs St. Catherine University
DESCRIPTION:Augsburg University Women’s Soccer vs St. Catherine University\nStreaming Video: https://portal.stretchinternet.com/augsburg/\n https://athletics.augsburg.edu/calendar.aspx?id=18519
URL:https://calendar.augsburg.edu/event/augsburg-university-womens-soccer-vs-st-catherine-university-2/
LOCATION:Minneapolis\, Edor Nelson Field
CATEGORIES:Athletics
END:VEVENT
BEGIN:VEVENT
DTSTART;TZID=America/Chicago:20211019T193000
DTEND;TZID=America/Chicago:20211019T213000
DTSTAMP:20260420T043618
CREATED:20210504T205715Z
LAST-MODIFIED:20211019T163256Z
UID:10011269-1634671800-1634679000@calendar.augsburg.edu
SUMMARY:Augsburg University Men's Soccer vs Martin Luther College
DESCRIPTION:Augsburg University Men’s Soccer vs Martin Luther College\nStreaming Video: https://portal.stretchinternet.com/augsburg/\n https://athletics.augsburg.edu/calendar.aspx?id=18468
URL:https://calendar.augsburg.edu/event/augsburg-university-mens-soccer-vs-martin-luther-college-2/
LOCATION:Minneapolis\, Edor Nelson Field
CATEGORIES:Athletics
END:VEVENT
BEGIN:VEVENT
DTSTART;TZID=America/Chicago:20211016T193000
DTEND;TZID=America/Chicago:20211016T213000
DTSTAMP:20260420T043618
CREATED:20210614T161107Z
LAST-MODIFIED:20211016T161022Z
UID:10011389-1634412600-1634419800@calendar.augsburg.edu
SUMMARY:Augsburg University Women's Soccer vs Concordia College-Moorhead
DESCRIPTION:Augsburg University Women’s Soccer vs Concordia College-Moorhead\nStreaming Video: https://portal.stretchinternet.com/augsburg/\n https://athletics.augsburg.edu/calendar.aspx?id=18518
URL:https://calendar.augsburg.edu/event/augsburg-university-womens-soccer-vs-concordia-college-moorhead/
LOCATION:Minneapolis\, Edor Nelson Field
CATEGORIES:Athletics
END:VEVENT
BEGIN:VEVENT
DTSTART;TZID=America/Chicago:20211016T170000
DTEND;TZID=America/Chicago:20211016T190000
DTSTAMP:20260420T043618
CREATED:20210504T205715Z
LAST-MODIFIED:20211016T161022Z
UID:10011268-1634403600-1634410800@calendar.augsburg.edu
SUMMARY:Augsburg University Men's Soccer vs Concordia College-Moorhead
DESCRIPTION:Augsburg University Men’s Soccer vs Concordia College-Moorhead\nStreaming Video: https://portal.stretchinternet.com/augsburg/\n https://athletics.augsburg.edu/calendar.aspx?id=18459
URL:https://calendar.augsburg.edu/event/augsburg-university-mens-soccer-vs-concordia-college-moorhead/
LOCATION:Minneapolis\, Edor Nelson Field
CATEGORIES:Athletics
END:VEVENT
BEGIN:VEVENT
DTSTART;TZID=America/Chicago:20211016T130000
DTEND;TZID=America/Chicago:20211016T160000
DTSTAMP:20260420T043618
CREATED:20210614T161059Z
LAST-MODIFIED:20211016T161021Z
UID:10011385-1634389200-1634400000@calendar.augsburg.edu
SUMMARY:Augsburg University Football vs Macalester College
DESCRIPTION:Augsburg University Football vs Macalester College\nStreaming Video: https://portal.stretchinternet.com/augsburg/\n https://athletics.augsburg.edu/calendar.aspx?id=18496
URL:https://calendar.augsburg.edu/event/augsburg-university-football-vs-macalester-college/
LOCATION:Minneapolis\, Edor Nelson Field
CATEGORIES:Athletics
END:VEVENT
BEGIN:VEVENT
DTSTART;TZID=America/Chicago:20211009T153000
DTEND;TZID=America/Chicago:20211009T173000
DTSTAMP:20260420T043618
CREATED:20210614T161057Z
LAST-MODIFIED:20211009T160924Z
UID:10011381-1633793400-1633800600@calendar.augsburg.edu
SUMMARY:Augsburg University Women's Soccer vs Saint Mary's University
DESCRIPTION:Augsburg University Women’s Soccer vs Saint Mary’s University\nStreaming Video: https://portal.stretchinternet.com/augsburg/\n https://athletics.augsburg.edu/calendar.aspx?id=18531
URL:https://calendar.augsburg.edu/event/augsburg-university-womens-soccer-vs-saint-marys-university/
LOCATION:Minneapolis\, Edor Nelson Field
CATEGORIES:Athletics
END:VEVENT
BEGIN:VEVENT
DTSTART;TZID=America/Chicago:20211009T123000
DTEND;TZID=America/Chicago:20211009T143000
DTSTAMP:20260420T043618
CREATED:20210504T205715Z
LAST-MODIFIED:20211009T160924Z
UID:10011266-1633782600-1633789800@calendar.augsburg.edu
SUMMARY:Augsburg University Men's Soccer vs Saint Mary's University
DESCRIPTION:Augsburg University Men’s Soccer vs Saint Mary’s University\nStreaming Video: https://portal.stretchinternet.com/augsburg/\n https://athletics.augsburg.edu/calendar.aspx?id=18457
URL:https://calendar.augsburg.edu/event/augsburg-university-mens-soccer-vs-saint-marys-university/
LOCATION:Minneapolis\, Edor Nelson Field
CATEGORIES:Athletics
END:VEVENT
BEGIN:VEVENT
DTSTART;TZID=America/Chicago:20211006T193000
DTEND;TZID=America/Chicago:20211006T213000
DTSTAMP:20260420T043618
CREATED:20210614T161053Z
LAST-MODIFIED:20211005T192425Z
UID:10011379-1633548600-1633555800@calendar.augsburg.edu
SUMMARY:Augsburg University Women's Soccer vs College of St. Scholastica
DESCRIPTION:Augsburg University Women’s Soccer vs College of St. Scholastica\nStreaming Video: https://portal.stretchinternet.com/augsburg/\n https://athletics.augsburg.edu/calendar.aspx?id=18516
URL:https://calendar.augsburg.edu/event/augsburg-university-womens-soccer-vs-college-of-st-scholastica-2/
LOCATION:Minneapolis\, Edor Nelson Field
CATEGORIES:Athletics
END:VEVENT
BEGIN:VEVENT
DTSTART;TZID=America/Chicago:20211002T130000
DTEND;TZID=America/Chicago:20211002T160000
DTSTAMP:20260420T043618
CREATED:20210614T161040Z
LAST-MODIFIED:20211002T190926Z
UID:10011375-1633179600-1633190400@calendar.augsburg.edu
SUMMARY:Augsburg University Football vs St. Olaf College
DESCRIPTION:Augsburg University Football vs St. Olaf College\nStreaming Video: https://portal.stretchinternet.com/augsburg/\n https://athletics.augsburg.edu/calendar.aspx?id=18494
URL:https://calendar.augsburg.edu/event/augsburg-university-football-vs-st-olaf-college-2/
LOCATION:Minneapolis\, Edor Nelson Field
CATEGORIES:Athletics
END:VEVENT
BEGIN:VEVENT
DTSTART;TZID=America/Chicago:20210925T123000
DTEND;TZID=America/Chicago:20210925T143000
DTSTAMP:20260420T043618
CREATED:20210504T205713Z
LAST-MODIFIED:20210925T183928Z
UID:10011262-1632573000-1632580200@calendar.augsburg.edu
SUMMARY:Augsburg University Men's Soccer vs College of St. Scholastica
DESCRIPTION:Augsburg University Men’s Soccer vs College of St. Scholastica\nStreaming Video: https://portal.stretchinternet.com/augsburg/\n https://athletics.augsburg.edu/calendar.aspx?id=18454
URL:https://calendar.augsburg.edu/event/augsburg-university-mens-soccer-vs-college-of-st-scholastica/
LOCATION:Minneapolis\, Edor Nelson Field
CATEGORIES:Athletics
END:VEVENT
BEGIN:VEVENT
DTSTART;TZID=America/Chicago:20210921T193000
DTEND;TZID=America/Chicago:20210921T213000
DTSTAMP:20260420T043618
CREATED:20210614T160956Z
LAST-MODIFIED:20210921T183927Z
UID:10011360-1632252600-1632259800@calendar.augsburg.edu
SUMMARY:Augsburg University Women's Soccer vs Macalester College
DESCRIPTION:Augsburg University Women’s Soccer vs Macalester College\nStreaming Video: https://portal.stretchinternet.com/augsburg/\n https://athletics.augsburg.edu/calendar.aspx?id=18512
URL:https://calendar.augsburg.edu/event/augsburg-university-womens-soccer-vs-macalester-college-2/
LOCATION:Minneapolis\, Edor Nelson Field
CATEGORIES:Athletics
END:VEVENT
BEGIN:VEVENT
DTSTART;TZID=America/Chicago:20210918T123000
DTEND;TZID=America/Chicago:20210918T143000
DTSTAMP:20260420T043618
CREATED:20210504T205713Z
LAST-MODIFIED:20210918T183927Z
UID:10011261-1631968200-1631975400@calendar.augsburg.edu
SUMMARY:Augsburg University Men's Soccer vs Macalester College
DESCRIPTION:Augsburg University Men’s Soccer vs Macalester College\nStreaming Video: https://portal.stretchinternet.com/augsburg/\n https://athletics.augsburg.edu/calendar.aspx?id=18453
URL:https://calendar.augsburg.edu/event/augsburg-university-mens-soccer-vs-macalester-college-2/
LOCATION:Minneapolis\, Edor Nelson Field
CATEGORIES:Athletics
END:VEVENT
BEGIN:VEVENT
DTSTART;TZID=America/Chicago:20210911T130000
DTEND;TZID=America/Chicago:20210911T160000
DTSTAMP:20260420T043618
CREATED:20210614T160949Z
LAST-MODIFIED:20210911T182427Z
UID:10011352-1631365200-1631376000@calendar.augsburg.edu
SUMMARY:Augsburg University Football vs Nebraska Wesleyan University
DESCRIPTION:Augsburg University Football vs Nebraska Wesleyan University\nStreaming Video: https://portal.stretchinternet.com/augsburg/\n https://athletics.augsburg.edu/calendar.aspx?id=18492
URL:https://calendar.augsburg.edu/event/augsburg-university-football-vs-nebraska-wesleyan-university/
LOCATION:Minneapolis\, Edor Nelson Field
CATEGORIES:Athletics
END:VEVENT
BEGIN:VEVENT
DTSTART;TZID=America/Chicago:20210910T190000
DTEND;TZID=America/Chicago:20210910T210000
DTSTAMP:20260420T043618
CREATED:20210614T160949Z
LAST-MODIFIED:20210910T182433Z
UID:10011350-1631300400-1631307600@calendar.augsburg.edu
SUMMARY:Augsburg University Women's Soccer vs University of Wisconsin-Superior
DESCRIPTION:Augsburg University Women’s Soccer vs University of Wisconsin-Superior\nStreaming Video: https://portal.stretchinternet.com/augsburg/\n https://athletics.augsburg.edu/calendar.aspx?id=18509
URL:https://calendar.augsburg.edu/event/augsburg-university-womens-soccer-at-university-of-wisconsin-superior/
LOCATION:Minneapolis\, Edor Nelson Field
CATEGORIES:Athletics
END:VEVENT
BEGIN:VEVENT
DTSTART;TZID=America/Chicago:20210909T193000
DTEND;TZID=America/Chicago:20210909T213000
DTSTAMP:20260420T043618
CREATED:20210504T205711Z
LAST-MODIFIED:20210909T182427Z
UID:10011259-1631215800-1631223000@calendar.augsburg.edu
SUMMARY:Augsburg University Men's Soccer vs University of Northwestern-St. Paul
DESCRIPTION:Augsburg University Men’s Soccer vs University of Northwestern-St. Paul\nStreaming Video: https://portal.stretchinternet.com/augsburg/\n https://athletics.augsburg.edu/calendar.aspx?id=18466
URL:https://calendar.augsburg.edu/event/augsburg-university-mens-soccer-vs-university-of-northwestern-st-paul/
LOCATION:Minneapolis\, Edor Nelson Field
CATEGORIES:Athletics
END:VEVENT
BEGIN:VEVENT
DTSTART;TZID=America/Chicago:20210907T193000
DTEND;TZID=America/Chicago:20210907T213000
DTSTAMP:20260420T043618
CREATED:20210614T160947Z
LAST-MODIFIED:20210907T182437Z
UID:10011347-1631043000-1631050200@calendar.augsburg.edu
SUMMARY:Augsburg University Women's Soccer vs University of Wisconsin-La Crosse
DESCRIPTION:Augsburg University Women’s Soccer vs University of Wisconsin-La Crosse\nStreaming Video: https://portal.stretchinternet.com/augsburg/\n https://athletics.augsburg.edu/calendar.aspx?id=18508
URL:https://calendar.augsburg.edu/event/augsburg-university-womens-soccer-vs-university-of-wisconsin-la-crosse/
LOCATION:Minneapolis\, Edor Nelson Field
CATEGORIES:Athletics
END:VEVENT
END:VCALENDAR