BEGIN:VCALENDAR
VERSION:2.0
PRODID:-//University Calendar - ECPv6.15.16//NONSGML v1.0//EN
CALSCALE:GREGORIAN
METHOD:PUBLISH
X-ORIGINAL-URL:https://calendar.augsburg.edu
X-WR-CALDESC:Events for University Calendar
REFRESH-INTERVAL;VALUE=DURATION:PT1H
X-Robots-Tag:noindex
X-PUBLISHED-TTL:PT1H
BEGIN:VTIMEZONE
TZID:America/Chicago
BEGIN:DAYLIGHT
TZOFFSETFROM:-0600
TZOFFSETTO:-0500
TZNAME:CDT
DTSTART:20210314T080000
END:DAYLIGHT
BEGIN:STANDARD
TZOFFSETFROM:-0500
TZOFFSETTO:-0600
TZNAME:CST
DTSTART:20211107T070000
END:STANDARD
BEGIN:DAYLIGHT
TZOFFSETFROM:-0600
TZOFFSETTO:-0500
TZNAME:CDT
DTSTART:20220313T080000
END:DAYLIGHT
BEGIN:STANDARD
TZOFFSETFROM:-0500
TZOFFSETTO:-0600
TZNAME:CST
DTSTART:20221106T070000
END:STANDARD
BEGIN:DAYLIGHT
TZOFFSETFROM:-0600
TZOFFSETTO:-0500
TZNAME:CDT
DTSTART:20230312T080000
END:DAYLIGHT
BEGIN:STANDARD
TZOFFSETFROM:-0500
TZOFFSETTO:-0600
TZNAME:CST
DTSTART:20231105T070000
END:STANDARD
END:VTIMEZONE
BEGIN:VEVENT
DTSTART;TZID=America/Chicago:20221026T193000
DTEND;TZID=America/Chicago:20221026T213000
DTSTAMP:20260419T203143
CREATED:20220416T202640Z
LAST-MODIFIED:20221026T182502Z
UID:10013270-1666812600-1666819800@calendar.augsburg.edu
SUMMARY:Augsburg University Men's Soccer vs #24 St. Olaf College
DESCRIPTION:Augsburg University Men’s Soccer vs #24 St. Olaf College\nStreaming Video: https://portal.stretchinternet.com/augsburg/\n https://athletics.augsburg.edu/calendar.aspx?id=18959
URL:https://calendar.augsburg.edu/event/augsburg-university-mens-soccer-vs-st-olaf-college-2/
LOCATION:Minneapolis\, Edor Nelson Field
CATEGORIES:Athletics
END:VEVENT
BEGIN:VEVENT
DTSTART;TZID=America/Chicago:20221025T193000
DTEND;TZID=America/Chicago:20221025T213000
DTSTAMP:20260419T203143
CREATED:20220430T222625Z
LAST-MODIFIED:20221025T182631Z
UID:10013390-1666726200-1666733400@calendar.augsburg.edu
SUMMARY:Augsburg University Women's Soccer vs St. Olaf College
DESCRIPTION:Augsburg University Women’s Soccer vs St. Olaf College\nStreaming Video: https://portal.stretchinternet.com/augsburg/\n https://athletics.augsburg.edu/calendar.aspx?id=19070
URL:https://calendar.augsburg.edu/event/augsburg-university-womens-soccer-vs-st-olaf-college-2/
LOCATION:Minneapolis\, Edor Nelson Field
CATEGORIES:Athletics
END:VEVENT
BEGIN:VEVENT
DTSTART;TZID=America/Chicago:20221021T190000
DTEND;TZID=America/Chicago:20221021T210000
DTSTAMP:20260419T203143
CREATED:20220414T202553Z
LAST-MODIFIED:20221021T182809Z
UID:10013259-1666378800-1666386000@calendar.augsburg.edu
SUMMARY:Augsburg University Men's Soccer vs University of Wisconsin-Whitewater
DESCRIPTION:Augsburg University Men’s Soccer vs University of Wisconsin-Whitewater\nStreaming Video: https://portal.stretchinternet.com/augsburg/\n https://athletics.augsburg.edu/calendar.aspx?id=18958
URL:https://calendar.augsburg.edu/event/augsburg-university-mens-soccer-vs-university-of-wisconsin-whitewater/
LOCATION:Minneapolis\, Edor Nelson Field
CATEGORIES:Athletics
END:VEVENT
BEGIN:VEVENT
DTSTART;TZID=America/Chicago:20221012T193000
DTEND;TZID=America/Chicago:20221012T213000
DTSTAMP:20260419T203143
CREATED:20220427T222537Z
LAST-MODIFIED:20221012T192428Z
UID:10013340-1665603000-1665610200@calendar.augsburg.edu
SUMMARY:Augsburg University Women's Soccer vs Gustavus Adolphus College
DESCRIPTION:Augsburg University Women’s Soccer vs Gustavus Adolphus College\nStreaming Video: https://portal.stretchinternet.com/augsburg/\nTickets: https://athletics.augsburg.edu/sports/2022/9/26/tickets.aspx\n https://athletics.augsburg.edu/calendar.aspx?id=19067
URL:https://calendar.augsburg.edu/event/augsburg-university-womens-soccer-vs-gustavus-adolphus-college-2/
LOCATION:Minneapolis\, Edor Nelson Field
CATEGORIES:Athletics
END:VEVENT
BEGIN:VEVENT
DTSTART;TZID=America/Chicago:20221011T193000
DTEND;TZID=America/Chicago:20221011T213000
DTSTAMP:20260419T203143
CREATED:20220411T202608Z
LAST-MODIFIED:20221011T192428Z
UID:10013231-1665516600-1665523800@calendar.augsburg.edu
SUMMARY:Augsburg University Men's Soccer vs #8 Gustavus Adolphus College
DESCRIPTION:Augsburg University Men’s Soccer vs #8 Gustavus Adolphus College\nStreaming Video: https://portal.stretchinternet.com/augsburg/\nTickets: https://athletics.augsburg.edu/sports/2022/9/26/tickets.aspx\n https://athletics.augsburg.edu/calendar.aspx?id=18955
URL:https://calendar.augsburg.edu/event/augsburg-university-mens-soccer-vs-gustavus-adolphus-college-2/
LOCATION:Minneapolis\, Edor Nelson Field
CATEGORIES:Athletics
END:VEVENT
BEGIN:VEVENT
DTSTART;TZID=America/Chicago:20221008T130000
DTEND;TZID=America/Chicago:20221008T160000
DTSTAMP:20260419T203143
CREATED:20220411T202608Z
LAST-MODIFIED:20221008T192746Z
UID:10013229-1665234000-1665244800@calendar.augsburg.edu
SUMMARY:Augsburg University Football vs #6/8 Saint John's University
DESCRIPTION:Augsburg University Football vs #6/8 Saint John’s University\nStreaming Video: https://portal.stretchinternet.com/augsburg/\n https://athletics.augsburg.edu/calendar.aspx?id=18970
URL:https://calendar.augsburg.edu/event/augsburg-university-football-vs-saint-johns-university-2/
LOCATION:Minneapolis\, Edor Nelson Field
CATEGORIES:Athletics
END:VEVENT
BEGIN:VEVENT
DTSTART;TZID=America/Chicago:20221005T193000
DTEND;TZID=America/Chicago:20221005T213000
DTSTAMP:20260419T203143
CREATED:20220427T222528Z
LAST-MODIFIED:20221005T182427Z
UID:10013335-1664998200-1665005400@calendar.augsburg.edu
SUMMARY:Augsburg University Women's Soccer vs University of Wisconsin-Eau Claire
DESCRIPTION:Augsburg University Women’s Soccer vs University of Wisconsin-Eau Claire\nStreaming Video: https://portal.stretchinternet.com/augsburg/\n https://athletics.augsburg.edu/calendar.aspx?id=19065
URL:https://calendar.augsburg.edu/event/augsburg-university-womens-soccer-vs-university-of-wisconsin-eau-claire-2/
LOCATION:Minneapolis\, Edor Nelson Field
CATEGORIES:Athletics
END:VEVENT
BEGIN:VEVENT
DTSTART;TZID=America/Chicago:20221004T193000
DTEND;TZID=America/Chicago:20221004T213000
DTSTAMP:20260419T203143
CREATED:20220411T202608Z
LAST-MODIFIED:20221004T182423Z
UID:10013228-1664911800-1664919000@calendar.augsburg.edu
SUMMARY:Augsburg University Men's Soccer vs #23 University of Wisconsin-Eau Claire
DESCRIPTION:Augsburg University Men’s Soccer vs #23 University of Wisconsin-Eau Claire\nStreaming Video: https://portal.stretchinternet.com/augsburg/\n https://athletics.augsburg.edu/calendar.aspx?id=18953
URL:https://calendar.augsburg.edu/event/augsburg-university-mens-soccer-vs-university-of-wisconsin-eau-claire/
LOCATION:Minneapolis\, Edor Nelson Field
CATEGORIES:Athletics
END:VEVENT
BEGIN:VEVENT
DTSTART;TZID=America/Chicago:20221001T153000
DTEND;TZID=America/Chicago:20221001T173000
DTSTAMP:20260419T203143
CREATED:20220410T202722Z
LAST-MODIFIED:20221001T172435Z
UID:10013226-1664638200-1664645400@calendar.augsburg.edu
SUMMARY:Augsburg University Men's Soccer vs Saint John's University
DESCRIPTION:Augsburg University Men’s Soccer vs Saint John’s University\nStreaming Video: https://portal.stretchinternet.com/augsburg/\n https://athletics.augsburg.edu/calendar.aspx?id=18952
URL:https://calendar.augsburg.edu/event/augsburg-university-mens-soccer-vs-saint-johns-university-22/
LOCATION:Minneapolis\, Edor Nelson Field
CATEGORIES:Athletics
END:VEVENT
BEGIN:VEVENT
DTSTART;TZID=America/Chicago:20221001T130000
DTEND;TZID=America/Chicago:20221001T150000
DTSTAMP:20260419T203143
CREATED:20220427T222526Z
LAST-MODIFIED:20221001T172456Z
UID:10013332-1664629200-1664636400@calendar.augsburg.edu
SUMMARY:Augsburg University Women's Soccer vs College of Saint Benedict
DESCRIPTION:Augsburg University Women’s Soccer vs College of Saint Benedict\nStreaming Video: https://portal.stretchinternet.com/augsburg/\n https://athletics.augsburg.edu/calendar.aspx?id=19064
URL:https://calendar.augsburg.edu/event/augsburg-university-womens-soccer-vs-college-of-saint-benedict-3/
LOCATION:Minneapolis\, Edor Nelson Field
CATEGORIES:Athletics
END:VEVENT
BEGIN:VEVENT
DTSTART;TZID=America/Chicago:20220928T193000
DTEND;TZID=America/Chicago:20220928T213000
DTSTAMP:20260419T203143
CREATED:20220410T202722Z
LAST-MODIFIED:20220928T135009Z
UID:10013224-1664393400-1664400600@calendar.augsburg.edu
SUMMARY:Augsburg University Men's Soccer vs Carleton College
DESCRIPTION:Augsburg University Men’s Soccer vs Carleton College\nStreaming Video: https://portal.stretchinternet.com/augsburg/\n https://athletics.augsburg.edu/calendar.aspx?id=18951
URL:https://calendar.augsburg.edu/event/augsburg-university-mens-soccer-vs-carleton-college-2/
LOCATION:Minneapolis\, Edor Nelson Field
CATEGORIES:Athletics
END:VEVENT
BEGIN:VEVENT
DTSTART;TZID=America/Chicago:20220927T193000
DTEND;TZID=America/Chicago:20220927T213000
DTSTAMP:20260419T203143
CREATED:20220427T222524Z
LAST-MODIFIED:20220922T182432Z
UID:10013330-1664307000-1664314200@calendar.augsburg.edu
SUMMARY:Augsburg University Women's Soccer vs Carleton College
DESCRIPTION:Augsburg University Women’s Soccer vs Carleton College\nStreaming Video: https://portal.stretchinternet.com/augsburg/\n https://athletics.augsburg.edu/calendar.aspx?id=19063
URL:https://calendar.augsburg.edu/event/augsburg-university-womens-soccer-vs-carleton-college-2/
LOCATION:Minneapolis\, Edor Nelson Field
CATEGORIES:Athletics
END:VEVENT
BEGIN:VEVENT
DTSTART;TZID=America/Chicago:20220924T130000
DTEND;TZID=America/Chicago:20220924T160000
DTSTAMP:20260419T203143
CREATED:20220410T202721Z
LAST-MODIFIED:20220922T182432Z
UID:10013222-1664024400-1664035200@calendar.augsburg.edu
SUMMARY:Augsburg University Football vs College of St. Scholastica
DESCRIPTION:Augsburg University Football vs College of St. Scholastica\nStreaming Video: https://portal.stretchinternet.com/augsburg/\n https://athletics.augsburg.edu/calendar.aspx?id=18968
URL:https://calendar.augsburg.edu/event/augsburg-university-football-vs-college-of-st-scholastica/
LOCATION:Minneapolis\, Edor Nelson Field
CATEGORIES:Athletics
END:VEVENT
BEGIN:VEVENT
DTSTART;TZID=America/Chicago:20220921T193000
DTEND;TZID=America/Chicago:20220921T213000
DTSTAMP:20260419T203143
CREATED:20220427T222523Z
LAST-MODIFIED:20220921T172427Z
UID:10013325-1663788600-1663795800@calendar.augsburg.edu
SUMMARY:Augsburg University Women's Soccer vs #6 Wartburg College
DESCRIPTION:Augsburg University Women’s Soccer vs #6 Wartburg College\nStreaming Video: https://portal.stretchinternet.com/augsburg/\n https://athletics.augsburg.edu/calendar.aspx?id=19061
URL:https://calendar.augsburg.edu/event/augsburg-university-womens-soccer-vs-wartburg-college-2/
LOCATION:Minneapolis\, Edor Nelson Field
CATEGORIES:Athletics
END:VEVENT
BEGIN:VEVENT
DTSTART;TZID=America/Chicago:20220914T193000
DTEND;TZID=America/Chicago:20220914T213000
DTSTAMP:20260419T203143
CREATED:20220427T222516Z
LAST-MODIFIED:20220914T172423Z
UID:10013322-1663183800-1663191000@calendar.augsburg.edu
SUMMARY:Augsburg University Women's Soccer vs Hamline University
DESCRIPTION:Augsburg University Women’s Soccer vs Hamline University\nStreaming Video: https://portal.stretchinternet.com/augsburg/\n https://athletics.augsburg.edu/calendar.aspx?id=19059
URL:https://calendar.augsburg.edu/event/augsburg-university-womens-soccer-vs-hamline-university-2/
LOCATION:Minneapolis\, Edor Nelson Field
CATEGORIES:Athletics
END:VEVENT
BEGIN:VEVENT
DTSTART;TZID=America/Chicago:20220913T193000
DTEND;TZID=America/Chicago:20220913T213000
DTSTAMP:20260419T203143
CREATED:20220403T202656Z
LAST-MODIFIED:20220913T172751Z
UID:10013187-1663097400-1663104600@calendar.augsburg.edu
SUMMARY:Augsburg University Men's Soccer vs Hamline University
DESCRIPTION:Augsburg University Men’s Soccer vs Hamline University\nStreaming Video: https://portal.stretchinternet.com/augsburg/\n https://athletics.augsburg.edu/calendar.aspx?id=18947
URL:https://calendar.augsburg.edu/event/augsburg-university-mens-soccer-vs-hamline-university-3/
LOCATION:Minneapolis\, Edor Nelson Field
CATEGORIES:Athletics
END:VEVENT
BEGIN:VEVENT
DTSTART;TZID=America/Chicago:20220910T150000
DTEND;TZID=America/Chicago:20220910T170000
DTSTAMP:20260419T203143
CREATED:20220427T222515Z
LAST-MODIFIED:20220910T172432Z
UID:10013320-1662822000-1662829200@calendar.augsburg.edu
SUMMARY:Augsburg University Women's Soccer vs University of Wisconsin-Whitewater
DESCRIPTION:Augsburg University Women’s Soccer vs University of Wisconsin-Whitewater\nStreaming Video: https://portal.stretchinternet.com/augsburg/\n https://athletics.augsburg.edu/calendar.aspx?id=19058
URL:https://calendar.augsburg.edu/event/augsburg-university-womens-soccer-vs-university-of-wisconsin-whitewater/
LOCATION:Minneapolis\, Edor Nelson Field
CATEGORIES:Athletics
END:VEVENT
BEGIN:VEVENT
DTSTART;TZID=America/Chicago:20220905T150000
DTEND;TZID=America/Chicago:20220905T170000
DTSTAMP:20260419T203143
CREATED:20220403T202656Z
LAST-MODIFIED:20220904T232427Z
UID:10013185-1662390000-1662397200@calendar.augsburg.edu
SUMMARY:Augsburg University Men's Soccer vs University of Minnesota Morris
DESCRIPTION:Augsburg University Men’s Soccer vs University of Minnesota Morris\nStreaming Video: https://portal.stretchinternet.com/augsburg/\n https://athletics.augsburg.edu/calendar.aspx?id=18945
URL:https://calendar.augsburg.edu/event/augsburg-university-mens-soccer-vs-university-of-minnesota-morris-2/
LOCATION:Minneapolis\, Edor Nelson Field
CATEGORIES:Athletics
END:VEVENT
BEGIN:VEVENT
DTSTART;TZID=America/Chicago:20220903T190000
DTEND;TZID=America/Chicago:20220903T210000
DTSTAMP:20260419T203143
CREATED:20220403T202652Z
LAST-MODIFIED:20220903T232426Z
UID:10013184-1662231600-1662238800@calendar.augsburg.edu
SUMMARY:Augsburg University Men's Soccer vs Central College
DESCRIPTION:Augsburg University Men’s Soccer vs Central College\nStreaming Video: https://portal.stretchinternet.com/augsburg/\n https://athletics.augsburg.edu/calendar.aspx?id=18944
URL:https://calendar.augsburg.edu/event/augsburg-university-mens-soccer-vs-central-college/
LOCATION:Minneapolis\, Edor Nelson Field
CATEGORIES:Athletics
END:VEVENT
BEGIN:VEVENT
DTSTART;TZID=America/Chicago:20220901T193000
DTEND;TZID=America/Chicago:20220901T213000
DTSTAMP:20260419T203143
CREATED:20220402T202808Z
LAST-MODIFIED:20220901T232422Z
UID:10013182-1662060600-1662067800@calendar.augsburg.edu
SUMMARY:Augsburg University Men's Soccer vs University of Wisconsin-Superior
DESCRIPTION:Augsburg University Men’s Soccer vs University of Wisconsin-Superior\nStreaming Video: https://portal.stretchinternet.com/augsburg/\n https://athletics.augsburg.edu/calendar.aspx?id=18943
URL:https://calendar.augsburg.edu/event/augsburg-university-mens-soccer-vs-university-of-wisconsin-superior-2/
LOCATION:Minneapolis\, Edor Nelson Field
CATEGORIES:Athletics
END:VEVENT
BEGIN:VEVENT
DTSTART;TZID=America/Chicago:20220826T200000
DTEND;TZID=America/Chicago:20220826T220000
DTSTAMP:20260419T203143
CREATED:20220809T212422Z
LAST-MODIFIED:20220826T232435Z
UID:10013792-1661544000-1661551200@calendar.augsburg.edu
SUMMARY:Augsburg University Men's Soccer vs Minneapolis City SC Scrimmage
DESCRIPTION:Augsburg University Men’s Soccer vs Minneapolis City SC Scrimmage\n https://athletics.augsburg.edu/calendar.aspx?id=19305
URL:https://calendar.augsburg.edu/event/augsburg-university-mens-soccer-vs-minneapolis-city-sc-scrimmage/
LOCATION:Minneapolis\, Edor Nelson Field
CATEGORIES:Athletics
END:VEVENT
BEGIN:VEVENT
DTSTART;TZID=America/Chicago:20220826T173000
DTEND;TZID=America/Chicago:20220826T193000
DTSTAMP:20260419T203143
CREATED:20220809T212422Z
LAST-MODIFIED:20220826T232435Z
UID:10013791-1661535000-1661542200@calendar.augsburg.edu
SUMMARY:Augsburg University Women's Soccer vs Bethany Lutheran College Scrimmage
DESCRIPTION:Augsburg University Women’s Soccer vs Bethany Lutheran College Scrimmage\n https://athletics.augsburg.edu/calendar.aspx?id=19303
URL:https://calendar.augsburg.edu/event/augsburg-university-womens-soccer-vs-bethany-lutheran-college-scrimmage/
LOCATION:Minneapolis\, Edor Nelson Field
CATEGORIES:Athletics
END:VEVENT
BEGIN:VEVENT
DTSTART;TZID=America/Chicago:20220503T150000
DTEND;TZID=America/Chicago:20220503T170000
DTSTAMP:20260419T203143
CREATED:20220413T202543Z
LAST-MODIFIED:20220501T222438Z
UID:10013239-1651590000-1651597200@calendar.augsburg.edu
SUMMARY:Augsburg University Softball vs Concordia College-Moorhead
DESCRIPTION:Augsburg University Softball vs Concordia College-Moorhead\nStreaming Video: https://portal.stretchinternet.com/augsburg/\n https://athletics.augsburg.edu/calendar.aspx?id=19036
URL:https://calendar.augsburg.edu/event/augsburg-university-softball-vs-concordia-college-moorhead-7/
LOCATION:Minneapolis\, Edor Nelson Field
CATEGORIES:Athletics
END:VEVENT
BEGIN:VEVENT
DTSTART;TZID=America/Chicago:20220503T130000
DTEND;TZID=America/Chicago:20220503T150000
DTSTAMP:20260419T203143
CREATED:20220413T202543Z
LAST-MODIFIED:20220501T222438Z
UID:10013238-1651582800-1651590000@calendar.augsburg.edu
SUMMARY:Augsburg University Softball vs Concordia College-Moorhead
DESCRIPTION:Augsburg University Softball vs Concordia College-Moorhead\nStreaming Video: https://portal.stretchinternet.com/augsburg/\n https://athletics.augsburg.edu/calendar.aspx?id=19035
URL:https://calendar.augsburg.edu/event/augsburg-university-softball-vs-concordia-college-moorhead-6/
LOCATION:Minneapolis\, Edor Nelson Field
CATEGORIES:Athletics
END:VEVENT
BEGIN:VEVENT
DTSTART;TZID=America/Chicago:20220502T170000
DTEND;TZID=America/Chicago:20220502T190000
DTSTAMP:20260419T203143
CREATED:20220430T222428Z
LAST-MODIFIED:20220501T222427Z
UID:10013388-1651510800-1651518000@calendar.augsburg.edu
SUMMARY:Augsburg University Softball vs Hamline University
DESCRIPTION:Augsburg University Softball vs Hamline University\nStreaming Video: https://portal.stretchinternet.com/augsburg/\n https://athletics.augsburg.edu/calendar.aspx?id=19113
URL:https://calendar.augsburg.edu/event/augsburg-university-softball-vs-hamline-university-8/
LOCATION:Minneapolis\, Edor Nelson Field
CATEGORIES:Athletics
END:VEVENT
BEGIN:VEVENT
DTSTART;TZID=America/Chicago:20220502T150000
DTEND;TZID=America/Chicago:20220502T170000
DTSTAMP:20260419T203143
CREATED:20220430T222428Z
LAST-MODIFIED:20220501T222427Z
UID:10013387-1651503600-1651510800@calendar.augsburg.edu
SUMMARY:Augsburg University Softball vs Hamline University
DESCRIPTION:Augsburg University Softball vs Hamline University\nStreaming Video: https://portal.stretchinternet.com/augsburg/\n https://athletics.augsburg.edu/calendar.aspx?id=19114
URL:https://calendar.augsburg.edu/event/augsburg-university-softball-vs-hamline-university-7/
LOCATION:Minneapolis\, Edor Nelson Field
CATEGORIES:Athletics
END:VEVENT
BEGIN:VEVENT
DTSTART;TZID=America/Chicago:20220501T150000
DTEND;TZID=America/Chicago:20220501T170000
DTSTAMP:20260419T203143
CREATED:20220415T202532Z
LAST-MODIFIED:20220430T222428Z
UID:10013267-1651417200-1651424400@calendar.augsburg.edu
SUMMARY:POSTPONED Augsburg University Softball vs Hamline University
DESCRIPTION:POSTPONED Augsburg University Softball vs Hamline University\nStreaming Video: https://portal.stretchinternet.com/augsburg/\n https://athletics.augsburg.edu/calendar.aspx?id=19042
URL:https://calendar.augsburg.edu/event/augsburg-university-softball-vs-hamline-university-6/
LOCATION:Minneapolis\, Edor Nelson Field
CATEGORIES:Athletics
END:VEVENT
BEGIN:VEVENT
DTSTART;TZID=America/Chicago:20220501T130000
DTEND;TZID=America/Chicago:20220501T150000
DTSTAMP:20260419T203143
CREATED:20220415T202531Z
LAST-MODIFIED:20220430T222427Z
UID:10013266-1651410000-1651417200@calendar.augsburg.edu
SUMMARY:POSTPONED Augsburg University Softball vs Hamline University
DESCRIPTION:POSTPONED Augsburg University Softball vs Hamline University\nStreaming Video: https://portal.stretchinternet.com/augsburg/\n https://athletics.augsburg.edu/calendar.aspx?id=19041
URL:https://calendar.augsburg.edu/event/augsburg-university-softball-vs-hamline-university-5/
LOCATION:Minneapolis\, Edor Nelson Field
CATEGORIES:Athletics
END:VEVENT
BEGIN:VEVENT
DTSTART;TZID=America/Chicago:20220429T190000
DTEND;TZID=America/Chicago:20220429T220000
DTSTAMP:20260419T203143
CREATED:20220308T194946Z
LAST-MODIFIED:20220429T222442Z
UID:10012945-1651258800-1651269600@calendar.augsburg.edu
SUMMARY:Augsburg University Women's Lacrosse vs University of Northwestern-St. Paul
DESCRIPTION:Augsburg University Women’s Lacrosse vs University of Northwestern-St. Paul\nStreaming Video: https://portal.stretchinternet.com/augsburg/\n https://athletics.augsburg.edu/calendar.aspx?id=18806
URL:https://calendar.augsburg.edu/event/augsburg-university-womens-lacrosse-vs-university-of-northwestern-st-paul/
LOCATION:Minneapolis\, Edor Nelson Field
CATEGORIES:Athletics
END:VEVENT
BEGIN:VEVENT
DTSTART;TZID=America/Chicago:20220419T173000
DTEND;TZID=America/Chicago:20220419T193000
DTSTAMP:20260419T203143
CREATED:20220301T193945Z
LAST-MODIFIED:20220419T212426Z
UID:10012895-1650389400-1650396600@calendar.augsburg.edu
SUMMARY:Augsburg University Softball vs St. Olaf College
DESCRIPTION:Augsburg University Softball vs St. Olaf College\nStreaming Video: https://portal.stretchinternet.com/augsburg/\n https://athletics.augsburg.edu/calendar.aspx?id=18841
URL:https://calendar.augsburg.edu/event/augsburg-university-softball-vs-st-olaf-college-4/
LOCATION:Minneapolis\, Edor Nelson Field
CATEGORIES:Athletics
END:VEVENT
END:VCALENDAR