BEGIN:VCALENDAR
VERSION:2.0
PRODID:-//University Calendar - ECPv6.15.16//NONSGML v1.0//EN
CALSCALE:GREGORIAN
METHOD:PUBLISH
X-ORIGINAL-URL:https://calendar.augsburg.edu
X-WR-CALDESC:Events for University Calendar
REFRESH-INTERVAL;VALUE=DURATION:PT1H
X-Robots-Tag:noindex
X-PUBLISHED-TTL:PT1H
BEGIN:VTIMEZONE
TZID:America/Chicago
BEGIN:DAYLIGHT
TZOFFSETFROM:-0600
TZOFFSETTO:-0500
TZNAME:CDT
DTSTART:20210314T080000
END:DAYLIGHT
BEGIN:STANDARD
TZOFFSETFROM:-0500
TZOFFSETTO:-0600
TZNAME:CST
DTSTART:20211107T070000
END:STANDARD
BEGIN:DAYLIGHT
TZOFFSETFROM:-0600
TZOFFSETTO:-0500
TZNAME:CDT
DTSTART:20220313T080000
END:DAYLIGHT
BEGIN:STANDARD
TZOFFSETFROM:-0500
TZOFFSETTO:-0600
TZNAME:CST
DTSTART:20221106T070000
END:STANDARD
BEGIN:DAYLIGHT
TZOFFSETFROM:-0600
TZOFFSETTO:-0500
TZNAME:CDT
DTSTART:20230312T080000
END:DAYLIGHT
BEGIN:STANDARD
TZOFFSETFROM:-0500
TZOFFSETTO:-0600
TZNAME:CST
DTSTART:20231105T070000
END:STANDARD
BEGIN:DAYLIGHT
TZOFFSETFROM:-0600
TZOFFSETTO:-0500
TZNAME:CDT
DTSTART:20240310T080000
END:DAYLIGHT
BEGIN:STANDARD
TZOFFSETFROM:-0500
TZOFFSETTO:-0600
TZNAME:CST
DTSTART:20241103T070000
END:STANDARD
END:VTIMEZONE
BEGIN:VEVENT
DTSTART;TZID=America/Chicago:20230419T190000
DTEND;TZID=America/Chicago:20230419T220000
DTSTAMP:20260419T151628
CREATED:20230304T212835Z
LAST-MODIFIED:20230419T162449Z
UID:10016350-1681930800-1681941600@calendar.augsburg.edu
SUMMARY:POSTPONED Augsburg University Women's Lacrosse vs Hamline University
DESCRIPTION:POSTPONED Augsburg University Women’s Lacrosse vs Hamline University\nStreaming Video: https://portal.stretchinternet.com/augsburg/\n https://athletics.augsburg.edu/calendar.aspx?game_id=19196&sport_id=29
URL:https://calendar.augsburg.edu/event/augsburg-university-womens-lacrosse-vs-hamline-university/
LOCATION:Minneapolis\, Edor Nelson Field
CATEGORIES:Athletics
END:VEVENT
BEGIN:VEVENT
DTSTART;TZID=America/Chicago:20230415T160000
DTEND;TZID=America/Chicago:20230415T180000
DTSTAMP:20260419T151628
CREATED:20230226T202820Z
LAST-MODIFIED:20230415T162525Z
UID:10016284-1681574400-1681581600@calendar.augsburg.edu
SUMMARY:Augsburg University Softball vs Concordia College-Moorhead
DESCRIPTION:Augsburg University Softball vs Concordia College-Moorhead\nStreaming Video: https://portal.stretchinternet.com/augsburg/\n https://athletics.augsburg.edu/calendar.aspx?game_id=19389&sport_id=10
URL:https://calendar.augsburg.edu/event/augsburg-university-softball-at-concordia-college-moorhead/
LOCATION:Minneapolis\, Edor Nelson Field
CATEGORIES:Athletics
END:VEVENT
BEGIN:VEVENT
DTSTART;TZID=America/Chicago:20230415T140000
DTEND;TZID=America/Chicago:20230415T160000
DTSTAMP:20260419T151628
CREATED:20230226T202820Z
LAST-MODIFIED:20230415T162525Z
UID:10016285-1681567200-1681574400@calendar.augsburg.edu
SUMMARY:Augsburg University Softball vs Concordia College-Moorhead
DESCRIPTION:Augsburg University Softball vs Concordia College-Moorhead\nStreaming Video: https://portal.stretchinternet.com/augsburg/\n https://athletics.augsburg.edu/calendar.aspx?game_id=19388&sport_id=10
URL:https://calendar.augsburg.edu/event/augsburg-university-softball-at-concordia-college-moorhead-2/
LOCATION:Minneapolis\, Edor Nelson Field
CATEGORIES:Athletics
END:VEVENT
BEGIN:VEVENT
DTSTART;TZID=America/Chicago:20230414T190000
DTEND;TZID=America/Chicago:20230414T220000
DTSTAMP:20260419T151628
CREATED:20230225T202808Z
LAST-MODIFIED:20230414T162431Z
UID:10016281-1681498800-1681509600@calendar.augsburg.edu
SUMMARY:Augsburg University Women's Lacrosse vs Northern Michigan University
DESCRIPTION:Augsburg University Women’s Lacrosse vs Northern Michigan University\nStreaming Video: https://portal.stretchinternet.com/augsburg/\n https://athletics.augsburg.edu/calendar.aspx?game_id=19494&sport_id=29
URL:https://calendar.augsburg.edu/event/augsburg-university-womens-lacrosse-vs-northern-michigan-university/
LOCATION:Minneapolis\, Edor Nelson Field
CATEGORIES:Athletics
END:VEVENT
BEGIN:VEVENT
DTSTART;TZID=America/Chicago:20230412T170000
DTEND;TZID=America/Chicago:20230412T200000
DTSTAMP:20260419T151628
CREATED:20230219T192536Z
LAST-MODIFIED:20230412T232425Z
UID:10016190-1681318800-1681329600@calendar.augsburg.edu
SUMMARY:Augsburg University Women's Lacrosse vs Wartburg College
DESCRIPTION:Augsburg University Women’s Lacrosse vs Wartburg College\nStreaming Video: https://portal.stretchinternet.com/augsburg/\n https://athletics.augsburg.edu/calendar.aspx?game_id=19195&sport_id=29
URL:https://calendar.augsburg.edu/event/augsburg-university-womens-lacrosse-vs-wartburg-college-2/
LOCATION:Minneapolis\, Edor Nelson Field
CATEGORIES:Athletics
END:VEVENT
BEGIN:VEVENT
DTSTART;TZID=America/Chicago:20230411T173000
DTEND;TZID=America/Chicago:20230411T193000
DTSTAMP:20260419T151628
CREATED:20230219T192536Z
LAST-MODIFIED:20230411T232432Z
UID:10016187-1681234200-1681241400@calendar.augsburg.edu
SUMMARY:POSTPONED Augsburg University Softball vs College of St. Scholastica
DESCRIPTION:POSTPONED Augsburg University Softball vs College of St. Scholastica\nStreaming Video: https://portal.stretchinternet.com/augsburg/\n https://athletics.augsburg.edu/calendar.aspx?game_id=19387&sport_id=10
URL:https://calendar.augsburg.edu/event/augsburg-university-softball-vs-college-of-st-scholastica-2/
LOCATION:Minneapolis\, Edor Nelson Field
CATEGORIES:Athletics
END:VEVENT
BEGIN:VEVENT
DTSTART;TZID=America/Chicago:20230411T153000
DTEND;TZID=America/Chicago:20230411T173000
DTSTAMP:20260419T151628
CREATED:20230219T192536Z
LAST-MODIFIED:20230410T232429Z
UID:10016186-1681227000-1681234200@calendar.augsburg.edu
SUMMARY:Augsburg University Softball vs College of St. Scholastica
DESCRIPTION:Augsburg University Softball vs College of St. Scholastica\nStreaming Video: https://portal.stretchinternet.com/augsburg/\n https://athletics.augsburg.edu/calendar.aspx?game_id=19386&sport_id=10
URL:https://calendar.augsburg.edu/event/augsburg-university-softball-vs-college-of-st-scholastica/
LOCATION:Minneapolis\, Edor Nelson Field
CATEGORIES:Athletics
END:VEVENT
BEGIN:VEVENT
DTSTART;TZID=America/Chicago:20230405T173000
DTEND;TZID=America/Chicago:20230405T193000
DTSTAMP:20260419T151628
CREATED:20230213T182522Z
LAST-MODIFIED:20230405T232429Z
UID:10016121-1680715800-1680723000@calendar.augsburg.edu
SUMMARY:Augsburg University Softball vs Macalester College
DESCRIPTION:Augsburg University Softball vs Macalester College\nStreaming Video: https://portal.stretchinternet.com/augsburg/\n https://athletics.augsburg.edu/calendar.aspx?game_id=19383&sport_id=10
URL:https://calendar.augsburg.edu/event/augsburg-university-softball-vs-macalester-college-4/
LOCATION:Minneapolis\, Edor Nelson Field
CATEGORIES:Athletics
END:VEVENT
BEGIN:VEVENT
DTSTART;TZID=America/Chicago:20230405T153000
DTEND;TZID=America/Chicago:20230405T173000
DTSTAMP:20260419T151628
CREATED:20230213T182522Z
LAST-MODIFIED:20230404T232433Z
UID:10016120-1680708600-1680715800@calendar.augsburg.edu
SUMMARY:Augsburg University Softball vs Macalester College
DESCRIPTION:Augsburg University Softball vs Macalester College\nStreaming Video: https://portal.stretchinternet.com/augsburg/\n https://athletics.augsburg.edu/calendar.aspx?game_id=19382&sport_id=10
URL:https://calendar.augsburg.edu/event/augsburg-university-softball-vs-macalester-college-3/
LOCATION:Minneapolis\, Edor Nelson Field
CATEGORIES:Athletics
END:VEVENT
BEGIN:VEVENT
DTSTART;TZID=America/Chicago:20230402T150000
DTEND;TZID=America/Chicago:20230402T170000
DTSTAMP:20260419T151628
CREATED:20230213T182522Z
LAST-MODIFIED:20230401T232443Z
UID:10016117-1680447600-1680454800@calendar.augsburg.edu
SUMMARY:Augsburg University Softball vs St. Catherine University
DESCRIPTION:Augsburg University Softball vs St. Catherine University\nStreaming Video: https://portal.stretchinternet.com/augsburg/\n https://athletics.augsburg.edu/calendar.aspx?game_id=19381&sport_id=10
URL:https://calendar.augsburg.edu/event/augsburg-university-softball-vs-st-catherine-university-2/
LOCATION:Minneapolis\, Edor Nelson Field
CATEGORIES:Athletics
END:VEVENT
BEGIN:VEVENT
DTSTART;TZID=America/Chicago:20230402T130000
DTEND;TZID=America/Chicago:20230402T150000
DTSTAMP:20260419T151628
CREATED:20230213T182520Z
LAST-MODIFIED:20230401T232443Z
UID:10016116-1680440400-1680447600@calendar.augsburg.edu
SUMMARY:Augsburg University Softball vs St. Catherine University
DESCRIPTION:Augsburg University Softball vs St. Catherine University\nStreaming Video: https://portal.stretchinternet.com/augsburg/\n https://athletics.augsburg.edu/calendar.aspx?game_id=19380&sport_id=10
URL:https://calendar.augsburg.edu/event/augsburg-university-softball-vs-st-catherine-university/
LOCATION:Minneapolis\, Edor Nelson Field
CATEGORIES:Athletics
END:VEVENT
BEGIN:VEVENT
DTSTART;TZID=America/Chicago:20230330T180000
DTEND;TZID=America/Chicago:20230330T200000
DTSTAMP:20260419T151628
CREATED:20230205T162608Z
LAST-MODIFIED:20230330T232448Z
UID:10016059-1680199200-1680206400@calendar.augsburg.edu
SUMMARY:Augsburg University Softball vs North Central University (Minn.)
DESCRIPTION:Augsburg University Softball vs North Central University (Minn.)\nStreaming Video: https://portal.stretchinternet.com/augsburg/\n https://athletics.augsburg.edu/calendar.aspx?game_id=19377&sport_id=10
URL:https://calendar.augsburg.edu/event/augsburg-university-softball-vs-north-central-university-minn-4/
LOCATION:Minneapolis\, Edor Nelson Field
CATEGORIES:Athletics
END:VEVENT
BEGIN:VEVENT
DTSTART;TZID=America/Chicago:20230330T160000
DTEND;TZID=America/Chicago:20230330T180000
DTSTAMP:20260419T151628
CREATED:20230205T162608Z
LAST-MODIFIED:20230329T232628Z
UID:10016058-1680192000-1680199200@calendar.augsburg.edu
SUMMARY:Augsburg University Softball vs North Central University (Minn.)
DESCRIPTION:Augsburg University Softball vs North Central University (Minn.)\nStreaming Video: https://portal.stretchinternet.com/augsburg/\n https://athletics.augsburg.edu/calendar.aspx?sport_id=10
URL:https://calendar.augsburg.edu/event/augsburg-university-softball-vs-north-central-university-minn-3/
LOCATION:Minneapolis\, Edor Nelson Field
CATEGORIES:Athletics
END:VEVENT
BEGIN:VEVENT
DTSTART;TZID=America/Chicago:20230322T173000
DTEND;TZID=America/Chicago:20230322T193000
DTSTAMP:20260419T151628
CREATED:20230202T162537Z
LAST-MODIFIED:20230322T232440Z
UID:10016042-1679506200-1679513400@calendar.augsburg.edu
SUMMARY:Augsburg University Softball vs Northland College
DESCRIPTION:Augsburg University Softball vs Northland College\nStreaming Video: https://portal.stretchinternet.com/augsburg/\n https://athletics.augsburg.edu/calendar.aspx?sport_id=10
URL:https://calendar.augsburg.edu/event/augsburg-university-softball-vs-northland-college-4/
LOCATION:Minneapolis\, Edor Nelson Field
CATEGORIES:Athletics
END:VEVENT
BEGIN:VEVENT
DTSTART;TZID=America/Chicago:20230322T153000
DTEND;TZID=America/Chicago:20230322T173000
DTSTAMP:20260419T151628
CREATED:20230131T162553Z
LAST-MODIFIED:20230321T232427Z
UID:10016020-1679499000-1679506200@calendar.augsburg.edu
SUMMARY:Augsburg University Softball vs Northland College
DESCRIPTION:Augsburg University Softball vs Northland College\nStreaming Video: https://portal.stretchinternet.com/augsburg/\n https://athletics.augsburg.edu/calendar.aspx?sport_id=10
URL:https://calendar.augsburg.edu/event/augsburg-university-softball-vs-northland-college-3/
LOCATION:Minneapolis\, Edor Nelson Field
CATEGORIES:Athletics
END:VEVENT
BEGIN:VEVENT
DTSTART;TZID=America/Chicago:20230317T160000
DTEND;TZID=America/Chicago:20230317T190000
DTSTAMP:20260419T151628
CREATED:20230130T162532Z
LAST-MODIFIED:20230317T232429Z
UID:10016001-1679068800-1679079600@calendar.augsburg.edu
SUMMARY:Augsburg University Women's Lacrosse vs Marian University
DESCRIPTION:Augsburg University Women’s Lacrosse vs Marian University\nW 11-10\nStreaming Video: https://portal.stretchinternet.com/augsburg/\n https://athletics.augsburg.edu/calendar.aspx?sport_id=29
URL:https://calendar.augsburg.edu/event/augsburg-university-womens-lacrosse-vs-marian-university/
LOCATION:Minneapolis\, Edor Nelson Field
CATEGORIES:Athletics
END:VEVENT
BEGIN:VEVENT
DTSTART;TZID=America/Chicago:20230313T160000
DTEND;TZID=America/Chicago:20230313T190000
DTSTAMP:20260419T151628
CREATED:20230125T162548Z
LAST-MODIFIED:20230313T232430Z
UID:10015944-1678723200-1678734000@calendar.augsburg.edu
SUMMARY:Augsburg University Women's Lacrosse vs University of Wisconsin-Eau Claire
DESCRIPTION:Augsburg University Women’s Lacrosse vs University of Wisconsin-Eau Claire\nL 5-18\nStreaming Video: https://portal.stretchinternet.com/augsburg/\n https://athletics.augsburg.edu/calendar.aspx?id=19466
URL:https://calendar.augsburg.edu/event/augsburg-university-womens-lacrosse-vs-university-of-wisconsin-eau-claire-2/
LOCATION:Minneapolis\, Edor Nelson Field
CATEGORIES:Athletics
END:VEVENT
BEGIN:VEVENT
DTSTART;TZID=America/Chicago:20230310T160000
DTEND;TZID=America/Chicago:20230310T190000
DTSTAMP:20260419T151628
CREATED:20230122T162532Z
LAST-MODIFIED:20230310T232453Z
UID:10015934-1678464000-1678474800@calendar.augsburg.edu
SUMMARY:Augsburg University Women's Lacrosse vs Alma College
DESCRIPTION:Augsburg University Women’s Lacrosse vs Alma College\nStreaming Video: https://portal.stretchinternet.com/augsburg/\n https://athletics.augsburg.edu/calendar.aspx?id=19187
URL:https://calendar.augsburg.edu/event/augsburg-university-womens-lacrosse-vs-alma-college/
LOCATION:Minneapolis\, Edor Nelson Field
CATEGORIES:Athletics
END:VEVENT
BEGIN:VEVENT
DTSTART;TZID=America/Chicago:20230304T143000
DTEND;TZID=America/Chicago:20230304T163000
DTSTAMP:20260419T151628
CREATED:20230107T222606Z
LAST-MODIFIED:20230304T212500Z
UID:10015716-1677940200-1677947400@calendar.augsburg.edu
SUMMARY:Augsburg University Softball vs University of Minnesota Morris
DESCRIPTION:Augsburg University Softball vs University of Minnesota Morris\nStreaming Video: https://portal.stretchinternet.com/augsburg/\n https://athletics.augsburg.edu/calendar.aspx?id=19372
URL:https://calendar.augsburg.edu/event/augsburg-university-softball-vs-university-of-minnesota-morris-2/
LOCATION:Minneapolis\, Edor Nelson Field
CATEGORIES:Athletics
END:VEVENT
BEGIN:VEVENT
DTSTART;TZID=America/Chicago:20230304T123000
DTEND;TZID=America/Chicago:20230304T143000
DTSTAMP:20260419T151628
CREATED:20230107T222606Z
LAST-MODIFIED:20230303T212551Z
UID:10015718-1677933000-1677940200@calendar.augsburg.edu
SUMMARY:Augsburg University Softball vs University of Minnesota Morris
DESCRIPTION:Augsburg University Softball vs University of Minnesota Morris\nStreaming Video: https://portal.stretchinternet.com/augsburg/\n https://athletics.augsburg.edu/calendar.aspx?id=19371
URL:https://calendar.augsburg.edu/event/augsburg-university-softball-vs-university-of-minnesota-morris-3/
LOCATION:Minneapolis\, Edor Nelson Field
CATEGORIES:Athletics
END:VEVENT
BEGIN:VEVENT
DTSTART;TZID=America/Chicago:20230304T103000
DTEND;TZID=America/Chicago:20230304T123000
DTSTAMP:20260419T151628
CREATED:20230108T222716Z
LAST-MODIFIED:20230303T212549Z
UID:10015719-1677925800-1677933000@calendar.augsburg.edu
SUMMARY:Augsburg University Softball vs University of Wisconsin-River Falls vs. Crown College
DESCRIPTION:Augsburg University Softball vs University of Wisconsin-River Falls vs. Crown College\nStreaming Video: https://portal.stretchinternet.com/augsburg/\n https://athletics.augsburg.edu/calendar.aspx?id=19407
URL:https://calendar.augsburg.edu/event/augsburg-university-softball-vs-university-of-wisconsin-river-falls-vs-crown-college/
LOCATION:Minneapolis\, Edor Nelson Field
CATEGORIES:Athletics
END:VEVENT
BEGIN:VEVENT
DTSTART;TZID=America/Chicago:20230304T083000
DTEND;TZID=America/Chicago:20230304T103000
DTSTAMP:20260419T151628
CREATED:20230108T222716Z
LAST-MODIFIED:20230303T212548Z
UID:10015720-1677918600-1677925800@calendar.augsburg.edu
SUMMARY:Augsburg University Softball vs University of Wisconsin-River Falls vs. Crown College
DESCRIPTION:Augsburg University Softball vs University of Wisconsin-River Falls vs. Crown College\nStreaming Video: https://portal.stretchinternet.com/augsburg/\n https://athletics.augsburg.edu/calendar.aspx?id=19406
URL:https://calendar.augsburg.edu/event/augsburg-university-softball-vs-university-of-wisconsin-river-falls-vs-crown-college-2/
LOCATION:Minneapolis\, Edor Nelson Field
CATEGORIES:Athletics
END:VEVENT
BEGIN:VEVENT
DTSTART;TZID=America/Chicago:20230303T193000
DTEND;TZID=America/Chicago:20230303T213000
DTSTAMP:20260419T151628
CREATED:20230114T233035Z
LAST-MODIFIED:20230303T212548Z
UID:10015858-1677871800-1677879000@calendar.augsburg.edu
SUMMARY:Augsburg University Softball vs Crown College
DESCRIPTION:Augsburg University Softball vs Crown College\nStreaming Video: https://portal.stretchinternet.com/augsburg/\n https://athletics.augsburg.edu/calendar.aspx?id=19370
URL:https://calendar.augsburg.edu/event/augsburg-university-softball-vs-crown-college-5/
LOCATION:Minneapolis\, Edor Nelson Field
CATEGORIES:Athletics
END:VEVENT
BEGIN:VEVENT
DTSTART;TZID=America/Chicago:20230303T173000
DTEND;TZID=America/Chicago:20230303T193000
DTSTAMP:20260419T151628
CREATED:20230114T233039Z
LAST-MODIFIED:20230303T212545Z
UID:10015859-1677864600-1677871800@calendar.augsburg.edu
SUMMARY:Augsburg University Softball vs Crown College
DESCRIPTION:Augsburg University Softball vs Crown College\nStreaming Video: https://portal.stretchinternet.com/augsburg/\n https://athletics.augsburg.edu/calendar.aspx?id=19369
URL:https://calendar.augsburg.edu/event/augsburg-university-softball-vs-crown-college-6/
LOCATION:Minneapolis\, Edor Nelson Field
CATEGORIES:Athletics
END:VEVENT
BEGIN:VEVENT
DTSTART;TZID=America/Chicago:20230303T153000
DTEND;TZID=America/Chicago:20230303T173000
DTSTAMP:20260419T151628
CREATED:20230107T222606Z
LAST-MODIFIED:20230303T212545Z
UID:10015715-1677857400-1677864600@calendar.augsburg.edu
SUMMARY:Augsburg University Softball vs University of Wisconsin-River Falls vs. University of Minnesota Morris
DESCRIPTION:Augsburg University Softball vs University of Wisconsin-River Falls vs. University of Minnesota Morris\nStreaming Video: https://portal.stretchinternet.com/augsburg/\n https://athletics.augsburg.edu/calendar.aspx?id=19405
URL:https://calendar.augsburg.edu/event/augsburg-university-softball-vs-university-of-wisconsin-river-falls-vs-university-of-minnesota-morris-2/
LOCATION:Minneapolis\, Edor Nelson Field
CATEGORIES:Athletics
END:VEVENT
BEGIN:VEVENT
DTSTART;TZID=America/Chicago:20230303T133000
DTEND;TZID=America/Chicago:20230303T153000
DTSTAMP:20260419T151628
CREATED:20221208T202511Z
LAST-MODIFIED:20230303T212545Z
UID:10015607-1677850200-1677857400@calendar.augsburg.edu
SUMMARY:Augsburg University Softball vs University of Wisconsin-River Falls vs. University of Minnesota Morris
DESCRIPTION:Augsburg University Softball vs University of Wisconsin-River Falls vs. University of Minnesota Morris\nStreaming Video: https://portal.stretchinternet.com/augsburg/\n https://athletics.augsburg.edu/calendar.aspx?id=19404
URL:https://calendar.augsburg.edu/event/augsburg-university-softball-vs-university-of-wisconsin-river-falls-vs-university-of-minnesota-morris/
LOCATION:Minneapolis\, Edor Nelson Field
CATEGORIES:Athletics
END:VEVENT
BEGIN:VEVENT
DTSTART;TZID=America/Chicago:20230301T163000
DTEND;TZID=America/Chicago:20230301T193000
DTSTAMP:20260419T151628
CREATED:20221208T202511Z
LAST-MODIFIED:20230301T202430Z
UID:10015606-1677688200-1677699000@calendar.augsburg.edu
SUMMARY:Augsburg University Women's Lacrosse vs University of Wisconsin-Stout
DESCRIPTION:Augsburg University Women’s Lacrosse vs University of Wisconsin-Stout\nStreaming Video: https://portal.stretchinternet.com/augsburg/\n https://athletics.augsburg.edu/calendar.aspx?id=19184
URL:https://calendar.augsburg.edu/event/augsburg-university-womens-lacrosse-vs-university-of-wisconsin-stout/
LOCATION:Minneapolis\, Edor Nelson Field
CATEGORIES:Athletics
END:VEVENT
BEGIN:VEVENT
DTSTART;TZID=America/Chicago:20230219T130000
DTEND;TZID=America/Chicago:20230219T160000
DTSTAMP:20260419T151628
CREATED:20221129T172517Z
LAST-MODIFIED:20230219T192427Z
UID:10015532-1676811600-1676822400@calendar.augsburg.edu
SUMMARY:Augsburg University Women's Lacrosse vs Carroll University
DESCRIPTION:Augsburg University Women’s Lacrosse vs Carroll University\nStreaming Video: https://portal.stretchinternet.com/augsburg/\n https://athletics.augsburg.edu/calendar.aspx?id=19183
URL:https://calendar.augsburg.edu/event/augsburg-university-womens-lacrosse-vs-carroll-university/
LOCATION:Minneapolis\, Edor Nelson Field
CATEGORIES:Athletics
END:VEVENT
BEGIN:VEVENT
DTSTART;TZID=America/Chicago:20221105T130000
DTEND;TZID=America/Chicago:20221105T160000
DTSTAMP:20260419T151628
CREATED:20220417T212740Z
LAST-MODIFIED:20221105T192500Z
UID:10013276-1667653200-1667664000@calendar.augsburg.edu
SUMMARY:Augsburg University Football vs #9/12 Bethel University
DESCRIPTION:Augsburg University Football vs #9/12 Bethel University\nStreaming Video: https://portal.stretchinternet.com/augsburg/\nTickets: https://athletics.augsburg.edu/sports/2022/9/26/tickets.aspx\n https://athletics.augsburg.edu/calendar.aspx?id=18973
URL:https://calendar.augsburg.edu/event/augsburg-university-football-vs-bethel-university/
LOCATION:Minneapolis\, Edor Nelson Field
CATEGORIES:Athletics
END:VEVENT
BEGIN:VEVENT
DTSTART;TZID=America/Chicago:20221029T130000
DTEND;TZID=America/Chicago:20221029T160000
DTSTAMP:20260419T151628
CREATED:20220416T202640Z
LAST-MODIFIED:20221028T195829Z
UID:10013271-1667048400-1667059200@calendar.augsburg.edu
SUMMARY:Augsburg University Football vs Concordia College-Moorhead
DESCRIPTION:Augsburg University Football vs Concordia College-Moorhead\nStreaming Video: https://portal.stretchinternet.com/augsburg/\n https://athletics.augsburg.edu/calendar.aspx?id=18972
URL:https://calendar.augsburg.edu/event/augsburg-university-football-vs-concordia-college-moorhead-2/
LOCATION:Minneapolis\, Edor Nelson Field
CATEGORIES:Athletics
END:VEVENT
END:VCALENDAR