BEGIN:VCALENDAR
VERSION:2.0
PRODID:-//University Calendar - ECPv6.15.16//NONSGML v1.0//EN
CALSCALE:GREGORIAN
METHOD:PUBLISH
X-WR-CALNAME:University Calendar
X-ORIGINAL-URL:https://calendar.augsburg.edu
X-WR-CALDESC:Events for University Calendar
REFRESH-INTERVAL;VALUE=DURATION:PT1H
X-Robots-Tag:noindex
X-PUBLISHED-TTL:PT1H
BEGIN:VTIMEZONE
TZID:America/Chicago
BEGIN:DAYLIGHT
TZOFFSETFROM:-0600
TZOFFSETTO:-0500
TZNAME:CDT
DTSTART:20180311T080000
END:DAYLIGHT
BEGIN:STANDARD
TZOFFSETFROM:-0500
TZOFFSETTO:-0600
TZNAME:CST
DTSTART:20181104T070000
END:STANDARD
BEGIN:DAYLIGHT
TZOFFSETFROM:-0600
TZOFFSETTO:-0500
TZNAME:CDT
DTSTART:20190310T080000
END:DAYLIGHT
BEGIN:STANDARD
TZOFFSETFROM:-0500
TZOFFSETTO:-0600
TZNAME:CST
DTSTART:20191103T070000
END:STANDARD
BEGIN:DAYLIGHT
TZOFFSETFROM:-0600
TZOFFSETTO:-0500
TZNAME:CDT
DTSTART:20200308T080000
END:DAYLIGHT
BEGIN:STANDARD
TZOFFSETFROM:-0500
TZOFFSETTO:-0600
TZNAME:CST
DTSTART:20201101T070000
END:STANDARD
BEGIN:DAYLIGHT
TZOFFSETFROM:-0600
TZOFFSETTO:-0500
TZNAME:CDT
DTSTART:20210314T080000
END:DAYLIGHT
BEGIN:STANDARD
TZOFFSETFROM:-0500
TZOFFSETTO:-0600
TZNAME:CST
DTSTART:20211107T070000
END:STANDARD
END:VTIMEZONE
BEGIN:VEVENT
DTSTART;TZID=America/Chicago:20200222T160000
DTEND;TZID=America/Chicago:20200222T190000
DTSTAMP:20260420T082207
CREATED:20200120T141638Z
LAST-MODIFIED:20200222T205426Z
UID:10009232-1582387200-1582398000@calendar.augsburg.edu
SUMMARY:Augsburg University Women's Ice Hockey vs University of St. Thomas
DESCRIPTION:Augsburg University Women’s Ice Hockey vs University of St. Thomas\nStreaming Video: https://portal.stretchinternet.com/augsburg/\n https://athletics.augsburg.edu/calendar.aspx?id=17646
URL:https://calendar.augsburg.edu/event/augsburg-university-womens-ice-hockey-vs-university-of-st-thomas/
LOCATION:Minneapolis\, Ed Saugestad Rink
CATEGORIES:Athletics
END:VEVENT
BEGIN:VEVENT
DTSTART;TZID=America/Chicago:20200221T190000
DTEND;TZID=America/Chicago:20200221T220000
DTSTAMP:20260420T082207
CREATED:20200120T141638Z
LAST-MODIFIED:20200221T205433Z
UID:10009226-1582311600-1582322400@calendar.augsburg.edu
SUMMARY:Augsburg University Men's Ice Hockey vs University of St. Thomas
DESCRIPTION:Augsburg University Men’s Ice Hockey vs University of St. Thomas\nStreaming Video: https://portal.stretchinternet.com/augsburg/\n https://athletics.augsburg.edu/calendar.aspx?id=17612
URL:https://calendar.augsburg.edu/event/augsburg-university-mens-ice-hockey-vs-university-of-st-thomas/
LOCATION:Minneapolis\, Ed Saugestad Rink
CATEGORIES:Athletics
END:VEVENT
BEGIN:VEVENT
DTSTART;TZID=America/Chicago:20200215T140000
DTEND;TZID=America/Chicago:20200215T170000
DTSTAMP:20260420T082207
CREATED:20200120T141351Z
LAST-MODIFIED:20200214T203027Z
UID:10009215-1581775200-1581786000@calendar.augsburg.edu
SUMMARY:Augsburg University Women's Ice Hockey vs Concordia College-Moorhead
DESCRIPTION:Augsburg University Women’s Ice Hockey vs Concordia College-MoorheadStreaming Video: https://portal.stretchinternet.com/augsburg/ https://athletics.augsburg.edu/calendar.aspx?id=17644
URL:https://calendar.augsburg.edu/event/augsburg-university-womens-ice-hockey-vs-concordia-college-moorhead-4/
LOCATION:Minneapolis\, Ed Saugestad Rink
CATEGORIES:Athletics
END:VEVENT
BEGIN:VEVENT
DTSTART;TZID=America/Chicago:20200214T190000
DTEND;TZID=America/Chicago:20200214T220000
DTSTAMP:20260420T082207
CREATED:20200119T165125Z
LAST-MODIFIED:20200214T203022Z
UID:10009210-1581706800-1581717600@calendar.augsburg.edu
SUMMARY:Augsburg University Women's Ice Hockey vs Concordia College-Moorhead
DESCRIPTION:Augsburg University Women’s Ice Hockey vs Concordia College-MoorheadStreaming Video: https://portal.stretchinternet.com/augsburg/ https://athletics.augsburg.edu/calendar.aspx?id=17643
URL:https://calendar.augsburg.edu/event/augsburg-university-womens-ice-hockey-vs-concordia-college-moorhead-2/
LOCATION:Minneapolis\, Ed Saugestad Rink
CATEGORIES:Athletics
END:VEVENT
BEGIN:VEVENT
DTSTART;TZID=America/Chicago:20200207T190000
DTEND;TZID=America/Chicago:20200207T220000
DTSTAMP:20260420T082207
CREATED:20200106T150955Z
LAST-MODIFIED:20200208T195614Z
UID:10009000-1581102000-1581112800@calendar.augsburg.edu
SUMMARY:Augsburg University Women's Ice Hockey vs St. Catherine University
DESCRIPTION:Augsburg University Women’s Ice Hockey vs St. Catherine University W 4-1Streaming Video: https://portal.stretchinternet.com/augsburg/ https://athletics.augsburg.edu/calendar.aspx?id=17641
URL:https://calendar.augsburg.edu/event/augsburg-university-womens-ice-hockey-vs-st-catherine-university/
LOCATION:Minneapolis\, Ed Saugestad Rink
CATEGORIES:Athletics
END:VEVENT
BEGIN:VEVENT
DTSTART;TZID=America/Chicago:20200201T190000
DTEND;TZID=America/Chicago:20200201T220000
DTSTAMP:20260420T082207
CREATED:20200106T150954Z
LAST-MODIFIED:20200202T194213Z
UID:10008994-1580583600-1580594400@calendar.augsburg.edu
SUMMARY:Augsburg University Men's Ice Hockey vs Saint Mary's University (Minn.)
DESCRIPTION:Augsburg University Men’s Ice Hockey vs Saint Mary’s University (Minn.)W 5-2Streaming Video: https://portal.stretchinternet.com/augsburg/ https://athletics.augsburg.edu/calendar.aspx?id=17608
URL:https://calendar.augsburg.edu/event/augsburg-university-mens-ice-hockey-vs-saint-marys-university-minn/
LOCATION:Minneapolis\, Ed Saugestad Rink
CATEGORIES:Athletics
END:VEVENT
BEGIN:VEVENT
DTSTART;TZID=America/Chicago:20200131T190000
DTEND;TZID=America/Chicago:20200131T220000
DTSTAMP:20260420T082207
CREATED:20200106T150953Z
LAST-MODIFIED:20200201T194009Z
UID:10008988-1580497200-1580508000@calendar.augsburg.edu
SUMMARY:Augsburg University Women's Ice Hockey vs Saint Mary's University (Minn.)
DESCRIPTION:Augsburg University Women’s Ice Hockey vs Saint Mary’s University (Minn.)W 3-2Streaming Video: https://portal.stretchinternet.com/augsburg/ https://athletics.augsburg.edu/calendar.aspx?id=17639
URL:https://calendar.augsburg.edu/event/augsburg-university-womens-ice-hockey-vs-saint-marys-university-minn/
LOCATION:Minneapolis\, Ed Saugestad Rink
CATEGORIES:Athletics
END:VEVENT
BEGIN:VEVENT
DTSTART;TZID=America/Chicago:20200125T160000
DTEND;TZID=America/Chicago:20200125T190000
DTSTAMP:20260420T082207
CREATED:20200106T150952Z
LAST-MODIFIED:20200126T191008Z
UID:10008982-1579968000-1579978800@calendar.augsburg.edu
SUMMARY:Augsburg University Women's Ice Hockey vs College of Saint Benedict
DESCRIPTION:Augsburg University Women’s Ice Hockey vs College of Saint BenedictW 4-0Streaming Video: https://portal.stretchinternet.com/augsburg/ https://athletics.augsburg.edu/calendar.aspx?id=17638
URL:https://calendar.augsburg.edu/event/augsburg-university-womens-ice-hockey-vs-college-of-saint-benedict/
LOCATION:Minneapolis\, Ed Saugestad Rink
CATEGORIES:Athletics
END:VEVENT
BEGIN:VEVENT
DTSTART;TZID=America/Chicago:20200124T190000
DTEND;TZID=America/Chicago:20200124T220000
DTSTAMP:20260420T082207
CREATED:20200106T150951Z
LAST-MODIFIED:20200125T190959Z
UID:10008976-1579892400-1579903200@calendar.augsburg.edu
SUMMARY:Augsburg University Men's Ice Hockey vs Saint John's University
DESCRIPTION:Augsburg University Men’s Ice Hockey vs Saint John’s UniversityL 2-5Streaming Video: https://portal.stretchinternet.com/augsburg/ https://athletics.augsburg.edu/calendar.aspx?id=17605
URL:https://calendar.augsburg.edu/event/augsburg-university-mens-ice-hockey-vs-saint-johns-university/
LOCATION:Minneapolis\, Ed Saugestad Rink
CATEGORIES:Athletics
END:VEVENT
BEGIN:VEVENT
DTSTART;TZID=America/Chicago:20200118T190000
DTEND;TZID=America/Chicago:20200118T220000
DTSTAMP:20260420T082207
CREATED:20200106T150949Z
LAST-MODIFIED:20200119T163929Z
UID:10008969-1579374000-1579384800@calendar.augsburg.edu
SUMMARY:Augsburg University Men's Ice Hockey vs Bethel University
DESCRIPTION:Augsburg University Men’s Ice Hockey vs Bethel UniversityT 2-2 (OT\, Augsburg scores in 2nd OT)Streaming Video: https://portal.stretchinternet.com/augsburg/ https://athletics.augsburg.edu/calendar.aspx?id=17604
URL:https://calendar.augsburg.edu/event/augsburg-university-mens-ice-hockey-vs-bethel-university/
LOCATION:Minneapolis\, Ed Saugestad Rink
CATEGORIES:Athletics
END:VEVENT
BEGIN:VEVENT
DTSTART;TZID=America/Chicago:20200117T190000
DTEND;TZID=America/Chicago:20200117T220000
DTSTAMP:20260420T082207
CREATED:20200106T150948Z
LAST-MODIFIED:20200118T164112Z
UID:10008963-1579287600-1579298400@calendar.augsburg.edu
SUMMARY:Augsburg University Women's Ice Hockey vs Bethel University
DESCRIPTION:Augsburg University Women’s Ice Hockey vs Bethel UniversityW 2-0Streaming Video: https://portal.stretchinternet.com/augsburg/ https://athletics.augsburg.edu/calendar.aspx?id=17634
URL:https://calendar.augsburg.edu/event/augsburg-university-womens-ice-hockey-vs-bethel-university/
LOCATION:Minneapolis\, Ed Saugestad Rink
CATEGORIES:Athletics
END:VEVENT
BEGIN:VEVENT
DTSTART;TZID=America/Chicago:20200111T160000
DTEND;TZID=America/Chicago:20200111T190000
DTSTAMP:20260420T082207
CREATED:20200106T150947Z
LAST-MODIFIED:20200112T163937Z
UID:10008957-1578758400-1578769200@calendar.augsburg.edu
SUMMARY:Augsburg University Women's Ice Hockey vs University of Wisconsin-Superior
DESCRIPTION:Augsburg University Women’s Ice Hockey vs University of Wisconsin-SuperiorW 4-1Streaming Video: https://portal.stretchinternet.com/augsburg/ https://athletics.augsburg.edu/calendar.aspx?id=17633
URL:https://calendar.augsburg.edu/event/augsburg-university-womens-ice-hockey-vs-university-of-wisconsin-superior/
LOCATION:Minneapolis\, Ed Saugestad Rink
CATEGORIES:Athletics
END:VEVENT
BEGIN:VEVENT
DTSTART;TZID=America/Chicago:20200105T140000
DTEND;TZID=America/Chicago:20200105T170000
DTSTAMP:20260420T082207
CREATED:20191028T212718Z
LAST-MODIFIED:20200105T215654Z
UID:10008654-1578232800-1578243600@calendar.augsburg.edu
SUMMARY:Augsburg University Women's Ice Hockey vs University of Wisconsin-Stevens Point
DESCRIPTION:Augsburg University Women’s Ice Hockey vs University of Wisconsin-Stevens PointStreaming Video: https://portal.stretchinternet.com/augsburg/ https://athletics.augsburg.edu/calendar.aspx?id=17631
URL:https://calendar.augsburg.edu/event/augsburg-university-womens-ice-hockey-vs-university-of-wisconsin-stevens-point/
LOCATION:Minneapolis\, Ed Saugestad Rink
CATEGORIES:Athletics
END:VEVENT
BEGIN:VEVENT
DTSTART;TZID=America/Chicago:20200104T160000
DTEND;TZID=America/Chicago:20200104T190000
DTSTAMP:20260420T082207
CREATED:20191028T212718Z
LAST-MODIFIED:20200105T215654Z
UID:10008653-1578153600-1578164400@calendar.augsburg.edu
SUMMARY:Augsburg University Women's Ice Hockey vs Marian University
DESCRIPTION:Augsburg University Women’s Ice Hockey vs Marian UniversityW 10-0Streaming Video: https://portal.stretchinternet.com/augsburg/ https://athletics.augsburg.edu/calendar.aspx?id=17630
URL:https://calendar.augsburg.edu/event/augsburg-university-womens-ice-hockey-vs-marian-university/
LOCATION:Minneapolis\, Ed Saugestad Rink
CATEGORIES:Athletics
END:VEVENT
BEGIN:VEVENT
DTSTART;TZID=America/Chicago:20191214T150000
DTEND;TZID=America/Chicago:20191214T180000
DTSTAMP:20260420T082207
CREATED:20191028T212716Z
LAST-MODIFIED:20191215T181306Z
UID:10008643-1576335600-1576346400@calendar.augsburg.edu
SUMMARY:Augsburg University Men's Ice Hockey vs Trine University
DESCRIPTION:Augsburg University Men’s Ice Hockey vs Trine UniversityW 1-0 (OT)Streaming Video: https://portal.stretchinternet.com/augsburg/ https://athletics.augsburg.edu/calendar.aspx?id=17600
URL:https://calendar.augsburg.edu/event/augsburg-university-mens-ice-hockey-vs-trine-university/
LOCATION:Minneapolis\, Ed Saugestad Rink
CATEGORIES:Athletics
END:VEVENT
BEGIN:VEVENT
DTSTART;TZID=America/Chicago:20191213T190000
DTEND;TZID=America/Chicago:20191213T220000
DTSTAMP:20260420T082207
CREATED:20191028T212716Z
LAST-MODIFIED:20191214T181145Z
UID:10008641-1576263600-1576274400@calendar.augsburg.edu
SUMMARY:Augsburg University Men's Ice Hockey vs Aurora University
DESCRIPTION:Augsburg University Men’s Ice Hockey vs Aurora UniversityW 3-1Streaming Video: https://portal.stretchinternet.com/augsburg/ https://athletics.augsburg.edu/calendar.aspx?id=17599
URL:https://calendar.augsburg.edu/event/augsburg-university-mens-ice-hockey-vs-aurora-university/
LOCATION:Minneapolis\, Ed Saugestad Rink
CATEGORIES:Athletics
END:VEVENT
BEGIN:VEVENT
DTSTART;TZID=America/Chicago:20191207T160000
DTEND;TZID=America/Chicago:20191207T190000
DTSTAMP:20260420T082207
CREATED:20191028T212715Z
LAST-MODIFIED:20191208T175737Z
UID:10008636-1575734400-1575745200@calendar.augsburg.edu
SUMMARY:Augsburg University Women's Ice Hockey vs St. Olaf College
DESCRIPTION:Augsburg University Women’s Ice Hockey vs St. Olaf CollegeW 5-1Streaming Video: https://portal.stretchinternet.com/augsburg/ https://athletics.augsburg.edu/calendar.aspx?id=17629
URL:https://calendar.augsburg.edu/event/augsburg-university-womens-ice-hockey-vs-st-olaf-college/
LOCATION:Minneapolis\, Ed Saugestad Rink
CATEGORIES:Athletics
END:VEVENT
BEGIN:VEVENT
DTSTART;TZID=America/Chicago:20191206T190000
DTEND;TZID=America/Chicago:20191206T220000
DTSTAMP:20260420T082207
CREATED:20191028T212714Z
LAST-MODIFIED:20191207T174146Z
UID:10008630-1575658800-1575669600@calendar.augsburg.edu
SUMMARY:Augsburg University Men's Ice Hockey vs St. Olaf College
DESCRIPTION:Augsburg University Men’s Ice Hockey vs St. Olaf CollegeW 3-1Streaming Video: https://portal.stretchinternet.com/augsburg/ https://athletics.augsburg.edu/calendar.aspx?id=17596
URL:https://calendar.augsburg.edu/event/augsburg-university-mens-ice-hockey-vs-st-olaf-college/
LOCATION:Minneapolis\, Ed Saugestad Rink
CATEGORIES:Athletics
END:VEVENT
BEGIN:VEVENT
DTSTART;TZID=America/Chicago:20191123T190000
DTEND;TZID=America/Chicago:20191123T220000
DTSTAMP:20260420T082207
CREATED:20191028T212712Z
LAST-MODIFIED:20191124T232537Z
UID:10008616-1574535600-1574546400@calendar.augsburg.edu
SUMMARY:[L] Augsburg University Men's Ice Hockey vs Gustavus Adolphus College
DESCRIPTION:[L] Augsburg University Men’s Ice Hockey vs Gustavus Adolphus College\nL 1-2\nStreaming Video: https://portal.stretchinternet.com/augsburg/\n https://athletics.augsburg.edu/calendar.aspx?id=17597
URL:https://calendar.augsburg.edu/event/augsburg-university-mens-ice-hockey-vs-gustavus-adolphus-college/
LOCATION:Minneapolis\, Ed Saugestad Rink
CATEGORIES:Athletics
END:VEVENT
BEGIN:VEVENT
DTSTART;TZID=America/Chicago:20191122T190000
DTEND;TZID=America/Chicago:20191122T220000
DTSTAMP:20260420T082207
CREATED:20191020T211034Z
LAST-MODIFIED:20191123T232519Z
UID:10008571-1574449200-1574460000@calendar.augsburg.edu
SUMMARY:[L] Augsburg University Women's Ice Hockey vs Gustavus Adolphus College
DESCRIPTION:[L] Augsburg University Women’s Ice Hockey vs Gustavus Adolphus College\nL 2-4\nStreaming Video: https://portal.stretchinternet.com/augsburg/\n https://athletics.augsburg.edu/calendar.aspx?id=17626
URL:https://calendar.augsburg.edu/event/augsburg-university-womens-ice-hockey-vs-gustavus-adolphus-college/
LOCATION:Minneapolis\, Ed Saugestad Rink
CATEGORIES:Athletics
END:VEVENT
BEGIN:VEVENT
DTSTART;TZID=America/Chicago:20191116T190000
DTEND;TZID=America/Chicago:20191116T220000
DTSTAMP:20260420T082207
CREATED:20191018T211229Z
LAST-MODIFIED:20191117T230932Z
UID:10008560-1573930800-1573941600@calendar.augsburg.edu
SUMMARY:[L] Augsburg University Men's Ice Hockey vs University of Wisconsin-Eau Claire
DESCRIPTION:[L] Augsburg University Men’s Ice Hockey vs University of Wisconsin-Eau Claire\nL 1-3\nStreaming Video: https://portal.stretchinternet.com/augsburg/\n https://athletics.augsburg.edu/calendar.aspx?id=17594
URL:https://calendar.augsburg.edu/event/augsburg-university-mens-ice-hockey-vs-university-of-wisconsin-eau-claire-2/
LOCATION:Minneapolis\, Ed Saugestad Rink
CATEGORIES:Athletics
END:VEVENT
BEGIN:VEVENT
DTSTART;TZID=America/Chicago:20191115T190000
DTEND;TZID=America/Chicago:20191115T220000
DTSTAMP:20260420T082207
CREATED:20191013T211208Z
LAST-MODIFIED:20191116T225908Z
UID:10008530-1573844400-1573855200@calendar.augsburg.edu
SUMMARY:[L] Augsburg University Women's Ice Hockey vs Hamline University
DESCRIPTION:[L] Augsburg University Women’s Ice Hockey vs Hamline University\nL 0-6\nStreaming Video: https://portal.stretchinternet.com/augsburg/\n https://athletics.augsburg.edu/calendar.aspx?id=17624
URL:https://calendar.augsburg.edu/event/augsburg-university-womens-ice-hockey-vs-hamline-university-3/
LOCATION:Minneapolis\, Ed Saugestad Rink
CATEGORIES:Athletics
END:VEVENT
BEGIN:VEVENT
DTSTART;TZID=America/Chicago:20191114T190000
DTEND;TZID=America/Chicago:20191114T220000
DTSTAMP:20260420T082207
CREATED:20191011T211114Z
LAST-MODIFIED:20191115T225749Z
UID:10008525-1573758000-1573768800@calendar.augsburg.edu
SUMMARY:[W] Augsburg University Men's Ice Hockey vs University of Wisconsin-Stout
DESCRIPTION:[W] Augsburg University Men’s Ice Hockey vs University of Wisconsin-Stout\nW 5-1\nStreaming Video: https://portal.stretchinternet.com/augsburg/\n https://athletics.augsburg.edu/calendar.aspx?id=17593
URL:https://calendar.augsburg.edu/event/augsburg-university-mens-ice-hockey-vs-university-of-wisconsin-stout/
LOCATION:Minneapolis\, Ed Saugestad Rink
CATEGORIES:Athletics
END:VEVENT
BEGIN:VEVENT
DTSTART;TZID=America/Chicago:20191108T190000
DTEND;TZID=America/Chicago:20191108T220000
DTSTAMP:20260420T082207
CREATED:20190930T205826Z
LAST-MODIFIED:20191109T222504Z
UID:10008344-1573239600-1573250400@calendar.augsburg.edu
SUMMARY:[W] Augsburg University Men's Ice Hockey vs Hamline University
DESCRIPTION:[W] Augsburg University Men’s Ice Hockey vs Hamline University\nW 5-1\nStreaming Video: https://portal.stretchinternet.com/augsburg/\n https://athletics.augsburg.edu/calendar.aspx?id=17591
URL:https://calendar.augsburg.edu/event/augsburg-university-mens-ice-hockey-vs-hamline-university/
LOCATION:Minneapolis\, Ed Saugestad Rink
CATEGORIES:Athletics
END:VEVENT
BEGIN:VEVENT
DTSTART;TZID=America/Chicago:20191102T140000
DTEND;TZID=America/Chicago:20191102T170000
DTSTAMP:20260420T082207
CREATED:20190930T205825Z
LAST-MODIFIED:20191102T220940Z
UID:10008334-1572703200-1572714000@calendar.augsburg.edu
SUMMARY:Augsburg University Women's Ice Hockey vs College of Saint Benedict (Scrimmage)
DESCRIPTION:Augsburg University Women’s Ice Hockey vs College of Saint Benedict (Scrimmage)\n https://athletics.augsburg.edu/calendar.aspx?id=17621
URL:https://calendar.augsburg.edu/event/augsburg-university-womens-ice-hockey-vs-college-of-saint-benedict-scrimmage/
LOCATION:Minneapolis\, Ed Saugestad Rink
CATEGORIES:Athletics
END:VEVENT
BEGIN:VEVENT
DTSTART;TZID=America/Chicago:20191101T190000
DTEND;TZID=America/Chicago:20191101T220000
DTSTAMP:20260420T082207
CREATED:20190930T205824Z
LAST-MODIFIED:20191102T220939Z
UID:10008330-1572634800-1572645600@calendar.augsburg.edu
SUMMARY:[W] Augsburg University Men's Ice Hockey vs College of St. Scholastica
DESCRIPTION:[W] Augsburg University Men’s Ice Hockey vs College of St. Scholastica\nW 3-0\nStreaming Video: https://portal.stretchinternet.com/augsburg/\n https://athletics.augsburg.edu/calendar.aspx?id=17589
URL:https://calendar.augsburg.edu/event/augsburg-university-mens-ice-hockey-vs-college-of-st-scholastica/
LOCATION:Minneapolis\, Ed Saugestad Rink
CATEGORIES:Athletics
END:VEVENT
END:VCALENDAR