BEGIN:VCALENDAR
VERSION:2.0
PRODID:-//University Calendar - ECPv6.15.16//NONSGML v1.0//EN
CALSCALE:GREGORIAN
METHOD:PUBLISH
X-ORIGINAL-URL:https://calendar.augsburg.edu
X-WR-CALDESC:Events for University Calendar
REFRESH-INTERVAL;VALUE=DURATION:PT1H
X-Robots-Tag:noindex
X-PUBLISHED-TTL:PT1H
BEGIN:VTIMEZONE
TZID:America/Chicago
BEGIN:DAYLIGHT
TZOFFSETFROM:-0600
TZOFFSETTO:-0500
TZNAME:CDT
DTSTART:20200308T080000
END:DAYLIGHT
BEGIN:STANDARD
TZOFFSETFROM:-0500
TZOFFSETTO:-0600
TZNAME:CST
DTSTART:20201101T070000
END:STANDARD
BEGIN:DAYLIGHT
TZOFFSETFROM:-0600
TZOFFSETTO:-0500
TZNAME:CDT
DTSTART:20210314T080000
END:DAYLIGHT
BEGIN:STANDARD
TZOFFSETFROM:-0500
TZOFFSETTO:-0600
TZNAME:CST
DTSTART:20211107T070000
END:STANDARD
BEGIN:DAYLIGHT
TZOFFSETFROM:-0600
TZOFFSETTO:-0500
TZNAME:CDT
DTSTART:20220313T080000
END:DAYLIGHT
BEGIN:STANDARD
TZOFFSETFROM:-0500
TZOFFSETTO:-0600
TZNAME:CST
DTSTART:20221106T070000
END:STANDARD
BEGIN:DAYLIGHT
TZOFFSETFROM:-0600
TZOFFSETTO:-0500
TZNAME:CDT
DTSTART:20230312T080000
END:DAYLIGHT
BEGIN:STANDARD
TZOFFSETFROM:-0500
TZOFFSETTO:-0600
TZNAME:CST
DTSTART:20231105T070000
END:STANDARD
BEGIN:DAYLIGHT
TZOFFSETFROM:-0600
TZOFFSETTO:-0500
TZNAME:CDT
DTSTART:20240310T080000
END:DAYLIGHT
BEGIN:STANDARD
TZOFFSETFROM:-0500
TZOFFSETTO:-0600
TZNAME:CST
DTSTART:20241103T070000
END:STANDARD
END:VTIMEZONE
BEGIN:VEVENT
DTSTART;TZID=America/Chicago:20231019T160000
DTEND;TZID=America/Chicago:20231019T180000
DTSTAMP:20260419T115806
CREATED:20231018T032455Z
LAST-MODIFIED:20231019T032434Z
UID:10018249-1697731200-1697738400@calendar.augsburg.edu
SUMMARY:IRS Criminal Division Campus Visit
DESCRIPTION:Join us for an informative session with the IRS Criminal Division! Discover how this crucial division works to protect the integrity of the tax system and how it catches criminals. Gain insights into their role in investigating financial crimes\, fraud\, and tax evasion and learn about potential career opportunities. This event is open to all students and will be held in Hagfors 351.\nHosted by: Augsburg Student Accounting Organization\nAdditional Information can be found at: https://augsburg.campuslabs.com/engage/event/9530847
URL:https://calendar.augsburg.edu/event/irs-criminal-division-campus-visit/
LOCATION:Hagfors Center 351
CATEGORIES:Campus Life,Thoughtfullearning
END:VEVENT
BEGIN:VEVENT
DTSTART;TZID=America/Chicago:20220406T153000
DTEND;TZID=America/Chicago:20220406T161500
DTSTAMP:20260419T115806
CREATED:20220326T132607Z
LAST-MODIFIED:20220406T142424Z
UID:10013138-1649259000-1649261700@calendar.augsburg.edu
SUMMARY:Augsburg Student Accounting Organization General Meeting
DESCRIPTION:Are you interested in learning about accounting and finance? Do you want to learn about how you can apply your major? Then come join us at the Augsburg Student Accounting Organization General Meeting. Here we talk about upcoming events\, potential job opportunities\, fun accounting puns\, and so much more. Our meetings are every other Wednesday from 3:30-4:15 pm in Hagfors 351 and on zoom. There will also be free food! We hope to see you there!\nHosted by: Augsburg Student Accounting Organization\nAdditional Information can be found at: https://augsburg.campuslabs.com/engage/event/8015915
URL:https://calendar.augsburg.edu/event/augsburg-student-accounting-organization-general-meeting-4/
LOCATION:Hagfors Center 351
CATEGORIES:Campus Life,Groupbusiness
END:VEVENT
BEGIN:VEVENT
DTSTART;TZID=America/Chicago:20211021T113000
DTEND;TZID=America/Chicago:20211021T120000
DTSTAMP:20260419T115806
CREATED:20211019T062854Z
LAST-MODIFIED:20211021T062743Z
UID:10012110-1634815800-1634817600@calendar.augsburg.edu
SUMMARY:Augsburg Student Accounting Organization General Meeting
DESCRIPTION:Are you interested in learning about accounting and finance? Do you want to learn about how you can apply your major? Then come join us at the Augsburg Student Accounting Organization General Meeting. Here we talk about upcoming events\, potential job opportunities\, fun accounting puns\, and so much more. Our meetings are every other Thursday from 11:30 – 12:00 pm in Hagfors 351 or on zoom. We hope to see you there!\nHosted by: Augsburg Student Accounting Organization\nOnline Location: https://augsburg.zoom.us/j/97621554275?pwd=NTJvWDFSN2hnd0EzNUprcUE0eDhNUT09\nAdditional Information can be found at: https://augsburg.campuslabs.com/engage/event/7527592
URL:https://calendar.augsburg.edu/event/augsburg-student-accounting-organization-general-meeting-2/
LOCATION:Hagfors Center 351
CATEGORIES:Campus Life,Groupbusiness
END:VEVENT
BEGIN:VEVENT
DTSTART;TZID=America/Chicago:20211007T113000
DTEND;TZID=America/Chicago:20211007T120000
DTSTAMP:20260419T115806
CREATED:20211005T055429Z
LAST-MODIFIED:20211006T055434Z
UID:10012051-1633606200-1633608000@calendar.augsburg.edu
SUMMARY:Augsburg Student Accounting Organization General Meeting
DESCRIPTION:Are you interested in learning about accounting and finance? Do you want to learn about how you can apply your major? Then come join us at the Augsburg Student Accounting Organization General Meeting. Here we talk about upcoming events\, potential job opportunities\, fun accounting puns\, and so much more. Our meetings are every other Thursday from 11:30 – 12:00 pm in Hagfors 351 or on zoom. We hope to see you there!\nHosted by: Augsburg Student Accounting Organization\nOnline Location: https://augsburg.zoom.us/j/97621554275?pwd=NTJvWDFSN2hnd0EzNUprcUE0eDhNUT09\nAdditional Information can be found at: https://augsburg.campuslabs.com/engage/event/7471869
URL:https://calendar.augsburg.edu/event/augsburg-student-accounting-organization-general-meeting/
LOCATION:Hagfors Center 351
CATEGORIES:Campus Life,Groupbusiness
END:VEVENT
BEGIN:VEVENT
DTSTART;TZID=America/Chicago:20210915T170000
DTEND;TZID=America/Chicago:20210915T180000
DTSTAMP:20260419T115806
CREATED:20210902T045456Z
LAST-MODIFIED:20210915T050946Z
UID:10011780-1631725200-1631728800@calendar.augsburg.edu
SUMMARY:US Bank Panel & Info Session
DESCRIPTION:Come learn about different opportunities at US Bank including internships and full-time jobs. Recruiting for internships/jobs for Summer 2022 start dates is now and applications will close soon so make sure to come and network with professionals. Learn about the work culture at US Bank. Food and drinks will be provided.\nHosted by: Augsburg Business Organization\nAdditional Information can be found at: https://augsburg.campuslabs.com/engage/event/7296949
URL:https://calendar.augsburg.edu/event/us-bank-panel-info-session/
LOCATION:Hagfors Center 351
CATEGORIES:Campus Life,Groupbusiness
END:VEVENT
END:VCALENDAR