BEGIN:VCALENDAR
VERSION:2.0
PRODID:-//University Calendar - ECPv6.15.16//NONSGML v1.0//EN
CALSCALE:GREGORIAN
METHOD:PUBLISH
X-ORIGINAL-URL:https://calendar.augsburg.edu
X-WR-CALDESC:Events for University Calendar
REFRESH-INTERVAL;VALUE=DURATION:PT1H
X-Robots-Tag:noindex
X-PUBLISHED-TTL:PT1H
BEGIN:VTIMEZONE
TZID:America/Chicago
BEGIN:DAYLIGHT
TZOFFSETFROM:-0600
TZOFFSETTO:-0500
TZNAME:CDT
DTSTART:20220313T080000
END:DAYLIGHT
BEGIN:STANDARD
TZOFFSETFROM:-0500
TZOFFSETTO:-0600
TZNAME:CST
DTSTART:20221106T070000
END:STANDARD
BEGIN:DAYLIGHT
TZOFFSETFROM:-0600
TZOFFSETTO:-0500
TZNAME:CDT
DTSTART:20230312T080000
END:DAYLIGHT
BEGIN:STANDARD
TZOFFSETFROM:-0500
TZOFFSETTO:-0600
TZNAME:CST
DTSTART:20231105T070000
END:STANDARD
BEGIN:DAYLIGHT
TZOFFSETFROM:-0600
TZOFFSETTO:-0500
TZNAME:CDT
DTSTART:20240310T080000
END:DAYLIGHT
BEGIN:STANDARD
TZOFFSETFROM:-0500
TZOFFSETTO:-0600
TZNAME:CST
DTSTART:20241103T070000
END:STANDARD
BEGIN:DAYLIGHT
TZOFFSETFROM:-0600
TZOFFSETTO:-0500
TZNAME:CDT
DTSTART:20250309T080000
END:DAYLIGHT
BEGIN:STANDARD
TZOFFSETFROM:-0500
TZOFFSETTO:-0600
TZNAME:CST
DTSTART:20251102T070000
END:STANDARD
END:VTIMEZONE
BEGIN:VEVENT
DTSTART;TZID=America/Chicago:20240401T154000
DTEND;TZID=America/Chicago:20240401T171000
DTSTAMP:20260425T215422
CREATED:20230913T142642Z
LAST-MODIFIED:20240401T130917Z
UID:10017829-1711986000-1711991400@calendar.augsburg.edu
SUMMARY:CANCELED Office Hours - Faculty Senate President
DESCRIPTION:Drop in and visit with Bridget Robinson-Riegler\, Faculty Senate President\, on any topic in Hagfors 263.
URL:https://calendar.augsburg.edu/event/office-hours-faculty-senate-president-7/
LOCATION:Hagfors 263
CATEGORIES:Academic Affairs
END:VEVENT
BEGIN:VEVENT
DTSTART;TZID=America/Chicago:20240327T154000
DTEND;TZID=America/Chicago:20240327T171000
DTSTAMP:20260425T215422
CREATED:20230913T142642Z
LAST-MODIFIED:20240214T182449Z
UID:10017828-1711554000-1711559400@calendar.augsburg.edu
SUMMARY:Office Hours - Faculty Senate President
DESCRIPTION:Drop in and visit with Bridget Robinson-Riegler\, Faculty Senate President\, on any topic in Hagfors 263.
URL:https://calendar.augsburg.edu/event/office-hours-faculty-senate-president-6/
LOCATION:Hagfors 263
CATEGORIES:Academic Affairs
END:VEVENT
BEGIN:VEVENT
DTSTART;TZID=America/Chicago:20240228T154000
DTEND;TZID=America/Chicago:20240228T171000
DTSTAMP:20260425T215422
CREATED:20230913T142620Z
LAST-MODIFIED:20240228T192430Z
UID:10017827-1709134800-1709140200@calendar.augsburg.edu
SUMMARY:Office Hours - Faculty Senate President
DESCRIPTION:Drop in and visit with Bridget Robinson-Riegler\, Faculty Senate President\, on any topic in Hagfors 263.
URL:https://calendar.augsburg.edu/event/office-hours-faculty-senate-president-5/
LOCATION:Hagfors 263
CATEGORIES:Academic Affairs
END:VEVENT
BEGIN:VEVENT
DTSTART;TZID=America/Chicago:20240131T154000
DTEND;TZID=America/Chicago:20240131T171000
DTSTAMP:20260425T215422
CREATED:20230913T142557Z
LAST-MODIFIED:20240131T162425Z
UID:10017826-1706715600-1706721000@calendar.augsburg.edu
SUMMARY:Office Hours - Faculty Senate President
DESCRIPTION:Drop in and visit with Bridget Robinson-Riegler\, Faculty Senate President\, on any topic in Hagfors 263.
URL:https://calendar.augsburg.edu/event/office-hours-faculty-senate-president-4/
LOCATION:Hagfors 263
CATEGORIES:Academic Affairs
END:VEVENT
BEGIN:VEVENT
DTSTART;TZID=America/Chicago:20231127T154000
DTEND;TZID=America/Chicago:20231127T171000
DTSTAMP:20260425T215422
CREATED:20230913T142512Z
LAST-MODIFIED:20231127T212426Z
UID:10017825-1701099600-1701105000@calendar.augsburg.edu
SUMMARY:Office Hours - Faculty Senate President
DESCRIPTION:Drop in and visit with Bridget Robinson-Riegler\, Faculty Senate President\, on any topic in Hagfors 263.
URL:https://calendar.augsburg.edu/event/office-hours-faculty-senate-president-3/
LOCATION:Hagfors 263
CATEGORIES:Academic Affairs
END:VEVENT
BEGIN:VEVENT
DTSTART;TZID=America/Chicago:20231025T154000
DTEND;TZID=America/Chicago:20231025T171000
DTSTAMP:20260425T215422
CREATED:20230913T142448Z
LAST-MODIFIED:20231025T184952Z
UID:10017824-1698248400-1698253800@calendar.augsburg.edu
SUMMARY:CANCELED - Office Hours - Faculty Senate President
DESCRIPTION:Drop in and visit with Bridget Robinson-Riegler\, Faculty Senate President\, on any topic in Hagfors 263.
URL:https://calendar.augsburg.edu/event/office-hours-faculty-senate-president-2/
LOCATION:Hagfors 263
CATEGORIES:Academic Affairs
END:VEVENT
BEGIN:VEVENT
DTSTART;TZID=America/Chicago:20230927T154000
DTEND;TZID=America/Chicago:20230927T171000
DTSTAMP:20260425T215422
CREATED:20230913T142425Z
LAST-MODIFIED:20230927T172426Z
UID:10017823-1695829200-1695834600@calendar.augsburg.edu
SUMMARY:Office Hours - Faculty Senate President
DESCRIPTION:Drop in and visit with Bridget Robinson-Riegler\, Faculty Senate President\, on any topic in Hagfors 263.
URL:https://calendar.augsburg.edu/event/office-hours-faculty-senate-president/
LOCATION:Hagfors 263
CATEGORIES:Academic Affairs
END:VEVENT
END:VCALENDAR