BEGIN:VCALENDAR
VERSION:2.0
PRODID:-//University Calendar - ECPv6.15.16//NONSGML v1.0//EN
CALSCALE:GREGORIAN
METHOD:PUBLISH
X-ORIGINAL-URL:https://calendar.augsburg.edu
X-WR-CALDESC:Events for University Calendar
REFRESH-INTERVAL;VALUE=DURATION:PT1H
X-Robots-Tag:noindex
X-PUBLISHED-TTL:PT1H
BEGIN:VTIMEZONE
TZID:America/Chicago
BEGIN:DAYLIGHT
TZOFFSETFROM:-0600
TZOFFSETTO:-0500
TZNAME:CDT
DTSTART:20190310T080000
END:DAYLIGHT
BEGIN:STANDARD
TZOFFSETFROM:-0500
TZOFFSETTO:-0600
TZNAME:CST
DTSTART:20191103T070000
END:STANDARD
BEGIN:DAYLIGHT
TZOFFSETFROM:-0600
TZOFFSETTO:-0500
TZNAME:CDT
DTSTART:20200308T080000
END:DAYLIGHT
BEGIN:STANDARD
TZOFFSETFROM:-0500
TZOFFSETTO:-0600
TZNAME:CST
DTSTART:20201101T070000
END:STANDARD
BEGIN:DAYLIGHT
TZOFFSETFROM:-0600
TZOFFSETTO:-0500
TZNAME:CDT
DTSTART:20210314T080000
END:DAYLIGHT
BEGIN:STANDARD
TZOFFSETFROM:-0500
TZOFFSETTO:-0600
TZNAME:CST
DTSTART:20211107T070000
END:STANDARD
BEGIN:DAYLIGHT
TZOFFSETFROM:-0600
TZOFFSETTO:-0500
TZNAME:CDT
DTSTART:20220313T080000
END:DAYLIGHT
BEGIN:STANDARD
TZOFFSETFROM:-0500
TZOFFSETTO:-0600
TZNAME:CST
DTSTART:20221106T070000
END:STANDARD
BEGIN:DAYLIGHT
TZOFFSETFROM:-0600
TZOFFSETTO:-0500
TZNAME:CDT
DTSTART:20230312T080000
END:DAYLIGHT
BEGIN:STANDARD
TZOFFSETFROM:-0500
TZOFFSETTO:-0600
TZNAME:CST
DTSTART:20231105T070000
END:STANDARD
BEGIN:DAYLIGHT
TZOFFSETFROM:-0600
TZOFFSETTO:-0500
TZNAME:CDT
DTSTART:20240310T080000
END:DAYLIGHT
BEGIN:STANDARD
TZOFFSETFROM:-0500
TZOFFSETTO:-0600
TZNAME:CST
DTSTART:20241103T070000
END:STANDARD
BEGIN:DAYLIGHT
TZOFFSETFROM:-0600
TZOFFSETTO:-0500
TZNAME:CDT
DTSTART:20250309T080000
END:DAYLIGHT
BEGIN:STANDARD
TZOFFSETFROM:-0500
TZOFFSETTO:-0600
TZNAME:CST
DTSTART:20251102T070000
END:STANDARD
BEGIN:DAYLIGHT
TZOFFSETFROM:-0600
TZOFFSETTO:-0500
TZNAME:CDT
DTSTART:20260308T080000
END:DAYLIGHT
BEGIN:STANDARD
TZOFFSETFROM:-0500
TZOFFSETTO:-0600
TZNAME:CST
DTSTART:20261101T070000
END:STANDARD
BEGIN:DAYLIGHT
TZOFFSETFROM:-0600
TZOFFSETTO:-0500
TZNAME:CDT
DTSTART:20270314T080000
END:DAYLIGHT
BEGIN:STANDARD
TZOFFSETFROM:-0500
TZOFFSETTO:-0600
TZNAME:CST
DTSTART:20271107T070000
END:STANDARD
END:VTIMEZONE
BEGIN:VEVENT
DTSTART;TZID=America/Chicago:20260325T173000
DTEND;TZID=America/Chicago:20260325T193000
DTSTAMP:20260419T093420
CREATED:20260216T032445Z
LAST-MODIFIED:20260325T072427Z
UID:10023712-1774459800-1774467000@calendar.augsburg.edu
SUMMARY:¡Seguimos Aquí!: Latine Networking Event
DESCRIPTION:Join Sembrando Nuestro Futuro (SNF) & Augsburg Latin American Students (ALAS) for our annual Latine Networking Event! This year’s theme is ¡Seguimos Aquí! This event is open to all college students at Augsburg and the surrounding areas. You will have the opportunity to connect with Latine professionals and community leaders who will come and share their ideas and experiences about their careers. Our keynote speaker this year will be none other than Maria Isa Perez Vega from the Minnesota House of Representatives. Please join us to expand your social network\, engage in meaningful conversations\, and learn about new opportunities and resources. We can’t wait to see you there!\nHosted by: Augsburg Latin American Students\, Sembrando Nuestro Futuro Mentorship Program\nAdditional Information can be found at: https://augsburg.campuslabs.com/engage/event/12242280
URL:https://calendar.augsburg.edu/event/seguimos-aqui-latine-networking-event/
LOCATION:Hagfors 150ABC
CATEGORIES:Campus Life,Social
GEO:44.96662;-93.24271
END:VEVENT
BEGIN:VEVENT
DTSTART;TZID=America/Chicago:20200201T083000
DTEND;TZID=America/Chicago:20200201T140000
DTSTAMP:20260419T093420
CREATED:20191112T234107Z
LAST-MODIFIED:20200114T214159Z
UID:10008750-1580545800-1580565600@calendar.augsburg.edu
SUMMARY:2020 Student Leadership Institute
DESCRIPTION:This year’s theme is Sustainable Practice: Fostering Change-Makers in their Communities. Often\, students can be burned out when they are wearing multiple leadership hats on campus all while being a student. The Institute will allow students to explore how they can foster being change-makers in their communities while taking care of themselves so they don’t burn out as much.  This event is open to all student organization leaders\, student leaders\, and student employees at Augsburg University. Student organizations are required to send representatives. RSVP here: https://augsburg.campuslabs.com/engage/event/5161759Hosted by: Additional Information can be found at: https://augsburg.campuslabs.com/engage/event/5161759
URL:https://calendar.augsburg.edu/event/2020-student-leadership-institute-registration/
LOCATION:Hagfors 150ABC
CATEGORIES:Campus Life,Educational Workshop,Professional Development,Speaker,Thoughtfullearning
GEO:44.96662;-93.24271
END:VEVENT
END:VCALENDAR