BEGIN:VCALENDAR
VERSION:2.0
PRODID:-//University Calendar - ECPv6.15.16//NONSGML v1.0//EN
CALSCALE:GREGORIAN
METHOD:PUBLISH
X-WR-CALNAME:University Calendar
X-ORIGINAL-URL:https://calendar.augsburg.edu
X-WR-CALDESC:Events for University Calendar
REFRESH-INTERVAL;VALUE=DURATION:PT1H
X-Robots-Tag:noindex
X-PUBLISHED-TTL:PT1H
BEGIN:VTIMEZONE
TZID:America/Chicago
BEGIN:DAYLIGHT
TZOFFSETFROM:-0600
TZOFFSETTO:-0500
TZNAME:CDT
DTSTART:20210314T080000
END:DAYLIGHT
BEGIN:STANDARD
TZOFFSETFROM:-0500
TZOFFSETTO:-0600
TZNAME:CST
DTSTART:20211107T070000
END:STANDARD
BEGIN:DAYLIGHT
TZOFFSETFROM:-0600
TZOFFSETTO:-0500
TZNAME:CDT
DTSTART:20220313T080000
END:DAYLIGHT
BEGIN:STANDARD
TZOFFSETFROM:-0500
TZOFFSETTO:-0600
TZNAME:CST
DTSTART:20221106T070000
END:STANDARD
BEGIN:DAYLIGHT
TZOFFSETFROM:-0600
TZOFFSETTO:-0500
TZNAME:CDT
DTSTART:20230312T080000
END:DAYLIGHT
BEGIN:STANDARD
TZOFFSETFROM:-0500
TZOFFSETTO:-0600
TZNAME:CST
DTSTART:20231105T070000
END:STANDARD
BEGIN:DAYLIGHT
TZOFFSETFROM:-0600
TZOFFSETTO:-0500
TZNAME:CDT
DTSTART:20240310T080000
END:DAYLIGHT
BEGIN:STANDARD
TZOFFSETFROM:-0500
TZOFFSETTO:-0600
TZNAME:CST
DTSTART:20241103T070000
END:STANDARD
BEGIN:DAYLIGHT
TZOFFSETFROM:-0600
TZOFFSETTO:-0500
TZNAME:CDT
DTSTART:20250309T080000
END:DAYLIGHT
BEGIN:STANDARD
TZOFFSETFROM:-0500
TZOFFSETTO:-0600
TZNAME:CST
DTSTART:20251102T070000
END:STANDARD
BEGIN:DAYLIGHT
TZOFFSETFROM:-0600
TZOFFSETTO:-0500
TZNAME:CDT
DTSTART:20260308T080000
END:DAYLIGHT
BEGIN:STANDARD
TZOFFSETFROM:-0500
TZOFFSETTO:-0600
TZNAME:CST
DTSTART:20261101T070000
END:STANDARD
END:VTIMEZONE
BEGIN:VEVENT
DTSTART;TZID=America/Chicago:20250427T170000
DTEND;TZID=America/Chicago:20250427T193000
DTSTAMP:20260419T105149
CREATED:20250401T182441Z
LAST-MODIFIED:20250428T002423Z
UID:10021778-1745773200-1745782200@calendar.augsburg.edu
SUMMARY:Student Leadership Awards
DESCRIPTION:The Augsburg Leadership Awards are organized by Campus Life at the end of every spring semester to recognize outstanding student leaders and student organizations. Members of the Augsburg Senior Leadership Society are inducted\, recent graduates of the Emerging Leaders Program are celebrated and recognized\, and Day Student Government Members are honored.\nFormal attire is the dress code for this event. RSVP in advance is requested\, as there is limited capacity!\nHosted by:\nAdditional Information can be found at: https://augsburg.campuslabs.com/engage/event/11220919
URL:https://calendar.augsburg.edu/event/student-leadership-awards/
LOCATION:Foss Chapel
CATEGORIES:Campus Life,Communityservice
END:VEVENT
BEGIN:VEVENT
DTSTART;TZID=America/Chicago:20250411T133000
DTEND;TZID=America/Chicago:20250411T140000
DTSTAMP:20260419T105149
CREATED:20250401T182433Z
LAST-MODIFIED:20250410T202425Z
UID:10021774-1744378200-1744380000@calendar.augsburg.edu
SUMMARY:Jummah Prayer
DESCRIPTION:Weekly Jummah Prayer\nHosted by: Muslim Student Association\nAdditional Information can be found at: https://augsburg.campuslabs.com/engage/event/11220754
URL:https://calendar.augsburg.edu/event/jummah-prayer-4/
LOCATION:Foss Chapel
CATEGORIES:Campus Life,Spirituality
END:VEVENT
BEGIN:VEVENT
DTSTART;TZID=America/Chicago:20250404T133000
DTEND;TZID=America/Chicago:20250404T140000
DTSTAMP:20260419T105149
CREATED:20250312T152444Z
LAST-MODIFIED:20250403T192431Z
UID:10021610-1743773400-1743775200@calendar.augsburg.edu
SUMMARY:Jummah Prayer
DESCRIPTION:Weekly Jummah Prayer\nHosted by: Muslim Student Association\nAdditional Information can be found at: https://augsburg.campuslabs.com/engage/event/11159858
URL:https://calendar.augsburg.edu/event/jummah-prayer-3/
LOCATION:Foss Chapel
CATEGORIES:Campus Life,Spirituality
END:VEVENT
BEGIN:VEVENT
DTSTART;TZID=America/Chicago:20250328T133000
DTEND;TZID=America/Chicago:20250328T140000
DTSTAMP:20260419T105149
CREATED:20250312T152442Z
LAST-MODIFIED:20250328T172425Z
UID:10021608-1743168600-1743170400@calendar.augsburg.edu
SUMMARY:Jummah Prayer
DESCRIPTION:Weekly Jummah Prayer\nHosted by: Muslim Student Association\nAdditional Information can be found at: https://augsburg.campuslabs.com/engage/event/11159856
URL:https://calendar.augsburg.edu/event/jummah-prayer-2/
LOCATION:Foss Chapel
CATEGORIES:Campus Life,Spirituality
END:VEVENT
BEGIN:VEVENT
DTSTART;TZID=America/Chicago:20250314T180000
DTEND;TZID=America/Chicago:20250314T213000
DTSTAMP:20260419T105149
CREATED:20250228T012433Z
LAST-MODIFIED:20250314T162424Z
UID:10021456-1741975200-1741987800@calendar.augsburg.edu
SUMMARY:2025 Annual Augsburg MSA Iftar Dinner
DESCRIPTION:Annual Iftar Dinner hosted by Augsburg Muslim Student Association.\nHosted by: Muslim Student Association\nAdditional Information can be found at: https://augsburg.campuslabs.com/engage/event/11122655
URL:https://calendar.augsburg.edu/event/2025-annual-augsburg-msa-iftar-dinner/
LOCATION:Foss Chapel
CATEGORIES:Campus Life,Social
END:VEVENT
BEGIN:VEVENT
DTSTART;TZID=America/Chicago:20250314T133000
DTEND;TZID=America/Chicago:20250314T140000
DTSTAMP:20260419T105149
CREATED:20250221T002435Z
LAST-MODIFIED:20250314T162424Z
UID:10021417-1741959000-1741960800@calendar.augsburg.edu
SUMMARY:Jummah Prayer
DESCRIPTION:Weekly Jummah Prayer\nHosted by: Muslim Student Association\nAdditional Information can be found at: https://augsburg.campuslabs.com/engage/event/11095181
URL:https://calendar.augsburg.edu/event/jummah-prayer/
LOCATION:Foss Chapel
CATEGORIES:Campus Life,Spirituality
END:VEVENT
BEGIN:VEVENT
DTSTART;TZID=America/Chicago:20241129T133000
DTEND;TZID=America/Chicago:20241129T140000
DTSTAMP:20260419T105149
CREATED:20241023T092443Z
LAST-MODIFIED:20241129T152423Z
UID:10020813-1732887000-1732888800@calendar.augsburg.edu
SUMMARY:Jummuah Prayer
DESCRIPTION:Come join us for Friday Jummuah prayer 1:30-2:00pm!\nHosted by: Muslim Student Association\nAdditional Information can be found at: https://augsburg.campuslabs.com/engage/event/10643256
URL:https://calendar.augsburg.edu/event/jummuah-prayer-8/
LOCATION:Foss Chapel
CATEGORIES:Campus Life,Spirituality
END:VEVENT
BEGIN:VEVENT
DTSTART;TZID=America/Chicago:20241122T133000
DTEND;TZID=America/Chicago:20241122T140000
DTSTAMP:20260419T105149
CREATED:20241023T092441Z
LAST-MODIFIED:20241122T122423Z
UID:10020812-1732282200-1732284000@calendar.augsburg.edu
SUMMARY:Jummuah Prayer
DESCRIPTION:Come join us for Friday Jummuah prayer 1:30-2:00pm!\nHosted by: Muslim Student Association\nAdditional Information can be found at: https://augsburg.campuslabs.com/engage/event/10643252
URL:https://calendar.augsburg.edu/event/jummuah-prayer-7/
LOCATION:Foss Chapel
CATEGORIES:Campus Life,Spirituality
END:VEVENT
BEGIN:VEVENT
DTSTART;TZID=America/Chicago:20241115T133000
DTEND;TZID=America/Chicago:20241115T140000
DTSTAMP:20260419T105149
CREATED:20241023T092439Z
LAST-MODIFIED:20241115T122426Z
UID:10020811-1731677400-1731679200@calendar.augsburg.edu
SUMMARY:Jummuah Prayer
DESCRIPTION:Come join us for Friday Jummuah prayer 1:30-2:00pm!\nHosted by: Muslim Student Association\nAdditional Information can be found at: https://augsburg.campuslabs.com/engage/event/10643248
URL:https://calendar.augsburg.edu/event/jummuah-prayer-6/
LOCATION:Foss Chapel
CATEGORIES:Campus Life,Spirituality
END:VEVENT
BEGIN:VEVENT
DTSTART;TZID=America/Chicago:20241114T133000
DTEND;TZID=America/Chicago:20241114T163000
DTSTAMP:20260419T105149
CREATED:20241026T102443Z
LAST-MODIFIED:20241114T112423Z
UID:10020832-1731591000-1731601800@calendar.augsburg.edu
SUMMARY:Hmong New Year Rehearsal #3
DESCRIPTION:Fashion show and performance rehearsals for the upcoming 2024 Hmong New Year event hosted by Hmong Women Together\n \n \nHosted by: Hmong Women Together\nAdditional Information can be found at: https://augsburg.campuslabs.com/engage/event/10659570
URL:https://calendar.augsburg.edu/event/hmong-new-year-rehearsal-3/
LOCATION:Foss Chapel
CATEGORIES:Campus Life,Social
END:VEVENT
BEGIN:VEVENT
DTSTART;TZID=America/Chicago:20241108T133000
DTEND;TZID=America/Chicago:20241108T140000
DTSTAMP:20260419T105149
CREATED:20241023T092437Z
LAST-MODIFIED:20241108T112425Z
UID:10020810-1731072600-1731074400@calendar.augsburg.edu
SUMMARY:Jummuah Prayer
DESCRIPTION:Come join us for Friday Jummuah prayer 1:30-2:00pm!\nHosted by: Muslim Student Association\nAdditional Information can be found at: https://augsburg.campuslabs.com/engage/event/10643243
URL:https://calendar.augsburg.edu/event/jummuah-prayer-5/
LOCATION:Foss Chapel
CATEGORIES:Campus Life,Spirituality
END:VEVENT
BEGIN:VEVENT
DTSTART;TZID=America/Chicago:20241105T120000
DTEND;TZID=America/Chicago:20241105T153000
DTSTAMP:20260419T105149
CREATED:20241026T102432Z
LAST-MODIFIED:20241105T102425Z
UID:10020828-1730808000-1730820600@calendar.augsburg.edu
SUMMARY:Hmong New Year Rehearsal #1
DESCRIPTION:Fashion show and performance rehearsals for the upcoming 2024 Hmong New Year event hosted by Hmong Women Together\nHosted by: Hmong Women Together\nAdditional Information can be found at: https://augsburg.campuslabs.com/engage/event/10659541
URL:https://calendar.augsburg.edu/event/hmong-new-year-rehearsal-1-2/
LOCATION:Foss Chapel
CATEGORIES:Campus Life,Social
END:VEVENT
BEGIN:VEVENT
DTSTART;TZID=America/Chicago:20241101T133000
DTEND;TZID=America/Chicago:20241101T140000
DTSTAMP:20260419T105149
CREATED:20241023T092432Z
LAST-MODIFIED:20241101T102424Z
UID:10020802-1730467800-1730469600@calendar.augsburg.edu
SUMMARY:Jummuah Prayer
DESCRIPTION:Come join us for Friday Jummuah prayer 1:30-2:00pm!\nHosted by: Muslim Student Association\nAdditional Information can be found at: https://augsburg.campuslabs.com/engage/event/10643230
URL:https://calendar.augsburg.edu/event/jummuah-prayer-4/
LOCATION:Foss Chapel
CATEGORIES:Campus Life,Spirituality
END:VEVENT
BEGIN:VEVENT
DTSTART;TZID=America/Chicago:20241025T133000
DTEND;TZID=America/Chicago:20241025T140000
DTSTAMP:20260419T105149
CREATED:20241015T072432Z
LAST-MODIFIED:20241025T102424Z
UID:10020760-1729863000-1729864800@calendar.augsburg.edu
SUMMARY:Jummuah Prayer
DESCRIPTION:Come join us for Friday Jummuah prayer 1:30-2:00pm! \nHosted by: Muslim Student Association\nAdditional Information can be found at: https://augsburg.campuslabs.com/engage/event/10611442
URL:https://calendar.augsburg.edu/event/jummuah-prayer-3/
LOCATION:Foss Chapel
CATEGORIES:Campus Life,Spirituality
END:VEVENT
BEGIN:VEVENT
DTSTART;TZID=America/Chicago:20241018T133000
DTEND;TZID=America/Chicago:20241018T140000
DTSTAMP:20260419T105149
CREATED:20241015T072428Z
LAST-MODIFIED:20241018T072425Z
UID:10020753-1729258200-1729260000@calendar.augsburg.edu
SUMMARY:Jummuah Prayer
DESCRIPTION:Come join us for Friday Jummuah prayer 1:30-2:00pm! \nHosted by: Muslim Student Association\nAdditional Information can be found at: https://augsburg.campuslabs.com/engage/event/10611476
URL:https://calendar.augsburg.edu/event/jummuah-prayer-2/
LOCATION:Foss Chapel
CATEGORIES:Campus Life,Spirituality
END:VEVENT
BEGIN:VEVENT
DTSTART;TZID=America/Chicago:20240906T133000
DTEND;TZID=America/Chicago:20240906T140000
DTSTAMP:20260419T105149
CREATED:20240904T002424Z
LAST-MODIFIED:20240906T002424Z
UID:10020143-1725629400-1725631200@calendar.augsburg.edu
SUMMARY:Jummuah Prayer
DESCRIPTION:Come join us for Friday Jummuah prayer 1:30-2:00pm!\nHosted by: Muslim Student Association\nAdditional Information can be found at: https://augsburg.campuslabs.com/engage/event/10374149
URL:https://calendar.augsburg.edu/event/jummuah-prayer/
LOCATION:Foss Chapel
CATEGORIES:Campus Life,Spirituality
END:VEVENT
BEGIN:VEVENT
DTSTART;TZID=America/Chicago:20240421T170000
DTEND;TZID=America/Chicago:20240421T193000
DTSTAMP:20260419T105149
CREATED:20240221T162441Z
LAST-MODIFIED:20240421T012425Z
UID:10019087-1713718800-1713727800@calendar.augsburg.edu
SUMMARY:2024 Leadership Awards
DESCRIPTION:The Augsburg Leadership Awards are given at the end of every spring semester to outstanding student leaders and student organizations. In addition\, members of the Augsburg Senior Leadership Society are inducted\, graduating Act Six scholars are honored\, and Inclusion Scholars are celebrated and recognized.\nHosted by:\nAdditional Information can be found at: https://augsburg.campuslabs.com/engage/event/9963798
URL:https://calendar.augsburg.edu/event/2024-leadership-awards/
LOCATION:Foss Chapel
CATEGORIES:Campus Life,Thoughtfullearning
END:VEVENT
BEGIN:VEVENT
DTSTART;TZID=America/Chicago:20240409T170000
DTEND;TZID=America/Chicago:20240409T220000
DTSTAMP:20260419T105149
CREATED:20240101T092517Z
LAST-MODIFIED:20240409T222421Z
UID:10018646-1712682000-1712700000@calendar.augsburg.edu
SUMMARY:Pan Asian Banquet
DESCRIPTION:The Pan Asian Banquet is an annual event in the Spring that commemorates all Pan Asian-identified students and their achievements. This event will be funded by PASS\, Hmong Women Together\, and the Augsburg Asian Student Association. Through this event\, we hope to recognize the rising leaders in the Augsburg community and bring an Alumni Gala for Augsburg alumni to celebrate with the current students. \nHosted by: Pan-Asian Mentor Program\nAdditional Information can be found at: https://augsburg.campuslabs.com/engage/event/9656551
URL:https://calendar.augsburg.edu/event/pan-asian-banquet-3/
LOCATION:Foss Chapel
CATEGORIES:Campus Life,Social
END:VEVENT
BEGIN:VEVENT
DTSTART;TZID=America/Chicago:20240209T104000
DTEND;TZID=America/Chicago:20240209T110000
DTSTAMP:20260419T105149
CREATED:20231208T072518Z
LAST-MODIFIED:20240209T132436Z
UID:10018618-1707475200-1707476400@calendar.augsburg.edu
SUMMARY:Augsburg Lunar New Year Celebration
DESCRIPTION:We will be celebrating the Lunar New Year across campus during this day!  Please join us in the chapel as we engage in a wonderful opening of Lunar New year with professional performances from the Chinese American Association of MN (CAAM) Dance Theater.  You do not want to miss out on this opportunity!  Program will start promptly at 10:40AM and end at 11:00AM during chapel time.\nHosted by: Multicultural Life\nAdditional Information can be found at: https://augsburg.campuslabs.com/engage/event/9661912
URL:https://calendar.augsburg.edu/event/augsburg-lunar-new-year-celebration/
LOCATION:Foss Chapel
CATEGORIES:Campus Life,Cultural
END:VEVENT
BEGIN:VEVENT
DTSTART;TZID=America/Chicago:20240209T103000
DTEND;TZID=America/Chicago:20240209T110000
DTSTAMP:20260419T105149
CREATED:20240206T032425Z
LAST-MODIFIED:20240209T032424Z
UID:10018962-1707474600-1707476400@calendar.augsburg.edu
SUMMARY:Lunar New Year Celebration
DESCRIPTION:We will be celebrating the Lunar New Year across campus during this day!  Please join us in the chapel as we engage in a wonderful opening of Lunar New year with professional performances from the Chinese American Association of MN (CAAM) Dance Theater.  You do not want to miss out on this opportunity!  Program will start promptly at 10:40AM and end at 11:00AM during chapel time.
URL:https://calendar.augsburg.edu/event/lunar-new-year-celebration-2/
LOCATION:Foss Chapel
CATEGORIES:Equity and Inclusion Initiatives
END:VEVENT
BEGIN:VEVENT
DTSTART;TZID=America/Chicago:20231026T191500
DTEND;TZID=America/Chicago:20231026T220000
DTSTAMP:20260419T105149
CREATED:20231013T012512Z
LAST-MODIFIED:20231026T032431Z
UID:10018125-1698347700-1698357600@calendar.augsburg.edu
SUMMARY:Rocky Horror Picture Show Showing
DESCRIPTION:Kick-off Halloweekend with QPA and our annual Rocky Horror Picture Show showing! Partici…pation kits provided to the first 50 folkx to arrive AND a costume contest to follow! Get out of your seats\, dance\, sing along\, stay for the night\, or maybe a bite. We’ll show you our favorite obsession;)\n \n\n \nHosted by: Queer Pride Alliance\nAdditional Information can be found at: https://augsburg.campuslabs.com/engage/event/9516315
URL:https://calendar.augsburg.edu/event/rocky-horror-2/
LOCATION:Foss Chapel
CATEGORIES:Arts,Campus Life
END:VEVENT
BEGIN:VEVENT
DTSTART;TZID=America/Chicago:20231026T191500
DTEND;TZID=America/Chicago:20231026T220000
DTSTAMP:20260419T105149
CREATED:20230830T162610Z
LAST-MODIFIED:20231026T032431Z
UID:10017658-1698347700-1698357600@calendar.augsburg.edu
SUMMARY:Rocky Horror
DESCRIPTION:Kick off Halloween with QPA and our annual Rocky Horror show!\nHosted by: Queer Pride Alliance\nAdditional Information can be found at: https://augsburg.campuslabs.com/engage/event/9289023
URL:https://calendar.augsburg.edu/event/rocky-horror/
LOCATION:Foss Chapel
CATEGORIES:Campus Life,Social
END:VEVENT
BEGIN:VEVENT
DTSTART;TZID=America/Chicago:20230825T090000
DTEND;TZID=America/Chicago:20230825T160000
DTSTAMP:20260419T105149
CREATED:20230825T142427Z
LAST-MODIFIED:20230825T142429Z
UID:10017639-1692954000-1692979200@calendar.augsburg.edu
SUMMARY:Auggie Days
DESCRIPTION:Required for all first-year incoming students!\nHosted by:\nAdditional Information can be found at: https://augsburg.campuslabs.com/engage/event/9260127
URL:https://calendar.augsburg.edu/event/auggie-days-7/
LOCATION:Foss Chapel
CATEGORIES:Campus Life,Thoughtfullearning
END:VEVENT
BEGIN:VEVENT
DTSTART;TZID=America/Chicago:20230411T171500
DTEND;TZID=America/Chicago:20230411T193000
DTSTAMP:20260419T105149
CREATED:20230324T082628Z
LAST-MODIFIED:20230411T112547Z
UID:10016498-1681233300-1681241400@calendar.augsburg.edu
SUMMARY:Pan Asian Banquet
DESCRIPTION:The Pan-Asian Banquet recognizes students who has shown leadership in the Augsburg community. We will specifically recognize members from the Pan-Asian Mentor Program\, Augsburg Asian Student Association and Hmong Women Together. Students who have leadership positions such as being board members and mentors are invited to come celebrate as we hand out awards and congratulate the seniors who are graduating. We will also announce the upcoming board members for next year. \nHosted by: Augsburg Asian Student Association\, Hmong Women Together\, Pan-Asian Mentor Program\nAdditional Information can be found at: https://augsburg.campuslabs.com/engage/event/9003855
URL:https://calendar.augsburg.edu/event/pan-asian-banquet-2/
LOCATION:Foss Chapel
CATEGORIES:Campus Life,Social
END:VEVENT
BEGIN:VEVENT
DTSTART;TZID=America/Chicago:20230310T180000
DTEND;TZID=America/Chicago:20230310T210000
DTSTAMP:20260419T105149
CREATED:20230228T092433Z
LAST-MODIFIED:20230310T112437Z
UID:10016333-1678471200-1678482000@calendar.augsburg.edu
SUMMARY:Asian Celebration Show
DESCRIPTION:For more information\, please visit: https://augsburg.campuslabs.com/engage/event/8928612 \nAsian Celebration Show is an annual event promoting the celebration of Asian heritage and showcasing our appreciation for all the students who attended\, supported\, and made AASA possible. Please note that this is a formal event\, and we encourage you to showcase your cultural clothing. We hope to see you all there!!! \n 
URL:https://calendar.augsburg.edu/event/asian-celebration-show-5/
LOCATION:Foss Chapel
CATEGORIES:Equity and Inclusion Initiatives
END:VEVENT
BEGIN:VEVENT
DTSTART;TZID=America/Chicago:20230310T180000
DTEND;TZID=America/Chicago:20230310T210000
DTSTAMP:20260419T105149
CREATED:20230224T032444Z
LAST-MODIFIED:20230310T063025Z
UID:10016261-1678471200-1678482000@calendar.augsburg.edu
SUMMARY:Asian Celebration Show
DESCRIPTION:Asian Celebration Show is an annual event promoting the celebration of Asian heritage and showcasing our appreciation for all the students who attended\, supported\, and made AASA possible. Please note that this is a formal event\, and we encourage you to showcase your cultural clothing. We hope to see you all there!!!\n \nHosted by: Augsburg Asian Student Association\nAdditional Information can be found at: https://augsburg.campuslabs.com/engage/event/8928612
URL:https://calendar.augsburg.edu/event/asian-celebration-show-3/
LOCATION:Foss Chapel
CATEGORIES:Campus Life,Cultural
END:VEVENT
BEGIN:VEVENT
DTSTART;TZID=America/Chicago:20220324T180000
DTEND;TZID=America/Chicago:20220324T210000
DTSTAMP:20260419T105149
CREATED:20220223T111409Z
LAST-MODIFIED:20220324T122424Z
UID:10012852-1648144800-1648155600@calendar.augsburg.edu
SUMMARY:Asian Celebration Show
DESCRIPTION:ACS is an event made to celebrate Asian heritage and to show our appreciation for all of the students who attended\, support\, and make AASA possible. This event is formal wear  and we also encourage everyone to wear their culture clothing! See you all there ❤️!\nHosted by: Augsburg Asian Student Association\nAdditional Information can be found at: https://augsburg.campuslabs.com/engage/event/7931355
URL:https://calendar.augsburg.edu/event/asian-celebration-show-2/
LOCATION:Foss Chapel
CATEGORIES:Campus Life,Social
END:VEVENT
END:VCALENDAR