BEGIN:VCALENDAR
VERSION:2.0
PRODID:-//University Calendar - ECPv6.15.16//NONSGML v1.0//EN
CALSCALE:GREGORIAN
METHOD:PUBLISH
X-ORIGINAL-URL:https://calendar.augsburg.edu
X-WR-CALDESC:Events for University Calendar
REFRESH-INTERVAL;VALUE=DURATION:PT1H
X-Robots-Tag:noindex
X-PUBLISHED-TTL:PT1H
BEGIN:VTIMEZONE
TZID:America/Chicago
BEGIN:DAYLIGHT
TZOFFSETFROM:-0600
TZOFFSETTO:-0500
TZNAME:CDT
DTSTART:20180311T080000
END:DAYLIGHT
BEGIN:STANDARD
TZOFFSETFROM:-0500
TZOFFSETTO:-0600
TZNAME:CST
DTSTART:20181104T070000
END:STANDARD
BEGIN:DAYLIGHT
TZOFFSETFROM:-0600
TZOFFSETTO:-0500
TZNAME:CDT
DTSTART:20190310T080000
END:DAYLIGHT
BEGIN:STANDARD
TZOFFSETFROM:-0500
TZOFFSETTO:-0600
TZNAME:CST
DTSTART:20191103T070000
END:STANDARD
BEGIN:DAYLIGHT
TZOFFSETFROM:-0600
TZOFFSETTO:-0500
TZNAME:CDT
DTSTART:20200308T080000
END:DAYLIGHT
BEGIN:STANDARD
TZOFFSETFROM:-0500
TZOFFSETTO:-0600
TZNAME:CST
DTSTART:20201101T070000
END:STANDARD
END:VTIMEZONE
BEGIN:VEVENT
DTSTART;TZID=America/Chicago:20191031T080000
DTEND;TZID=America/Chicago:20191031T100000
DTSTAMP:20260420T035136
CREATED:20191003T152508Z
LAST-MODIFIED:20191003T152508Z
UID:10008376-1572508800-1572516000@calendar.augsburg.edu
SUMMARY:Creating One Minnesota with Governor Tim Walz
DESCRIPTION:Please join The Forum on Workplace Inclusion on October 31 for the first Diversity Insights Breakfast of our 2019-2020 series! \nTo kickoff the breakfast series\, The Forum will hear from Governor Tim Walz\, followed by a panel of state officials discussing the state’s efforts to build One Minnesota\, where we collaborate across differences to create a state that works for everyone. \nGovernor Walz will be introduced by President Pribbenow. Registration is $75. \nRegister at ForumWorkplaceInclusion.org. Limited registration available. This will sell out fast!
URL:https://calendar.augsburg.edu/event/creating-one-minnesota-with-governor-tim-walz/
LOCATION:DoubleTree Hotel – University Area\, 511 Huron Blvd. SE\, MInneapolis\, MN\, 55414\, United States
CATEGORIES:Equity and Inclusion Initiatives,Forum on Workplace Inclusion
ATTACH;FMTTYPE=image/png:https://calendar.augsburg.edu/wp-content/uploads/2019/10/October-31_DIB_2019_headers_1200x628.png
ORGANIZER;CN="Ben Rue":MAILTO:rue1@augsburg.edu
END:VEVENT
END:VCALENDAR