BEGIN:VCALENDAR
VERSION:2.0
PRODID:-//University Calendar - ECPv6.15.16//NONSGML v1.0//EN
CALSCALE:GREGORIAN
METHOD:PUBLISH
X-ORIGINAL-URL:https://calendar.augsburg.edu
X-WR-CALDESC:Events for University Calendar
REFRESH-INTERVAL;VALUE=DURATION:PT1H
X-Robots-Tag:noindex
X-PUBLISHED-TTL:PT1H
BEGIN:VTIMEZONE
TZID:America/Chicago
BEGIN:DAYLIGHT
TZOFFSETFROM:-0600
TZOFFSETTO:-0500
TZNAME:CDT
DTSTART:20230312T080000
END:DAYLIGHT
BEGIN:STANDARD
TZOFFSETFROM:-0500
TZOFFSETTO:-0600
TZNAME:CST
DTSTART:20231105T070000
END:STANDARD
BEGIN:DAYLIGHT
TZOFFSETFROM:-0600
TZOFFSETTO:-0500
TZNAME:CDT
DTSTART:20240310T080000
END:DAYLIGHT
BEGIN:STANDARD
TZOFFSETFROM:-0500
TZOFFSETTO:-0600
TZNAME:CST
DTSTART:20241103T070000
END:STANDARD
BEGIN:DAYLIGHT
TZOFFSETFROM:-0600
TZOFFSETTO:-0500
TZNAME:CDT
DTSTART:20250309T080000
END:DAYLIGHT
BEGIN:STANDARD
TZOFFSETFROM:-0500
TZOFFSETTO:-0600
TZNAME:CST
DTSTART:20251102T070000
END:STANDARD
BEGIN:DAYLIGHT
TZOFFSETFROM:-0600
TZOFFSETTO:-0500
TZNAME:CDT
DTSTART:20260308T080000
END:DAYLIGHT
BEGIN:STANDARD
TZOFFSETFROM:-0500
TZOFFSETTO:-0600
TZNAME:CST
DTSTART:20261101T070000
END:STANDARD
BEGIN:DAYLIGHT
TZOFFSETFROM:-0600
TZOFFSETTO:-0500
TZNAME:CDT
DTSTART:20270314T080000
END:DAYLIGHT
BEGIN:STANDARD
TZOFFSETFROM:-0500
TZOFFSETTO:-0600
TZNAME:CST
DTSTART:20271107T070000
END:STANDARD
END:VTIMEZONE
BEGIN:VEVENT
DTSTART;TZID=America/Chicago:20260110T130000
DTEND;TZID=America/Chicago:20260110T160000
DTSTAMP:20260420T101702
CREATED:20260110T192436Z
LAST-MODIFIED:20260110T192436Z
UID:10023441-1768050000-1768060800@calendar.augsburg.edu
SUMMARY:Augsburg University Men's Wrestling vs #4/4 The College of New Jersey
DESCRIPTION:Augsburg University Men’s Wrestling vs #4/4 The College of New Jersey\nStreaming Video: https://www.flowrestling.org/nextgen/events/14691732/information
URL:https://calendar.augsburg.edu/event/augsburg-university-mens-wrestling-vs-4-4-the-college-of-new-jersey/
LOCATION:Cedar Falls\, Iowa\, UNI-Dome
CATEGORIES:Athletics
END:VEVENT
BEGIN:VEVENT
DTSTART;TZID=America/Chicago:20260110T110000
DTEND;TZID=America/Chicago:20260110T140000
DTSTAMP:20260420T101702
CREATED:20250616T192502Z
LAST-MODIFIED:20260110T192436Z
UID:10022022-1768042800-1768053600@calendar.augsburg.edu
SUMMARY:Augsburg University Men's Wrestling vs #6/6 Roanoke College
DESCRIPTION:Augsburg University Men’s Wrestling vs #6/6 Roanoke College\nL 11-23\nStreaming Video: https://www.flowrestling.org/nextgen/events/14691732/information
URL:https://calendar.augsburg.edu/event/augsburg-university-mens-wrestling-vs-nwca-division-iii-national-duals-5/
LOCATION:Cedar Falls\, Iowa\, UNI-Dome
CATEGORIES:Athletics
END:VEVENT
BEGIN:VEVENT
DTSTART;TZID=America/Chicago:20260109T140000
DTEND;TZID=America/Chicago:20260109T170000
DTSTAMP:20260420T101702
CREATED:20260105T192430Z
LAST-MODIFIED:20260109T192454Z
UID:10023429-1767967200-1767978000@calendar.augsburg.edu
SUMMARY:Augsburg University Men's Wrestling vs #5/7 North Central College (Ill.) or #14/10 Coe College
DESCRIPTION:Augsburg University Men’s Wrestling vs #5/7 North Central College (Ill.) or #14/10 Coe College\nStreaming Video: https://www.flowrestling.org/nextgen/events/14691732/information
URL:https://calendar.augsburg.edu/event/augsburg-university-mens-wrestling-vs-north-central-college-ill-coe-college-or-concordia-college-moorhead/
LOCATION:Cedar Falls\, Iowa\, UNI-Dome
CATEGORIES:Athletics
END:VEVENT
BEGIN:VEVENT
DTSTART;TZID=America/Chicago:20260109T120000
DTEND;TZID=America/Chicago:20260109T150000
DTSTAMP:20260420T101702
CREATED:20260105T192430Z
LAST-MODIFIED:20260109T192454Z
UID:10023428-1767960000-1767970800@calendar.augsburg.edu
SUMMARY:Augsburg University Men's Wrestling vs  #19/-- Wabash College
DESCRIPTION:Augsburg University Men’s Wrestling vs  #19/– Wabash College\nW 34-15\nStreaming Video: https://www.flowrestling.org/nextgen/events/14691732/information
URL:https://calendar.augsburg.edu/event/augsburg-university-mens-wrestling-vs-cornell-college-or-wabash-college/
LOCATION:Cedar Falls\, Iowa\, UNI-Dome
CATEGORIES:Athletics
END:VEVENT
BEGIN:VEVENT
DTSTART;TZID=America/Chicago:20250111T150000
DTEND;TZID=America/Chicago:20250111T180000
DTSTAMP:20260420T101702
CREATED:20250110T232438Z
LAST-MODIFIED:20250110T232438Z
UID:10021164-1736607600-1736618400@calendar.augsburg.edu
SUMMARY:Augsburg University Men's Wrestling vs #1/1 Wartburg or #3/4 Johnson & Wales
DESCRIPTION:Augsburg University Men’s Wrestling vs #1/1 Wartburg or #3/4 Johnson & Wales\nStreaming Video: https://www.flowrestling.org/live/146188
URL:https://calendar.augsburg.edu/event/augsburg-university-mens-wrestling-vs-1-1-wartburg-or-3-4-johnson-wales/
LOCATION:Cedar Falls\, Iowa\, UNI-Dome
CATEGORIES:Athletics
END:VEVENT
BEGIN:VEVENT
DTSTART;TZID=America/Chicago:20250111T110000
DTEND;TZID=America/Chicago:20250111T140000
DTSTAMP:20260420T101702
CREATED:20250110T232432Z
LAST-MODIFIED:20250110T232433Z
UID:10021163-1736593200-1736604000@calendar.augsburg.edu
SUMMARY:Augsburg University Men's Wrestling vs #2/2 University of Wisconsin-La Crosse
DESCRIPTION:Augsburg University Men’s Wrestling vs #2/2 University of Wisconsin-La Crosse\nStreaming Video: https://www.flowrestling.org/live/146188
URL:https://calendar.augsburg.edu/event/augsburg-university-mens-wrestling-vs-2-2-university-of-wisconsin-la-crosse/
LOCATION:Cedar Falls\, Iowa\, UNI-Dome
CATEGORIES:Athletics
END:VEVENT
BEGIN:VEVENT
DTSTART;TZID=America/Chicago:20250110T140000
DTEND;TZID=America/Chicago:20250110T170000
DTSTAMP:20260420T101702
CREATED:20250109T232427Z
LAST-MODIFIED:20250109T232429Z
UID:10021130-1736517600-1736528400@calendar.augsburg.edu
SUMMARY:Augsburg University Men's Wrestling vs Vermont State-Castleton / Albion / RIT
DESCRIPTION:Augsburg University Men’s Wrestling vs Vermont State-Castleton / Albion / RIT\nStreaming Video: https://www.flowrestling.org/live/146188
URL:https://calendar.augsburg.edu/event/augsburg-university-mens-wrestling-vs-vermont-state-castleton-albion-rit/
LOCATION:Cedar Falls\, Iowa\, UNI-Dome
CATEGORIES:Athletics
END:VEVENT
BEGIN:VEVENT
DTSTART;TZID=America/Chicago:20250110T120000
DTEND;TZID=America/Chicago:20250110T150000
DTSTAMP:20260420T101702
CREATED:20240703T232536Z
LAST-MODIFIED:20250109T232429Z
UID:10019658-1736510400-1736521200@calendar.augsburg.edu
SUMMARY:Augsburg University Men's Wrestling vs Albion College or Rochester Institute of Technology
DESCRIPTION:Augsburg University Men’s Wrestling vs Albion College or Rochester Institute of Technology\nStreaming Video: https://www.flowrestling.org/live/146188
URL:https://calendar.augsburg.edu/event/augsburg-university-mens-wrestling-vs-nwca-division-iii-national-duals-4/
LOCATION:Cedar Falls\, Iowa\, UNI-Dome
CATEGORIES:Athletics
END:VEVENT
BEGIN:VEVENT
DTSTART;VALUE=DATE:20250109
DTEND;VALUE=DATE:20250111
DTSTAMP:20260420T101702
CREATED:20240703T232537Z
LAST-MODIFIED:20240710T232549Z
UID:10019659-1736445600-1736531999@calendar.augsburg.edu
SUMMARY:Augsburg University Men's Wrestling vs NWCA Nuway Open
DESCRIPTION:Augsburg University Men’s Wrestling vs NWCA Nuway Open\n https://athletics.augsburg.edu/calendar.aspx?game_id=20356&sport_id=19
URL:https://calendar.augsburg.edu/event/augsburg-university-mens-wrestling-vs-nwca-nuway-open/
LOCATION:Cedar Falls\, Iowa\, UNI-Dome
CATEGORIES:Athletics
END:VEVENT
BEGIN:VEVENT
DTSTART;TZID=America/Chicago:20240106T150000
DTEND;TZID=America/Chicago:20240106T180000
DTSTAMP:20260420T101702
CREATED:20240106T212425Z
LAST-MODIFIED:20240106T212426Z
UID:10018666-1704553200-1704564000@calendar.augsburg.edu
SUMMARY:Augsburg University Men's Wrestling vs #2/2 Wartburg College
DESCRIPTION:Augsburg University Men’s Wrestling vs #2/2 Wartburg College\nStreaming Video: https://accounts.trackwrestling.com/signup?next=https://www.trackwrestling.com/Stream.jsp?eventType=T&eventId=772827132&TIM=1704303795135&twSessionId=xxynclicho\n https://athletics.augsburg.edu/calendar.aspx?game_id=20126&sport_id=19
URL:https://calendar.augsburg.edu/event/augsburg-university-mens-wrestling-vs-2-2-wartburg-college/
LOCATION:Cedar Falls\, Iowa\, UNI-Dome
CATEGORIES:Athletics
END:VEVENT
BEGIN:VEVENT
DTSTART;TZID=America/Chicago:20240106T110000
DTEND;TZID=America/Chicago:20240106T140000
DTSTAMP:20260420T101702
CREATED:20240105T212426Z
LAST-MODIFIED:20240105T212428Z
UID:10018665-1704538800-1704549600@calendar.augsburg.edu
SUMMARY:Augsburg University Men's Wrestling vs NWCA Division III National Duals Semifinals
DESCRIPTION:Augsburg University Men’s Wrestling vs NWCA Division III National Duals Semifinals\nStreaming Video: https://accounts.trackwrestling.com/signup?next=https://www.trackwrestling.com/Stream.jsp?eventType=T&eventId=772827132&TIM=1704303795135&twSessionId=xxynclicho\n https://athletics.augsburg.edu/calendar.aspx?game_id=20125&sport_id=19
URL:https://calendar.augsburg.edu/event/augsburg-university-mens-wrestling-vs-nwca-division-iii-national-duals-semifinals/
LOCATION:Cedar Falls\, Iowa\, UNI-Dome
CATEGORIES:Athletics
END:VEVENT
BEGIN:VEVENT
DTSTART;TZID=America/Chicago:20240105T140000
DTEND;TZID=America/Chicago:20240105T170000
DTSTAMP:20260420T101702
CREATED:20230802T192850Z
LAST-MODIFIED:20240105T212428Z
UID:10017494-1704463200-1704474000@calendar.augsburg.edu
SUMMARY:Augsburg University Men's Wrestling vs Johnson & Wales University
DESCRIPTION:Augsburg University Men’s Wrestling vs Johnson & Wales University\nW 35-10\nStreaming Video: https://accounts.trackwrestling.com/signup?next=https://www.trackwrestling.com/Stream.jsp?eventType=T&eventId=772827132&TIM=1704303795135&twSessionId=xxynclicho\n https://athletics.augsburg.edu/calendar.aspx?game_id=19737&sport_id=19
URL:https://calendar.augsburg.edu/event/augsburg-university-mens-wrestling-vs-nwca-division-iii-national-duals-3/
LOCATION:Cedar Falls\, Iowa\, UNI-Dome
CATEGORIES:Athletics
END:VEVENT
BEGIN:VEVENT
DTSTART;TZID=America/Chicago:20240105T120000
DTEND;TZID=America/Chicago:20240105T150000
DTSTAMP:20260420T101702
CREATED:20231230T212444Z
LAST-MODIFIED:20240104T212444Z
UID:10018645-1704456000-1704466800@calendar.augsburg.edu
SUMMARY:Augsburg University Men's Wrestling vs Cornell (Iowa) or Olivet
DESCRIPTION:Augsburg University Men’s Wrestling vs Cornell (Iowa) or Olivet\nStreaming Video: https://accounts.trackwrestling.com/signup?next=https://www.trackwrestling.com/Stream.jsp?eventType=T&eventId=772827132&TIM=1704303795135&twSessionId=xxynclicho\n https://athletics.augsburg.edu/calendar.aspx?game_id=20024&sport_id=19
URL:https://calendar.augsburg.edu/event/augsburg-university-mens-wrestling-vs-cornell-iowa-or-olivet/
LOCATION:Cedar Falls\, Iowa\, UNI-Dome
CATEGORIES:Athletics
END:VEVENT
BEGIN:VEVENT
DTSTART;TZID=America/Chicago:20240105T090000
DTEND;TZID=America/Chicago:20240105T120000
DTSTAMP:20260420T101702
CREATED:20230802T192852Z
LAST-MODIFIED:20240104T212444Z
UID:10017495-1704445200-1704456000@calendar.augsburg.edu
SUMMARY:Augsburg University Men's Wrestling vs (WT) NWCA Nuway Open
DESCRIPTION:Augsburg University Men’s Wrestling vs (WT) NWCA Nuway Open\nStreaming Video: https://accounts.trackwrestling.com/signup?next=https://www.trackwrestling.com/Stream.jsp?eventType=O&eventId=809252132&TIM=1704303939273&twSessionId=xxynclicho\n https://athletics.augsburg.edu/calendar.aspx?game_id=19738&sport_id=19
URL:https://calendar.augsburg.edu/event/augsburg-university-mens-wrestling-vs-wt-nwca-nuway-open-2/
LOCATION:Cedar Falls\, Iowa\, UNI-Dome
CATEGORIES:Athletics
END:VEVENT
BEGIN:VEVENT
DTSTART;VALUE=DATE:20240104
DTEND;VALUE=DATE:20240106
DTSTAMP:20260420T101702
CREATED:20231012T202502Z
LAST-MODIFIED:20231214T212432Z
UID:10018113-1704391200-1704477599@calendar.augsburg.edu
SUMMARY:Augsburg University Women's Wrestling vs NWCA Women's Wrestling National Duals
DESCRIPTION:Augsburg University Women’s Wrestling vs NWCA Women’s Wrestling National Duals\n https://athletics.augsburg.edu/calendar.aspx?game_id=19867&sport_id=31
URL:https://calendar.augsburg.edu/event/augsburg-university-womens-wrestling-vs-nwca-womens-wrestling-national-duals-4/
LOCATION:Cedar Falls\, Iowa\, UNI-Dome
CATEGORIES:Athletics
END:VEVENT
END:VCALENDAR