BEGIN:VCALENDAR
VERSION:2.0
PRODID:-//University Calendar - ECPv6.15.16//NONSGML v1.0//EN
CALSCALE:GREGORIAN
METHOD:PUBLISH
X-ORIGINAL-URL:https://calendar.augsburg.edu
X-WR-CALDESC:Events for University Calendar
REFRESH-INTERVAL;VALUE=DURATION:PT1H
X-Robots-Tag:noindex
X-PUBLISHED-TTL:PT1H
BEGIN:VTIMEZONE
TZID:America/Chicago
BEGIN:DAYLIGHT
TZOFFSETFROM:-0600
TZOFFSETTO:-0500
TZNAME:CDT
DTSTART:20210314T080000
END:DAYLIGHT
BEGIN:STANDARD
TZOFFSETFROM:-0500
TZOFFSETTO:-0600
TZNAME:CST
DTSTART:20211107T070000
END:STANDARD
BEGIN:DAYLIGHT
TZOFFSETFROM:-0600
TZOFFSETTO:-0500
TZNAME:CDT
DTSTART:20220313T080000
END:DAYLIGHT
BEGIN:STANDARD
TZOFFSETFROM:-0500
TZOFFSETTO:-0600
TZNAME:CST
DTSTART:20221106T070000
END:STANDARD
BEGIN:DAYLIGHT
TZOFFSETFROM:-0600
TZOFFSETTO:-0500
TZNAME:CDT
DTSTART:20230312T080000
END:DAYLIGHT
BEGIN:STANDARD
TZOFFSETFROM:-0500
TZOFFSETTO:-0600
TZNAME:CST
DTSTART:20231105T070000
END:STANDARD
BEGIN:DAYLIGHT
TZOFFSETFROM:-0600
TZOFFSETTO:-0500
TZNAME:CDT
DTSTART:20240310T080000
END:DAYLIGHT
BEGIN:STANDARD
TZOFFSETFROM:-0500
TZOFFSETTO:-0600
TZNAME:CST
DTSTART:20241103T070000
END:STANDARD
END:VTIMEZONE
BEGIN:VEVENT
DTSTART;TZID=America/Chicago:20231214T150000
DTEND;TZID=America/Chicago:20231214T170000
DTSTAMP:20260424T120110
CREATED:20231130T165850Z
LAST-MODIFIED:20231130T165850Z
UID:10018533-1702566000-1702573200@calendar.augsburg.edu
SUMMARY:Faculty and Staff Holiday Party
DESCRIPTION:Faculty and staff are invited to attend the annual faculty and staff holiday party! Celebrate the completion of a successful semester and the holiday season with colleagues on campus. Light food and beverages will be provided. \nIf you need accommodations\, please call the University Events department at 612.330.1104 or email events@augsburg.edu. \nTo support our community\, please consider bringing nonperishable food or hygiene product donations for Campus Cupboard. A list of preferred/needed items is linked below. \nPreferred/needed items for Campus Cupboard
URL:https://calendar.augsburg.edu/event/faculty-and-staff-holiday-party-2/
LOCATION:Augsburg University – Hoversten Chapel in Foss
CATEGORIES:Campus Life
END:VEVENT
BEGIN:VEVENT
DTSTART;TZID=America/Chicago:20230204T090000
DTEND;TZID=America/Chicago:20230204T170000
DTSTAMP:20260424T120110
CREATED:20230109T162301Z
LAST-MODIFIED:20230109T162301Z
UID:10015722-1675501200-1675530000@calendar.augsburg.edu
SUMMARY:Augsburg 9th & 10th Grade Honor Band
DESCRIPTION:High school band students from around the state will gather for a day of music-making led by Dr. Erika Svanoe and Augsburg’s music students and faculty. Concert at 4:00 p.m. in Hoversten Chapel.
URL:https://calendar.augsburg.edu/event/augsburg-9th-10th-grade-honor-band-2/
LOCATION:Augsburg University – Hoversten Chapel in Foss
CATEGORIES:Creative Arts
ORGANIZER;CN="Music Department":MAILTO:musicdept@augsburg.edu
END:VEVENT
BEGIN:VEVENT
DTSTART;TZID=America/Chicago:20221210T150000
DTEND;TZID=America/Chicago:20221210T180000
DTSTAMP:20260424T120110
CREATED:20221128T145710Z
LAST-MODIFIED:20221128T145710Z
UID:10015526-1670684400-1670695200@calendar.augsburg.edu
SUMMARY:ASMTA End-Of-Semester Concert
DESCRIPTION:Join us for an afternoon of live music\, food\, and celebration! All are welcome\, feel free to bring friends and family. \nThis concert is a fundraiser collecting money to support music therapy students attending the World Congress of Music Therapy happening in Canada this July. We recommend a donation of $5-10 dollars as you are able when you attend! 🙂 \nIf you have any dietary restrictions\, please RSVP as soon as possible to let us know.
URL:https://calendar.augsburg.edu/event/asmta-end-of-semester-concert-2/
LOCATION:Augsburg University – Hoversten Chapel in Foss
CATEGORIES:Creative Arts
ATTACH;FMTTYPE=image/jpeg:https://calendar.augsburg.edu/wp-content/uploads/2022/11/IMG_3908.jpg
ORGANIZER;CN="Augsburg Student Music Therapy Association":MAILTO:zastrow5@augsburg.edu
END:VEVENT
BEGIN:VEVENT
DTSTART;TZID=America/Chicago:20221118T163000
DTEND;TZID=America/Chicago:20221118T210000
DTSTAMP:20260424T120110
CREATED:20221110T152440Z
LAST-MODIFIED:20221118T152425Z
UID:10015394-1668789000-1668805200@calendar.augsburg.edu
SUMMARY:Hmong Women Together's Hmong New Year
DESCRIPTION:Hmong Women Together will be hosting our 2nd annual Hmong New Year here at Augsburg! There will be performers from Augsburg students\, dance groups\, and singers! We will have raffles with prizes\, a fashion show\, and many other festivities. Free entry\, free dinner\, come along and celebrate!\nHosted by: Hmong Women Together\nAdditional Information can be found at: https://augsburg.campuslabs.com/engage/event/8585269
URL:https://calendar.augsburg.edu/event/hmong-women-togethers-hmong-new-year/
LOCATION:Augsburg University – Hoversten Chapel in Foss
CATEGORIES:Campus Life,Social
END:VEVENT
END:VCALENDAR