BEGIN:VCALENDAR
VERSION:2.0
PRODID:-//University Calendar - ECPv6.15.16//NONSGML v1.0//EN
CALSCALE:GREGORIAN
METHOD:PUBLISH
X-ORIGINAL-URL:https://calendar.augsburg.edu
X-WR-CALDESC:Events for University Calendar
REFRESH-INTERVAL;VALUE=DURATION:PT1H
X-Robots-Tag:noindex
X-PUBLISHED-TTL:PT1H
BEGIN:VTIMEZONE
TZID:America/Chicago
BEGIN:DAYLIGHT
TZOFFSETFROM:-0600
TZOFFSETTO:-0500
TZNAME:CDT
DTSTART:20220313T080000
END:DAYLIGHT
BEGIN:STANDARD
TZOFFSETFROM:-0500
TZOFFSETTO:-0600
TZNAME:CST
DTSTART:20221106T070000
END:STANDARD
BEGIN:DAYLIGHT
TZOFFSETFROM:-0600
TZOFFSETTO:-0500
TZNAME:CDT
DTSTART:20230312T080000
END:DAYLIGHT
BEGIN:STANDARD
TZOFFSETFROM:-0500
TZOFFSETTO:-0600
TZNAME:CST
DTSTART:20231105T070000
END:STANDARD
BEGIN:DAYLIGHT
TZOFFSETFROM:-0600
TZOFFSETTO:-0500
TZNAME:CDT
DTSTART:20240310T080000
END:DAYLIGHT
BEGIN:STANDARD
TZOFFSETFROM:-0500
TZOFFSETTO:-0600
TZNAME:CST
DTSTART:20241103T070000
END:STANDARD
END:VTIMEZONE
BEGIN:VEVENT
DTSTART;TZID=America/Chicago:20231129T180000
DTEND;TZID=America/Chicago:20231129T190000
DTSTAMP:20260423T131324
CREATED:20231116T062720Z
LAST-MODIFIED:20231129T072434Z
UID:10018484-1701280800-1701284400@calendar.augsburg.edu
SUMMARY:Music Therapy Proficiency Presentation 2
DESCRIPTION:Don’t know what to expect or how to prepare for your guitar and piano proficiencies? We’re here to help! Join us for an info session on the music therapy proficiencies covering everything you’ll need to know. If you would like to practice performing songs for your proficiencies\, this presentation time is a great opportunity to do so!\nThis is the second of two presentations that will cover the same things\, but you’re more than welcome to come to both!\n(If it would help to do this event online as well as in-person\, please email me at zastrow5@augsburg.edu and I can set up a link)\nHosted by: Augsburg Student Music Therapy Association\nAdditional Information can be found at: https://augsburg.campuslabs.com/engage/event/9621972
URL:https://calendar.augsburg.edu/event/music-therapy-proficiency-presentation-2/
LOCATION:Anderson Music Hall – M22
CATEGORIES:Arts,Campus Life
END:VEVENT
END:VCALENDAR