BEGIN:VCALENDAR
VERSION:2.0
PRODID:-//University Calendar - ECPv6.15.16//NONSGML v1.0//EN
CALSCALE:GREGORIAN
METHOD:PUBLISH
X-ORIGINAL-URL:https://calendar.augsburg.edu
X-WR-CALDESC:Events for University Calendar
REFRESH-INTERVAL;VALUE=DURATION:PT1H
X-Robots-Tag:noindex
X-PUBLISHED-TTL:PT1H
BEGIN:VTIMEZONE
TZID:America/Chicago
BEGIN:DAYLIGHT
TZOFFSETFROM:-0600
TZOFFSETTO:-0500
TZNAME:CDT
DTSTART:20220313T080000
END:DAYLIGHT
BEGIN:STANDARD
TZOFFSETFROM:-0500
TZOFFSETTO:-0600
TZNAME:CST
DTSTART:20221106T070000
END:STANDARD
BEGIN:DAYLIGHT
TZOFFSETFROM:-0600
TZOFFSETTO:-0500
TZNAME:CDT
DTSTART:20230312T080000
END:DAYLIGHT
BEGIN:STANDARD
TZOFFSETFROM:-0500
TZOFFSETTO:-0600
TZNAME:CST
DTSTART:20231105T070000
END:STANDARD
BEGIN:DAYLIGHT
TZOFFSETFROM:-0600
TZOFFSETTO:-0500
TZNAME:CDT
DTSTART:20240310T080000
END:DAYLIGHT
BEGIN:STANDARD
TZOFFSETFROM:-0500
TZOFFSETTO:-0600
TZNAME:CST
DTSTART:20241103T070000
END:STANDARD
BEGIN:DAYLIGHT
TZOFFSETFROM:-0600
TZOFFSETTO:-0500
TZNAME:CDT
DTSTART:20250309T080000
END:DAYLIGHT
BEGIN:STANDARD
TZOFFSETFROM:-0500
TZOFFSETTO:-0600
TZNAME:CST
DTSTART:20251102T070000
END:STANDARD
BEGIN:DAYLIGHT
TZOFFSETFROM:-0600
TZOFFSETTO:-0500
TZNAME:CDT
DTSTART:20260308T080000
END:DAYLIGHT
BEGIN:STANDARD
TZOFFSETFROM:-0500
TZOFFSETTO:-0600
TZNAME:CST
DTSTART:20261101T070000
END:STANDARD
BEGIN:DAYLIGHT
TZOFFSETFROM:-0600
TZOFFSETTO:-0500
TZNAME:CDT
DTSTART:20270314T080000
END:DAYLIGHT
BEGIN:STANDARD
TZOFFSETFROM:-0500
TZOFFSETTO:-0600
TZNAME:CST
DTSTART:20271107T070000
END:STANDARD
END:VTIMEZONE
BEGIN:VEVENT
DTSTART;TZID=America/Chicago:20260211T170000
DTEND;TZID=America/Chicago:20260211T193000
DTSTAMP:20260420T064631
CREATED:20260211T032424Z
LAST-MODIFIED:20260211T032425Z
UID:10023621-1770829200-1770838200@calendar.augsburg.edu
SUMMARY:Beautiful Bouquet Making
DESCRIPTION:Come make a mini valentines day fake flower bouquet on 1st floor \nHosted by:\nAdditional Information can be found at: https://augsburg.campuslabs.com/engage/event/12223727
URL:https://calendar.augsburg.edu/event/beautiful-bouquet-making/
LOCATION:1st Floor Lounge
CATEGORIES:Arts,Campus Life
END:VEVENT
BEGIN:VEVENT
DTSTART;TZID=America/Chicago:20251208T193000
DTEND;TZID=America/Chicago:20251208T213000
DTSTAMP:20260420T064631
CREATED:20251203T022443Z
LAST-MODIFIED:20251209T022515Z
UID:10023318-1765222200-1765229400@calendar.augsburg.edu
SUMMARY:Study & Late Night Breakfast
DESCRIPTION:Come learn the psychology behind different study habits and how you can best study to serve yourself and then take a break and get some great food at late night breakfast\nHosted by:\nAdditional Information can be found at: https://augsburg.campuslabs.com/engage/event/11925397
URL:https://calendar.augsburg.edu/event/study-late-night-breakfast/
LOCATION:1st Floor Lounge
CATEGORIES:Campus Life,Social
END:VEVENT
BEGIN:VEVENT
DTSTART;TZID=America/Chicago:20251124T170000
DTEND;TZID=America/Chicago:20251124T183000
DTSTAMP:20260420T064631
CREATED:20251120T022459Z
LAST-MODIFIED:20251123T022424Z
UID:10023298-1764003600-1764009000@calendar.augsburg.edu
SUMMARY:Kandi and Candy
DESCRIPTION:Come to 1st Floor Rainbow House Event to learn how to make Kandi bracelets and get candy. \nHosted by:\nAdditional Information can be found at: https://augsburg.campuslabs.com/engage/event/11902008
URL:https://calendar.augsburg.edu/event/kandi-and-candy/
LOCATION:1st Floor Lounge
CATEGORIES:Campus Life,Thoughtfullearning
END:VEVENT
BEGIN:VEVENT
DTSTART;TZID=America/Chicago:20230207T210000
DTEND;TZID=America/Chicago:20230207T220000
DTSTAMP:20260420T064631
CREATED:20230131T022444Z
LAST-MODIFIED:20230208T022436Z
UID:10016011-1675803600-1675807200@calendar.augsburg.edu
SUMMARY:February Floor Meeting (Floor 1)
DESCRIPTION:Monthly floor meetings to discuss new and updated information in regard to the residence hall and involvement.\nHosted by:\nAdditional Information can be found at: https://augsburg.campuslabs.com/engage/event/8822717
URL:https://calendar.augsburg.edu/event/february-floor-meeting-floor-1/
LOCATION:1st Floor Lounge
CATEGORIES:Campus Life,Social
END:VEVENT
END:VCALENDAR