BEGIN:VCALENDAR
VERSION:2.0
PRODID:-//University Calendar - ECPv6.15.16//NONSGML v1.0//EN
CALSCALE:GREGORIAN
METHOD:PUBLISH
X-ORIGINAL-URL:https://calendar.augsburg.edu
X-WR-CALDESC:Events for University Calendar
REFRESH-INTERVAL;VALUE=DURATION:PT1H
X-Robots-Tag:noindex
X-PUBLISHED-TTL:PT1H
BEGIN:VTIMEZONE
TZID:America/Chicago
BEGIN:DAYLIGHT
TZOFFSETFROM:-0600
TZOFFSETTO:-0500
TZNAME:CDT
DTSTART:20180311T080000
END:DAYLIGHT
BEGIN:STANDARD
TZOFFSETFROM:-0500
TZOFFSETTO:-0600
TZNAME:CST
DTSTART:20181104T070000
END:STANDARD
BEGIN:DAYLIGHT
TZOFFSETFROM:-0600
TZOFFSETTO:-0500
TZNAME:CDT
DTSTART:20190310T080000
END:DAYLIGHT
BEGIN:STANDARD
TZOFFSETFROM:-0500
TZOFFSETTO:-0600
TZNAME:CST
DTSTART:20191103T070000
END:STANDARD
BEGIN:DAYLIGHT
TZOFFSETFROM:-0600
TZOFFSETTO:-0500
TZNAME:CDT
DTSTART:20200308T080000
END:DAYLIGHT
BEGIN:STANDARD
TZOFFSETFROM:-0500
TZOFFSETTO:-0600
TZNAME:CST
DTSTART:20201101T070000
END:STANDARD
BEGIN:DAYLIGHT
TZOFFSETFROM:-0600
TZOFFSETTO:-0500
TZNAME:CDT
DTSTART:20210314T080000
END:DAYLIGHT
BEGIN:STANDARD
TZOFFSETFROM:-0500
TZOFFSETTO:-0600
TZNAME:CST
DTSTART:20211107T070000
END:STANDARD
BEGIN:DAYLIGHT
TZOFFSETFROM:-0600
TZOFFSETTO:-0500
TZNAME:CDT
DTSTART:20220313T080000
END:DAYLIGHT
BEGIN:STANDARD
TZOFFSETFROM:-0500
TZOFFSETTO:-0600
TZNAME:CST
DTSTART:20221106T070000
END:STANDARD
BEGIN:DAYLIGHT
TZOFFSETFROM:-0600
TZOFFSETTO:-0500
TZNAME:CDT
DTSTART:20230312T080000
END:DAYLIGHT
BEGIN:STANDARD
TZOFFSETFROM:-0500
TZOFFSETTO:-0600
TZNAME:CST
DTSTART:20231105T070000
END:STANDARD
BEGIN:DAYLIGHT
TZOFFSETFROM:-0600
TZOFFSETTO:-0500
TZNAME:CDT
DTSTART:20240310T080000
END:DAYLIGHT
BEGIN:STANDARD
TZOFFSETFROM:-0500
TZOFFSETTO:-0600
TZNAME:CST
DTSTART:20241103T070000
END:STANDARD
BEGIN:DAYLIGHT
TZOFFSETFROM:-0600
TZOFFSETTO:-0500
TZNAME:CDT
DTSTART:20250309T080000
END:DAYLIGHT
BEGIN:STANDARD
TZOFFSETFROM:-0500
TZOFFSETTO:-0600
TZNAME:CST
DTSTART:20251102T070000
END:STANDARD
BEGIN:DAYLIGHT
TZOFFSETFROM:-0600
TZOFFSETTO:-0500
TZNAME:CDT
DTSTART:20260308T080000
END:DAYLIGHT
BEGIN:STANDARD
TZOFFSETFROM:-0500
TZOFFSETTO:-0600
TZNAME:CST
DTSTART:20261101T070000
END:STANDARD
BEGIN:DAYLIGHT
TZOFFSETFROM:-0600
TZOFFSETTO:-0500
TZNAME:CDT
DTSTART:20270314T080000
END:DAYLIGHT
BEGIN:STANDARD
TZOFFSETFROM:-0500
TZOFFSETTO:-0600
TZNAME:CST
DTSTART:20271107T070000
END:STANDARD
END:VTIMEZONE
BEGIN:VEVENT
DTSTART;TZID=America/Chicago:20260421T150000
DTEND;TZID=America/Chicago:20260421T163000
DTSTAMP:20260425T093534
CREATED:20251022T163559Z
LAST-MODIFIED:20251022T163559Z
UID:10023152-1776783600-1776789000@calendar.augsburg.edu
SUMMARY:Zyzzogeton Student Research Symposium
DESCRIPTION:Augsburg celebrates the creativity and scholarship of undergraduate students with its annual Zyzzogeton Student Research Poster symposium. The event falls at the end of each academic year and is a culmination of achievement featuring work across departments. Over 50 students participate annually\, showcasing their research in various science\, social science\, and humanity disciplines. Zyzzogeton is free and open to all students\, faculty\, and staff.
URL:https://calendar.augsburg.edu/event/zyzzogeton-student-research-symposium-4/
LOCATION:Hagfors Center
CATEGORIES:Campus Life,General Campus Events
ORGANIZER;CN="URGO":MAILTO:urgo@augsburg.edu
GEO:44.96662;-93.24271
END:VEVENT
BEGIN:VEVENT
DTSTART;TZID=America/Chicago:20230411T150000
DTEND;TZID=America/Chicago:20230411T163000
DTSTAMP:20260425T093534
CREATED:20230110T143153Z
LAST-MODIFIED:20230110T143153Z
UID:10015725-1681225200-1681230600@calendar.augsburg.edu
SUMMARY:Zyzzogeton Student Research Poster Symposium
DESCRIPTION:Augsburg celebrates the creativity and scholarship of undergraduate students with its annual Zyzzogeton Student Research Poster Symposium. The event falls at the end of each academic year and is a culmination of achievement featuring work across departments. Over 50 students participate annually\, showcasing their research in various science\, social science\, and humanity disciplines. A “zyzzogeton” is a green leaf-hopper as well as the last word in the Webster Collegiate Dictionary\, which is a fitting symbol to mark the end of the academic year. Zyzzogeton is free and open to all students\, faculty\, and staff.
URL:https://calendar.augsburg.edu/event/zyzzogeton-student-research-poster-symposium-2/
LOCATION:Hagfors Center
CATEGORIES:General Campus Events
ATTACH;FMTTYPE=image/jpeg:https://calendar.augsburg.edu/wp-content/uploads/2023/01/Z_3.jpg
ORGANIZER;CN="URGO":MAILTO:urgo@augsburg.edu
GEO:44.96662;-93.24271
END:VEVENT
BEGIN:VEVENT
DTSTART;TZID=America/Chicago:20210413T150000
DTEND;TZID=America/Chicago:20210413T163000
DTSTAMP:20260425T093534
CREATED:20201113T173349Z
LAST-MODIFIED:20210401T144827Z
UID:10010571-1618326000-1618331400@calendar.augsburg.edu
SUMMARY:Zyzzogeton Student Research Symposium
DESCRIPTION:Augsburg celebrates the creativity and scholarship of undergraduate students with its annual Zyzzogeton festival. The festival falls at the end of each academic year and is a culmination of achievement featuring work across departments. Over 80 students participate each spring\, showcasing their research. This year the event will be held virtually and all Augsburg students\, faculty\, staff and community are welcome to attend! \nThis year Zyzzogeton will be held virtually\, with student posters available for viewing online and live Q & A sessions. Please join us on Tuesday\, April 13\, 3 – 4:30pm at https://symposium.foragerone.com/zyzzogeton2021.
URL:https://calendar.augsburg.edu/event/zyzzogeton-student-research-symposium-2/
LOCATION:Virtual Event
CATEGORIES:General Campus Events
ATTACH;FMTTYPE=image/jpeg:https://calendar.augsburg.edu/wp-content/uploads/2020/11/18_Z_Sande-Martin3.jpg
ORGANIZER;CN="URGO":MAILTO:urgo@augsburg.edu
END:VEVENT
BEGIN:VEVENT
DTSTART;TZID=America/Chicago:20210325T180000
DTEND;TZID=America/Chicago:20210325T193000
DTSTAMP:20260425T093534
CREATED:20210309T151521Z
LAST-MODIFIED:20210309T151521Z
UID:10011030-1616695200-1616700600@calendar.augsburg.edu
SUMMARY:PA Alumni Panel
DESCRIPTION:Join Augsburg alumni from across the country who are professional students or practitioners to learn more about their experiences getting to their respective programs\, education and training\, and practice.
URL:https://calendar.augsburg.edu/event/pa-alumni-panel/
LOCATION:Online
CATEGORIES:Alumni
ATTACH;FMTTYPE=image/png:https://calendar.augsburg.edu/wp-content/uploads/2021/03/Screen-Shot-2021-03-09-at-9.13.40-AM.png
ORGANIZER;CN="URGO":MAILTO:urgo@augsburg.edu
END:VEVENT
BEGIN:VEVENT
DTSTART;TZID=America/Chicago:20201119T170000
DTEND;TZID=America/Chicago:20201119T180000
DTSTAMP:20260425T093534
CREATED:20201105T151301Z
LAST-MODIFIED:20201105T151301Z
UID:10010539-1605805200-1605808800@calendar.augsburg.edu
SUMMARY:URGO Summer Research Info Session 2
DESCRIPTION:Hear from past researchers and get the scoop on writing a strong application!\nThe URGO Summer Research Program is an 11-week\, on-campus program where undergraduate students are funded to conduct research or creative activities under the guidance of a faculty mentor.\nApplications for URGO Summer Research will be available on the URGO website soon (https://www.augsburg.edu/urgo/).\nIf you have any questions regarding the program or cannot make it to an info session and would like to learn more\, please contact urgo@augsburg.edu to set up an appointment.
URL:https://calendar.augsburg.edu/event/urgo-summer-research-info-session-2/
CATEGORIES:Campus Life
ATTACH;FMTTYPE=image/png:https://calendar.augsburg.edu/wp-content/uploads/2020/11/Screen-Shot-2020-10-19-at-11.34.58-AM.png
ORGANIZER;CN="URGO":MAILTO:urgo@augsburg.edu
END:VEVENT
BEGIN:VEVENT
DTSTART;TZID=America/Chicago:20201105T180000
DTEND;TZID=America/Chicago:20201105T193000
DTSTAMP:20260425T093534
CREATED:20201019T164854Z
LAST-MODIFIED:20201019T164854Z
UID:10010409-1604599200-1604604600@calendar.augsburg.edu
SUMMARY:Ross University School of Medicine Info Session
DESCRIPTION:Milena Garcia\, Associate Director of Admissions\, will speak about med school competencies and how Covid has changed teaching. Augsburg alum\, Cedith Giddings\, ’15 Biology\, will share her perspectives as a med student at Ross.
URL:https://calendar.augsburg.edu/event/ross-university-school-of-medicine-info-session/
CATEGORIES:General Campus Events
ATTACH;FMTTYPE=image/jpeg:https://calendar.augsburg.edu/wp-content/uploads/2020/10/Ross-University-Info-Session-2020.jpg
ORGANIZER;CN="URGO":MAILTO:urgo@augsburg.edu
END:VEVENT
BEGIN:VEVENT
DTSTART;TZID=America/Chicago:20200408T160000
DTEND;TZID=America/Chicago:20200408T173000
DTSTAMP:20260425T093534
CREATED:20200306T204655Z
LAST-MODIFIED:20200306T204655Z
UID:10009522-1586361600-1586367000@calendar.augsburg.edu
SUMMARY:Des Moines University Info Session
DESCRIPTION:Wednesday\, April 8 \nfrom 4-5:30pm \nin Hagfors 106 \nMeet with Anna Cruz\, Recruitment and Admissions Specialist\, to learn more about Des Moines University’s health sciences programs which include: osteopathic medicine\, podiatric medicine\, physician assistant\, physical therapy\, public health\, health care administration\, anatomy\, and biomedical sciences. Learn more about what DMU seeks in a competitive applicant and what a successful admit profile looks like. Contact Catherina Kipper at kipper@augsburg.edu if you have any questions.
URL:https://calendar.augsburg.edu/event/des-moines-university-info-session/
LOCATION:Hagfors 106
CATEGORIES:General Campus Events
ORGANIZER;CN="URGO":MAILTO:urgo@augsburg.edu
END:VEVENT
BEGIN:VEVENT
DTSTART;TZID=America/Chicago:20200326T173000
DTEND;TZID=America/Chicago:20200326T183000
DTSTAMP:20260425T093534
CREATED:20200309T200823Z
LAST-MODIFIED:20200309T200823Z
UID:10009535-1585243800-1585247400@calendar.augsburg.edu
SUMMARY:Fulbright Info Session
DESCRIPTION:The Fulbright US Student Program offers college graduates the opportunity to participate in diplomacy in over 140 countries. Your experience could include teaching English and American Studies\, working on a Master’s degree\, or performing research in any field. You may apply in the summer before/fall of your senior year or after you graduate. URGO offers advising\, application support\, and interviews for endorsement by Augsburg University for both current students and alumni. Prepare your application for the priority deadline of July 1st\, other deadlines begin in September. \nIf you are interested in this opportunity\, please contact URGO@augsburg.edu for more information or attend our upcoming information session. All current students and recent alumni are welcome\, even if you won’t be eligible to apply for the coming application cycle. \n  \nFulbright Information Session \nMarch 26th\, 5:30-6:30pm \nOGC 100 \nFood will be provided.
URL:https://calendar.augsburg.edu/event/fulbright-info-session/
LOCATION:OGC 100\, 610 22nd Ave. S.\, Minneapolis\, MN\, 55454\, United States
CATEGORIES:General Campus Events
ORGANIZER;CN="URGO":MAILTO:urgo@augsburg.edu
GEO:44.96664;-93.24003
X-APPLE-STRUCTURED-LOCATION;VALUE=URI;X-ADDRESS=OGC 100 610 22nd Ave. S. Minneapolis MN 55454 United States;X-APPLE-RADIUS=500;X-TITLE=610 22nd Ave. S.:geo:-93.24003,44.96664
END:VEVENT
BEGIN:VEVENT
DTSTART;TZID=America/Chicago:20200325T180000
DTEND;TZID=America/Chicago:20200325T200000
DTSTAMP:20260425T093534
CREATED:20200306T204627Z
LAST-MODIFIED:20200306T204627Z
UID:10009521-1585159200-1585166400@calendar.augsburg.edu
SUMMARY:DPM Suture Lab Workshop
DESCRIPTION:Wednesday\, March 25\n6 pm\nHagfors 150A \nLearn about the field of podiatric medicine from five physicians as they host a “dry” suture workshop where no bio-hazard refuse is created. Space is limited so email Catherina Kipper at kipper@augsburg.edu to sign up. \nWhy consider a career in podiatric medicine?\n• A Doctor of Podiatric Medicine (DPM) is a specialist in the prevention\, diagnosis\, and treatment of lower extremity disorders\, diseases and injuries.\n• DPMs can specialize in a variety of areas such as surgery\, orthopedics\, or public health. Besides these certified specialties\, podiatrists may practice a subspecialty such as sports medicine\, pediatrics\, dermatology\, radiology\, geriatrics\, or diabetic foot care.\n• The DPM is a vital member of the health-care team. He or she is often the first to detect symptoms of diabetes or peripheral vascular disease because of the human foot’s interrelation with the rest of the body.
URL:https://calendar.augsburg.edu/event/dpm-suture-lab-workshop/
LOCATION:Augsburg University Hagfors 150A\, 700 21st Ave. S.\, Minneapolis\, MN\, 55454-1350\, United States
CATEGORIES:General Campus Events
ORGANIZER;CN="URGO":MAILTO:urgo@augsburg.edu
END:VEVENT
BEGIN:VEVENT
DTSTART;TZID=America/Chicago:20200312T120000
DTEND;TZID=America/Chicago:20200312T130000
DTSTAMP:20260425T093534
CREATED:20200306T204356Z
LAST-MODIFIED:20200306T204356Z
UID:10009520-1584014400-1584018000@calendar.augsburg.edu
SUMMARY:Getting Ready to Write: Centralized Application for the Health Professions
DESCRIPTION:Interested in submitting a centralized application to one of the health professions this cycle? Join us to get your ideas organized and start the writing process for personal statements and experiences. Food will be provided. \nThursday\, March 12th \nNoon \nLindell Library 301 \nPlease contact Catherina Kipper at kipper@augsburg.edu with questions or to RSVP.
URL:https://calendar.augsburg.edu/event/getting-ready-to-write-centralized-application-for-the-health-professions/
LOCATION:Lindell 301\, 630 22nd Ave. S.\, Minneapolis\, MN\, 55454-1350\, United States
CATEGORIES:General Campus Events
ORGANIZER;CN="URGO":MAILTO:urgo@augsburg.edu
END:VEVENT
BEGIN:VEVENT
DTSTART;TZID=America/Chicago:20200204T190000
DTEND;TZID=America/Chicago:20200204T200000
DTSTAMP:20260425T093534
CREATED:20200203T144516Z
LAST-MODIFIED:20200203T144516Z
UID:10009351-1580842800-1580846400@calendar.augsburg.edu
SUMMARY:Dental School Panel
DESCRIPTION:Join URGO on February 4th at 7 pm in Hagfors 150B to hear from Augsburg alumni about dentistry\, prerequisites\, experiences\, and preparing a competitive AADSAS application. Food will be provided! \nContact Catherina Kipper at kipper@augsburg.edu with questions or to RSVP
URL:https://calendar.augsburg.edu/event/dental-school-panel/
LOCATION:Hagfors 150 B
CATEGORIES:General Campus Events
ORGANIZER;CN="URGO":MAILTO:urgo@augsburg.edu
END:VEVENT
BEGIN:VEVENT
DTSTART;TZID=America/Chicago:20191205T170000
DTEND;TZID=America/Chicago:20191205T180000
DTSTAMP:20260425T093534
CREATED:20191105T230914Z
LAST-MODIFIED:20191105T230914Z
UID:10008700-1575565200-1575568800@calendar.augsburg.edu
SUMMARY:URGO Summer Research Information Session
DESCRIPTION:November 19\, 5pm in Hagfors 250 \nDecember 5\, 5pm in Oren Gateway 100 \nHear from past researchers and get the scoop on writing a strong application! \nThe URGO Summer Research Program is an 11-week\, on-campus program where undergraduate students are funded to conduct research or creative activities under the guidance of a faculty mentor. \nApplications for URGO Summer Research will be available on the URGO website by November 19. \nIf you have any questions regarding the program or cannot make it to an info session and would like to learn more\, please contact urgo@augsburg.edu to set up an appointment.
URL:https://calendar.augsburg.edu/event/urgo-summer-research-information-session/2019-12-05/
LOCATION:Hagfors 250
CATEGORIES:General Campus Events
ATTACH;FMTTYPE=image/png:https://calendar.augsburg.edu/wp-content/uploads/2019/11/Summer-Research-Info-Session-Poster-11x17.png
ORGANIZER;CN="URGO":MAILTO:urgo@augsburg.edu
END:VEVENT
BEGIN:VEVENT
DTSTART;TZID=America/Chicago:20191119T170000
DTEND;TZID=America/Chicago:20191119T180000
DTSTAMP:20260425T093534
CREATED:20191105T230914Z
LAST-MODIFIED:20191105T230914Z
UID:10008699-1574182800-1574186400@calendar.augsburg.edu
SUMMARY:URGO Summer Research Information Session
DESCRIPTION:November 19\, 5pm in Hagfors 250 \nDecember 5\, 5pm in Oren Gateway 100 \nHear from past researchers and get the scoop on writing a strong application! \nThe URGO Summer Research Program is an 11-week\, on-campus program where undergraduate students are funded to conduct research or creative activities under the guidance of a faculty mentor. \nApplications for URGO Summer Research will be available on the URGO website by November 19. \nIf you have any questions regarding the program or cannot make it to an info session and would like to learn more\, please contact urgo@augsburg.edu to set up an appointment.
URL:https://calendar.augsburg.edu/event/urgo-summer-research-information-session/2019-11-19/
LOCATION:Hagfors 250
CATEGORIES:General Campus Events
ATTACH;FMTTYPE=image/png:https://calendar.augsburg.edu/wp-content/uploads/2019/11/Summer-Research-Info-Session-Poster-11x17.png
ORGANIZER;CN="URGO":MAILTO:urgo@augsburg.edu
END:VEVENT
END:VCALENDAR