BEGIN:VCALENDAR
VERSION:2.0
PRODID:-//University Calendar - ECPv6.15.16//NONSGML v1.0//EN
CALSCALE:GREGORIAN
METHOD:PUBLISH
X-WR-CALNAME:University Calendar
X-ORIGINAL-URL:https://calendar.augsburg.edu
X-WR-CALDESC:Events for University Calendar
REFRESH-INTERVAL;VALUE=DURATION:PT1H
X-Robots-Tag:noindex
X-PUBLISHED-TTL:PT1H
BEGIN:VTIMEZONE
TZID:America/Chicago
BEGIN:DAYLIGHT
TZOFFSETFROM:-0600
TZOFFSETTO:-0500
TZNAME:CDT
DTSTART:20250309T080000
END:DAYLIGHT
BEGIN:STANDARD
TZOFFSETFROM:-0500
TZOFFSETTO:-0600
TZNAME:CST
DTSTART:20251102T070000
END:STANDARD
BEGIN:DAYLIGHT
TZOFFSETFROM:-0600
TZOFFSETTO:-0500
TZNAME:CDT
DTSTART:20260308T080000
END:DAYLIGHT
BEGIN:STANDARD
TZOFFSETFROM:-0500
TZOFFSETTO:-0600
TZNAME:CST
DTSTART:20261101T070000
END:STANDARD
BEGIN:DAYLIGHT
TZOFFSETFROM:-0600
TZOFFSETTO:-0500
TZNAME:CDT
DTSTART:20270314T080000
END:DAYLIGHT
BEGIN:STANDARD
TZOFFSETFROM:-0500
TZOFFSETTO:-0600
TZNAME:CST
DTSTART:20271107T070000
END:STANDARD
END:VTIMEZONE
BEGIN:VEVENT
DTSTART;TZID=America/Chicago:20260310T235000
DTEND;TZID=America/Chicago:20260311T001000
DTSTAMP:20260419T074240
CREATED:20260307T152425Z
LAST-MODIFIED:20260309T152426Z
UID:10023775-1773186600-1773187800@calendar.augsburg.edu
SUMMARY:Chapel
DESCRIPTION:If you need any disability-related accommodation to fully participate in this event\, please contact University Events at events@augsburg.edu. Please allow for sufficient time to arrange the accommodation.
URL:https://calendar.augsburg.edu/event/chapel-426/
LOCATION:Campus Ministry Event Calendar
CATEGORIES:Campus Ministry
ORGANIZER;CN="Jack Fortin":MAILTO:fortin@augsburg.edu
END:VEVENT
BEGIN:VEVENT
DTSTART;TZID=America/Chicago:20260309T120000
DTEND;TZID=America/Chicago:20260309T122000
DTSTAMP:20260419T074240
CREATED:20260307T152424Z
LAST-MODIFIED:20260309T152425Z
UID:10023774-1773057600-1773058800@calendar.augsburg.edu
SUMMARY:Chapel
DESCRIPTION:If you need any disability-related accommodation to fully participate in this event\, please contact University Events at events@augsburg.edu. Please allow for sufficient time to arrange the accommodation.
URL:https://calendar.augsburg.edu/event/chapel-425/
CATEGORIES:Campus Ministry
ORGANIZER;CN="Jack Fortin":MAILTO:fortin@augsburg.edu
END:VEVENT
END:VCALENDAR